{"text_format":"1","workbook":"xlsx","n_sheets":14,"sheets":["使用方法（必読）","名簿男子","様式１男子","様式２男子","東山・名和ｼｽﾃﾑ用選手ﾃﾞｰﾀ男子","名簿女子","様式１女子","様式２女子","東山・名和ｼｽﾃﾑ用選手ﾃﾞｰﾀ女子","様式２リレー","様式３男子","様式３女子","布勢システムコピー用男子","布勢システムコピー用女子"],"not_rendered":{"charts":0,"images":0,"macros":1,"external_links":0,"defined_names":12,"comments":9,"pivot_tables":0},"unopened":[],"bounds":{"document_bytes":16777216,"sheet_cells":100000,"rows_first":2000,"rows_last":500,"rows_between":2000,"halvings":0,"cell_chars":16384,"cell_head_chars":4096},"cells_cut":0,"cells_raw":0,"read":"whole","date_system":"1900"}

{"sheet":"使用方法（必読）","index":0,"n_rows":85,"n_cols":7,"rows_kept":85,"cut":false,"hidden":false,"merged":[[84,4,84,7],[11,1,11,7],[21,1,21,7],[22,1,22,7],[23,1,23,7],[19,1,19,7],[20,1,20,7],[72,0,72,7],[73,0,73,7],[74,0,74,7],[66,0,66,7],[67,0,67,7],[68,0,68,7],[70,0,70,2],[70,3,70,5],[71,0,71,7],[0,0,0,7],[4,1,4,7],[16,1,16,7],[17,1,17,7],[18,1,18,7],[15,0,15,7],[9,1,9,7],[1,6,1,7],[7,1,7,7],[10,1,10,7],[8,1,8,7],[13,0,13,7],[5,1,5,7],[6,1,6,7],[34,1,34,3],[37,5,37,7],[64,0,64,2],[64,3,64,5],[65,0,65,7],[37,0,37,4],[30,0,31,0],[30,1,31,1],[30,2,31,3],[30,4,31,4],[30,5,31,6],[32,0,33,0],[32,1,33,1],[32,2,33,3],[32,4,33,4],[32,5,33,6],[26,0,26,6],[28,0,29,0],[28,2,28,3],[28,5,29,6],[29,2,29,3]]}
["大会申込データ作成システム Ver1.14 使用方法"]
[null,null,null,null,null,null,"2024/04/22改訂"]
[]
[]
["※","マクロを使用していますので、マクロを有効にする必要があります。"]
["※","選手の競技種目ごとにベスト記録を記録しておけます。"]
["※","鳥取陸協の様式１～３まで、または布勢のNANSシステム用データ作成ができます。"]
["※","大会ごとに専用の申し込みファイルがある場合、ｺﾋﾟｰ&ﾍﾟｰｽﾄ等の元としてお使いください。"]
["※","氏名の表記で、姓名の間のスペースは半角の場合と全角の場合があります。必ず確認を！"]
["※","印刷はすべてＡ４用紙で行うようにしています。プリンタの関係で印刷がずれる場合、"]
[null,"「表示」→「改ページプレビュー」で調整してください。"]
["※","様式３、布勢システム用はオマケです・・・完全ではありません。"]
[]
["☆申込期日をよく確認して、遅れないように申し込みましょう！☆"]
[]
["申し込み書類・データ等作成手順"]
["手順１","名簿男子・名簿女子に必要事項を入力する。１行目の例の通りに書いてください。\n同一選手が複数種目の記録を持っている場合、種目ごとに１行使用してください。"]
["手順２","様式１の作成。上部の大会名・学校名等は、男子シートに入力すると自動で女子シートに反映される。\n出場種目番号欄に、エントリーする選手と種目の番号を入力していく。同一選手は同一行に入力する。"]
["手順３","様式１シートの様式２作成ボタンを押すと、個票が自動で作成される。(64枚分まで)"]
["手順４","様式１・様式２をそれぞれ印刷し、点検・押印・切り分け等を行う。"]
["手順５","東山ｼｽﾃﾑ用ﾃﾞｰﾀは様式１の通りに自動で作成されるようになっているので、『選手データ提出』ファイルに値のみｺﾋﾟｰ&ﾍﾟｰｽﾄする。"]
["手順６","様式１・２のデータ提出が必要であれば、このファイルの様式１・様式２をシートごと申し込みファイルにコピー＆ペーストする。この段階では関数が含まれているので、「シート内のセルを全選択してコピー」→「値のみ貼り付け」し、テキストデータのみにする。"]
["手順７","鳥取陸協主催の大会の場合は、出場料をゆうちょ銀行口座に振り込む。"]
["手順８","紙媒体の郵送・データ送信等を行い、申し込み完了！"]
[]
[]
["☆提出書類・データ・出場料支払いについて(特別の指示あるもの以外)"]
[]
["全ての大会\n書類・データ","出場選手データ","データで提出",null,null,"大会責任者へ"]
[null,"様式1・様式2","紙媒体で提出(郵送等)"]
["西部選手権等\n西部・郡市陸協主催大会","出場料\n当日現金支払い","当日受付時支払い",null,null,"大会責任者へ"]
[]
["県陸協主催時","出場料\nゆうちょ銀行振込","鳥取陸協ゆうちょ銀行\n口座へ振込む。",null,null,"鳥取陸協\nゆうちょ銀行口座へ"]
[]
[null,"鳥取陸協ゆうちょ銀行口座番号",null,null,"01320-1-106485　","※振込料送信者負担"]
[]
[]
["☆東山・名和システム用出場選手データについて",null,null,null,null,"※データ提出は必須"]
[]
["●　電算処理を行うため、以下の例のように記述すること。"]
["●　外字の使用はできません。学校関係からエントリーされる場合は特にご注意ください。"]
[]
["ナンバー\n（半角数字）","競技者名(外字不可)\n(姓と名の間に半角ｽﾍﾟｰｽ)","氏名ﾌﾘｶﾞﾅ\n(半角ｶﾅ)\n姓名間半角ｽﾍﾟｰｽ","学年\n(半角)","学校名・所属名\n(○○小･○○中･○○高)\n(ｱﾙﾌｧﾍﾞｯﾄ・ｶﾀｶﾅは半角)","学校名・所属名\nﾌﾘｶﾞﾅ(半角ｶﾅ)","都道\n府県"]
[123,"竹下 悠也","ﾀｹｼﾀ ﾕｳﾔ",3,"岸本中","ｷｼﾓﾄﾁｭｳ","鳥取"]
[145,"伯耆 太郎","ﾎｳｷ ﾀﾛｳ",3,"伯耆ｸﾗﾌﾞ","ﾎｳｷｸﾗﾌﾞ","鳥取"]
[]
[]
[]
[]
[]
[]
[]
[]
[]
[]
[]
[]
[]
[]
[]
[]
[]
[]
[]
["☆様式１(一覧表)について",null,null,"※紙媒体提出必須(郵送等)"]
["●　用紙サイズはA4とする。"]
["●　所属の異なる選手は、同一の用紙に記入しない"]
["●　男女は別紙に分けること。"]
["●　女子は朱書きで印刷すること"]
[]
["☆様式２(個票)について",null,null,"※紙媒体提出必須(郵送等)"]
["●　個票1枚のサイズはA4用紙を8等分したもの(A7)にすること。"]
["●　初出場の場合でも、予想で構わないので参考記録を記入すること (プログラム編成上必要となる)"]
["●　きちんと切断して提出すること。"]
["●　女子は朱書きで印刷するか、赤いマーカー等で囲うか文字にラインを引く。"]
[]
[]
[]
[]
[]
[]
[]
[]
[]
[null,null,null,null,"ファイル作成　日野町立日野学園　竹下　悠也"]

{"sheet":"名簿男子","index":1,"n_rows":101,"n_cols":13,"rows_kept":101,"cut":false,"hidden":false,"merged":[]}
["入力\n番号","ナンバー","名　前\n氏名間半角ｽﾍﾟｰｽ","ふりがな\n氏名間半角ｽﾍﾟｰｽ","ﾌﾘｶﾞﾅ\n氏名間半角ｽﾍﾟｰｽ","学年\n半角","生年月日\n2020/07/24","性別","種目","記録","大会名",null,"種目リスト"]
[1,null,null,null,null,null,null,"男",null,null,null,null,"小1年50m"]
[2,null,null,null,null,null,null,"男",null,null,null,null,"小2年50m"]
[3,null,null,null,null,null,null,"男",null,null,null,null,"小3年100m"]
[4,null,null,null,null,null,null,"男",null,null,null,null,"小4年100m"]
[5,null,null,null,null,null,null,"男",null,null,null,null,"小5年100m"]
[6,null,null,null,null,null,null,"男",null,null,null,null,"小6年100m"]
[7,null,null,null,null,null,null,"男",null,null,null,null,"1年100m"]
[8,null,null,null,null,null,null,"男",null,null,null,null,"2年100m"]
[9,null,null,null,null,null,null,"男",null,null,null,null,"3年100m"]
[10,null,null,null,null,null,null,"男",null,null,null,null,"2･3年100m"]
[11,null,null,null,null,null,null,"男",null,null,null,null,"200m"]
[12,null,null,null,null,null,null,"男",null,null,null,null,"400m"]
[13,null,null,null,null,null,null,"男",null,null,null,null,"800m"]
[14,null,null,null,null,null,null,"男",null,null,null,null,"1500m"]
[15,null,null,null,null,null,null,"男",null,null,null,null,"1年1500m"]
[16,null,null,null,null,null,null,"男",null,null,null,null,"2年1500m"]
[17,null,null,null,null,null,null,"男",null,null,null,null,"3年1500m"]
[18,null,null,null,null,null,null,"男",null,null,null,null,"2･3年1500m"]
[19,null,null,null,null,null,null,"男",null,null,null,null,"3000m"]
[20,null,null,null,null,null,null,"男",null,null,null,null,"100mH"]
[21,null,null,null,null,null,null,"男",null,null,null,null,"110mH"]
[22,null,null,null,null,null,null,"男",null,null,null,null,"走高跳"]
[23,null,null,null,null,null,null,"男",null,null,null,null,"棒高跳"]
[24,null,null,null,null,null,null,"男",null,null,null,null,"走幅跳"]
[25,null,null,null,null,null,null,"男",null,null,null,null,"砲丸投"]
[26,null,null,null,null,null,null,"男",null,null,null,null,"円盤投"]
[27,null,null,null,null,null,null,"男",null,null,null,null,"ｼﾞｬﾍﾞﾘｯｸｽﾛｰ"]
[28,null,null,null,null,null,null,"男"]
[29,null,null,null,null,null,null,"男"]
[30,null,null,null,null,null,null,"男"]
[31,null,null,null,null,null,null,"男"]
[32,null,null,null,null,null,null,"男"]
[33,null,null,null,null,null,null,"男"]
[34,null,null,null,null,null,null,"男"]
[35,null,null,null,null,null,null,"男"]
[36,null,null,null,null,null,null,"男"]
[37,null,null,null,null,null,null,"男"]
[38,null,null,null,null,null,null,"男"]
[39,null,null,null,null,null,null,"男"]
[40,null,null,null,null,null,null,"男"]
[41,null,null,null,null,null,null,"男"]
[42,null,null,null,null,null,null,"男"]
[43,null,null,null,null,null,null,"男"]
[44,null,null,null,null,null,null,"男"]
[45,null,null,null,null,null,null,"男"]
[46,null,null,null,null,null,null,"男"]
[47,null,null,null,null,null,null,"男"]
[48,null,null,null,null,null,null,"男"]
[49,null,null,null,null,null,null,"男"]
[50,null,null,null,null,null,null,"男"]
[51,null,null,null,null,null,null,"男"]
[52,null,null,null,null,null,null,"男"]
[53,null,null,null,null,null,null,"男"]
[54,null,null,null,null,null,null,"男"]
[55,null,null,null,null,null,null,"男"]
[56,null,null,null,null,null,null,"男"]
[57,null,null,null,null,null,null,"男"]
[58,null,null,null,null,null,null,"男"]
[59,null,null,null,null,null,null,"男"]
[60,null,null,null,null,null,null,"男"]
[61,null,null,null,null,null,null,"男"]
[62,null,null,null,null,null,null,"男"]
[63,null,null,null,null,null,null,"男"]
[64,null,null,null,null,null,null,"男"]
[65,null,null,null,null,null,null,"男"]
[66,null,null,null,null,null,null,"男"]
[67,null,null,null,null,null,null,"男"]
[68,null,null,null,null,null,null,"男"]
[69,null,null,null,null,null,null,"男"]
[70,null,null,null,null,null,null,"男"]
[71,null,null,null,null,null,null,"男"]
[72,null,null,null,null,null,null,"男"]
[73,null,null,null,null,null,null,"男"]
[74,null,null,null,null,null,null,"男"]
[75,null,null,null,null,null,null,"男"]
[76,null,null,null,null,null,null,"男"]
[77,null,null,null,null,null,null,"男"]
[78,null,null,null,null,null,null,"男"]
[79,null,null,null,null,null,null,"男"]
[80,null,null,null,null,null,null,"男"]
[81,null,null,null,null,null,null,"男"]
[82,null,null,null,null,null,null,"男"]
[83,null,null,null,null,null,null,"男"]
[84,null,null,null,null,null,null,"男"]
[85,null,null,null,null,null,null,"男"]
[86,null,null,null,null,null,null,"男"]
[87,null,null,null,null,null,null,"男"]
[88,null,null,null,null,null,null,"男"]
[89,null,null,null,null,null,null,"男"]
[90,null,null,null,{"$f":"ASC(PHONETIC(D91))","v":""},null,null,"男"]
[91,null,null,null,"",null,null,"男"]
[92,null,null,null,"",null,null,"男"]
[93,null,null,null,"",null,null,"男"]
[94,null,null,null,"",null,null,"男"]
[95,null,null,null,"",null,null,"男"]
[96,null,null,null,"",null,null,"男"]
[97,null,null,null,"",null,null,"男"]
[98,null,null,null,"",null,null,"男"]
[99,null,null,null,"",null,null,"男"]
[100,null,null,null,"",null,null,"男"]

{"sheet":"様式１男子","index":2,"n_rows":58,"n_cols":28,"rows_kept":58,"cut":false,"hidden":false,"merged":[[8,9,9,9],[8,12,9,12],[8,0,9,0],[8,2,9,2],[8,3,9,3],[8,4,9,4],[8,5,9,5],[2,0,2,2],[2,3,2,9],[3,0,5,2],[3,3,4,3],[3,4,4,7],[3,8,3,9],[4,8,4,9],[5,4,5,6],[5,8,5,9],[6,0,7,0],[6,3,7,3],[6,4,7,4],[6,5,7,7],[6,11,7,11],[6,12,7,14],[2,11,4,15],[8,18,9,18],[8,19,9,19],[8,20,9,20],[8,21,9,21],[10,0,11,0],[10,2,11,2],[10,3,11,3],[10,4,11,4],[10,5,11,5],[10,6,11,6],[10,7,11,7],[10,8,11,8],[10,9,11,9],[10,11,11,11],[10,12,11,12],[10,13,11,13],[8,13,9,13],[8,14,9,14],[8,11,9,11],[8,16,9,16],[8,17,9,17],[8,6,9,6],[8,7,9,7],[8,8,9,8],[12,19,13,19],[12,20,13,20],[12,21,13,21],[10,20,11,20],[10,21,11,21],[12,0,13,0],[12,2,13,2],[12,3,13,3],[12,4,13,4],[12,5,13,5],[12,6,13,6],[12,7,13,7],[12,8,13,8],[12,9,13,9],[12,11,13,11],[12,12,13,12],[12,13,13,13],[12,14,13,14],[12,16,13,16],[10,14,11,14],[10,16,11,16],[10,17,11,17],[10,18,11,18],[10,19,11,19],[14,11,15,11],[14,0,15,0],[14,2,15,2],[14,3,15,3],[14,4,15,4],[14,5,15,5],[12,17,13,17],[12,18,13,18],[14,18,15,18],[14,19,15,19],[14,20,15,20],[14,21,15,21],[16,0,17,0],[16,2,17,2],[16,3,17,3],[16,4,17,4],[16,5,17,5],[16,6,17,6],[16,7,17,7],[16,8,17,8],[16,9,17,9],[16,11,17,11],[16,12,17,12],[16,13,17,13],[14,12,15,12],[14,13,15,13],[14,14,15,14],[14,16,15,16],[14,17,15,17],[14,6,15,6],[14,7,15,7],[14,8,15,8],[14,9,15,9],[18,19,19,19],[18,20,19,20],[18,21,19,21],[16,20,17,20],[16,21,17,21],[18,0,19,0],[18,2,19,2],[18,3,19,3],[18,4,19,4],[18,5,19,5],[18,6,19,6],[18,7,19,7],[18,8,19,8],[18,9,19,9],[18,11,19,11],[18,12,19,12],[18,14,19,14],[18,16,19,16],[16,14,17,14],[16,16,17,16],[16,17,17,17],[16,18,17,18],[16,19,17,19],[20,11,21,11],[20,0,21,0],[20,2,21,2],[20,3,21,3],[20,4,21,4],[20,5,21,5],[18,17,19,17],[18,18,19,18],[20,18,21,18],[18,13,19,13],[20,19,21,19],[20,20,21,20],[20,21,21,21],[22,0,23,0],[22,2,23,2],[22,3,23,3],[22,4,23,4],[22,5,23,5],[22,6,23,6],[22,7,23,7],[22,8,23,8],[22,9,23,9],[22,11,23,11],[22,12,23,12],[22,13,23,13],[20,12,21,12],[20,13,21,13],[20,14,21,14],[20,16,21,16],[20,17,21,17],[20,6,21,6],[20,7,21,7],[20,8,21,8],[20,9,21,9],[24,20,25,20],[24,21,25,21],[22,20,23,20],[22,21,23,21],[24,0,25,0],[24,2,25,2],[24,3,25,3],[24,4,25,4],[24,5,25,5],[24,6,25,6],[24,7,25,7],[24,8,25,8],[24,9,25,9],[24,11,25,11],[24,12,25,12],[24,13,25,13],[24,14,25,14],[24,16,25,16],[22,14,23,14],[22,16,23,16],[22,17,23,17],[22,18,23,18],[22,19,23,19],[26,0,27,0],[26,2,27,2],[26,3,27,3],[26,4,27,4],[26,5,27,5],[24,17,25,17],[24,18,25,18],[26,18,27,18],[24,19,25,19],[26,19,27,19],[26,21,27,21],[28,21,29,21],[30,19,31,19],[28,0,29,0],[28,2,29,2],[28,3,29,3],[28,4,29,4],[28,5,29,5],[28,6,29,6],[28,7,29,7],[28,8,29,8],[28,9,29,9],[28,11,29,11],[28,12,29,12],[28,13,29,13],[26,12,27,12],[26,13,27,13],[26,14,27,14],[26,16,27,16],[26,17,27,17],[26,6,27,6],[26,7,27,7],[26,8,27,8],[26,9,27,9],[30,7,31,7],[30,8,31,8],[30,9,31,9],[26,20,27,20],[28,19,29,19],[28,14,29,14],[28,16,29,16],[28,17,29,17],[28,18,29,18],[30,20,31,20],[26,11,27,11],[34,17,35,17],[32,0,33,0],[32,2,33,2],[32,3,33,3],[32,4,33,4],[32,5,33,5],[30,17,31,17],[30,18,31,18],[30,0,31,0],[30,2,31,2],[30,3,31,3],[30,4,31,4],[30,5,31,5],[34,18,35,18],[32,6,33,6],[32,7,33,7],[32,8,33,8],[32,9,33,9],[30,11,31,11],[30,12,31,12],[30,13,31,13],[30,14,31,14],[30,16,31,16],[30,6,31,6],[34,19,35,19],[32,18,33,18],[32,19,33,19],[32,20,33,20],[34,0,35,0],[34,2,35,2],[34,3,35,3],[34,4,35,4],[34,5,35,5],[34,6,35,6],[34,7,35,7],[34,8,35,8],[34,9,35,9],[34,11,35,11],[34,12,35,12],[34,13,35,13],[32,12,33,12],[32,13,33,13],[32,14,33,14],[32,16,33,16],[32,17,33,17],[32,11,33,11],[34,14,35,14],[34,16,35,16],[32,21,33,21],[38,0,39,0],[38,2,39,2],[38,3,39,3],[38,4,39,4],[38,5,39,5],[36,17,37,17],[36,18,37,18],[36,19,37,19],[36,20,37,20],[36,0,37,0],[36,2,37,2],[36,3,37,3],[36,4,37,4],[36,5,37,5],[36,6,37,6],[36,7,37,7],[36,8,37,8],[36,9,37,9],[36,11,37,11],[36,12,37,12],[36,13,37,13],[36,14,37,14],[36,16,37,16],[40,11,41,11],[40,12,41,12],[40,13,41,13],[38,12,39,12],[38,13,39,13],[38,14,39,14],[38,16,39,16],[38,17,39,17],[38,6,39,6],[38,7,39,7],[38,8,39,8],[38,9,39,9],[38,11,39,11],[40,14,41,14],[40,16,41,16],[40,17,41,17],[40,0,41,0],[40,2,41,2],[40,3,41,3],[40,4,41,4],[40,5,41,5],[40,6,41,6],[40,7,41,7],[40,8,41,8],[40,9,41,9],[40,18,41,18],[40,19,41,19],[38,18,39,18],[38,19,39,19],[38,20,39,20],[38,21,39,21],[44,0,45,0],[44,2,45,2],[44,3,45,3],[44,4,45,4],[44,5,45,5],[42,17,43,17],[42,18,43,18],[42,19,43,19],[42,20,43,20],[42,0,43,0],[42,2,43,2],[42,3,43,3],[42,4,43,4],[42,5,43,5],[42,6,43,6],[42,7,43,7],[42,8,43,8],[42,9,43,9],[42,11,43,11],[42,12,43,12],[42,13,43,13],[42,14,43,14],[42,16,43,16],[46,11,47,11],[46,12,47,12],[46,13,47,13],[44,12,45,12],[44,13,45,13],[44,14,45,14],[44,16,45,16],[44,17,45,17],[44,6,45,6],[44,7,45,7],[44,8,45,8],[44,9,45,9],[44,11,45,11],[46,0,47,0],[46,2,47,2],[46,3,47,3],[46,4,47,4],[46,5,47,5],[46,6,47,6],[46,7,47,7],[46,8,47,8],[46,9,47,9],[46,14,47,14],[46,16,47,16],[46,17,47,17],[46,18,47,18],[46,19,47,19],[44,18,45,18],[44,19,45,19],[44,20,45,20],[44,21,45,21],[50,0,51,0],[50,2,51,2],[50,3,51,3],[50,4,51,4],[50,5,51,5],[48,17,49,17],[48,18,49,18],[48,19,49,19],[48,20,49,20],[48,0,49,0],[48,2,49,2],[48,3,49,3],[48,4,49,4],[48,5,49,5],[48,6,49,6],[48,7,49,7],[48,8,49,8],[48,9,49,9],[52,14,53,14],[52,16,53,16],[52,17,53,17],[48,11,49,11],[48,12,49,12],[48,13,49,13],[48,14,49,14],[48,16,49,16],[52,11,53,11],[52,12,53,12],[52,13,53,13],[50,12,51,12],[50,13,51,13],[50,14,51,14],[50,16,51,16],[50,8,51,8],[50,9,51,9],[50,11,51,11],[52,0,53,0],[52,2,53,2],[52,3,53,3],[52,4,53,4],[52,5,53,5],[52,6,53,6],[52,7,53,7],[52,8,53,8],[52,9,53,9],[56,0,57,0],[56,2,57,2],[56,3,57,3],[56,4,57,4],[56,5,57,5],[54,17,55,17],[54,18,55,18],[54,19,55,19],[54,20,55,20],[54,0,55,0],[54,2,55,2],[54,3,55,3],[54,4,55,4],[54,5,55,5],[54,6,55,6],[54,7,55,7],[54,8,55,8],[54,9,55,9],[6,21,7,21],[6,17,7,17],[6,18,7,18],[6,19,7,19],[6,20,7,20],[6,16,7,16],[56,18,57,18],[56,19,57,19],[56,20,57,20],[56,21,57,21],[54,21,55,21],[52,20,53,20],[52,21,53,21],[48,21,49,21],[46,20,47,20],[46,21,47,21],[42,21,43,21],[40,20,41,20],[54,16,55,16],[56,16,57,16],[52,18,53,18],[52,19,53,19],[50,18,51,18],[50,19,51,19],[40,21,41,21],[36,21,37,21],[34,20,35,20],[34,21,35,21],[30,21,31,21],[28,20,29,20],[56,17,57,17],[56,6,57,6],[56,7,57,7],[56,8,57,8],[56,9,57,9],[56,11,57,11],[54,11,55,11],[54,12,55,12],[54,13,55,13],[54,14,55,14],[56,12,57,12],[56,13,57,13],[56,14,57,14],[50,20,51,20],[50,21,51,21],[50,17,51,17],[50,6,51,6],[50,7,51,7],[6,22,7,22],[6,23,7,23],[6,24,7,24],[6,25,7,25],[8,22,9,22],[8,23,9,23],[8,24,9,24],[8,25,9,25],[10,22,11,22],[10,23,11,23],[10,24,11,24],[10,25,11,25],[12,22,13,22],[12,23,13,23],[12,24,13,24],[12,25,13,25],[14,22,15,22],[14,23,15,23],[14,24,15,24],[14,25,15,25],[16,22,17,22],[16,23,17,23],[16,24,17,24],[16,25,17,25],[18,22,19,22],[18,23,19,23],[18,24,19,24],[18,25,19,25],[20,22,21,22],[20,23,21,23],[20,24,21,24],[20,25,21,25],[22,22,23,22],[22,23,23,23],[22,24,23,24],[22,25,23,25],[24,22,25,22],[24,23,25,23],[24,24,25,24],[24,25,25,25],[26,22,27,22],[26,23,27,23],[26,24,27,24],[26,25,27,25],[28,22,29,22],[28,23,29,23],[28,24,29,24],[28,25,29,25],[30,22,31,22],[30,23,31,23],[30,24,31,24],[30,25,31,25],[32,22,33,22],[32,23,33,23],[32,24,33,24],[32,25,33,25],[34,22,35,22],[34,23,35,23],[34,24,35,24],[34,25,35,25],[36,22,37,22],[36,23,37,23],[36,24,37,24],[36,25,37,25],[38,22,39,22],[38,23,39,23],[38,24,39,24],[38,25,39,25],[40,22,41,22],[40,23,41,23],[40,24,41,24],[40,25,41,25],[52,24,53,24],[52,25,53,25],[42,22,43,22],[42,23,43,23],[42,24,43,24],[42,25,43,25],[44,22,45,22],[44,23,45,23],[44,24,45,24],[44,25,45,25],[46,22,47,22],[46,23,47,23],[46,24,47,24],[46,25,47,25],[54,22,55,22],[54,23,55,23],[54,24,55,24],[54,25,55,25],[56,22,57,22],[56,23,57,23],[56,24,57,24],[56,25,57,25],[6,26,7,26],[16,26,17,26],[26,26,27,26],[36,26,37,26],[46,26,47,26],[56,26,57,26],[48,22,49,22],[48,23,49,23],[48,24,49,24],[48,25,49,25],[50,22,51,22],[50,23,51,23],[50,24,51,24],[50,25,51,25],[52,22,53,22],[52,23,53,23],[6,27,7,27],[8,26,9,26],[8,27,9,27],[10,26,11,26],[10,27,11,27],[12,26,13,26],[12,27,13,27],[14,26,15,26],[14,27,15,27],[16,27,17,27],[18,26,19,26],[18,27,19,27],[20,26,21,26],[20,27,21,27],[22,26,23,26],[22,27,23,27],[24,26,25,26],[24,27,25,27],[26,27,27,27],[28,26,29,26],[28,27,29,27],[30,26,31,26],[30,27,31,27],[32,26,33,26],[32,27,33,27],[34,26,35,26],[34,27,35,27],[36,27,37,27],[38,26,39,26],[38,27,39,27],[40,26,41,26],[40,27,41,27],[42,26,43,26],[42,27,43,27],[44,26,45,26],[44,27,45,27],[56,27,57,27],[46,27,47,27],[48,26,49,26],[48,27,49,27],[50,26,51,26],[50,27,51,27],[52,26,53,26],[52,27,53,27],[54,26,55,26],[54,27,55,27]]}
["様式１"]
["※女子は朱書のこと"]
["（　201西部地区総体　）大会　　　　　　　　　　　　　",null,null,"※（所属の異なる選手は、同一の用紙に記入しないこと）",null,null,null,null,null,null,null,"右の一覧の番号を出場種目番号に入れると、\n自動で様式１が作成される。\n入力後、様式２作成ボタンをクリックする。"]
["出 場 選 手 一 覧 表",null,null,"学校名\n所属名",null,null,null,null,"携帯・自宅等連絡先明記のこと"]
[null,null,null,null,null,null,null,null,"℡0859-99-9999　学校"]
[null,null,null,"責任者名",null,null,null,"印","℡090-9999-9999 携帯",null,null,"個人ｴﾝﾄﾘｰ数",{"$f":"COUNTA($M$9:$O$58)","v":0}]
["ナンバー","（ふ　り　が　な）","学年","生年月日","性別","出　 場　 種　 目（全部書く）",null,null,"４×１００m","４×４００m",null,"名　前","出場種目番号",null,null,null,"番号","名前","種目","番号","名前","種目","番号","名前","種目","番号","名前","種目"]
[null,"選　　　手　　　名","（年齢）",null,null,null,null,null,"リレー","リレー"]
[{"$f":"IF(M9=\"\",\"\",VLOOKUP(M9,名簿男子!$A$2:$I$101,2))","v":""},{"$f":"IF(M9=\"\",\"\",VLOOKUP(M9,名簿男子!$A$2:$I$101,4))","v":""},{"$f":"IF(M9=\"\",\"\",VLOOKUP(M9,名簿男子!$A$2:$I$101,6))","v":""},{"$f":"IF(M9=\"\",\"\",VLOOKUP(M9,名簿男子!$A$2:$I$101,7))","v":""},{"$f":"IF(M9=\"\",\"\",VLOOKUP(M9,名簿男子!$A$2:$I$101,8))","v":""},{"$f":"IF(M9=\"\",\"\",VLOOKUP(M9,名簿男子!$A$2:$I$101,9))","v":""},{"$f":"IF(N9=\"\",\"\",VLOOKUP(N9,名簿男子!$A$2:$I$101,9))","v":""},{"$f":"IF(O9=\"\",\"\",VLOOKUP(O9,名簿男子!$A$2:$I$101,9))","v":""},null,null,null,{"$f":"IF(M9=\"\",\"\",VLOOKUP(M9,名簿男子!$A$2:$I$101,3))","v":""},null,null,null,null,1,{"$f":"IF(Q9=\"\",\"\",VLOOKUP(Q9,名簿男子!$A$2:$I$101,3))","v":0},{"$f":"IF(Q9=\"\",\"\",VLOOKUP(Q9,名簿男子!$A$2:$I$101,9))","v":0},26,{"$f":"IF(T9=\"\",\"\",VLOOKUP(T9,名簿男子!$A$2:$I$101,3))","v":0},{"$f":"IF(T9=\"\",\"\",VLOOKUP(T9,名簿男子!$A$2:$I$101,9))","v":0},51,{"$f":"IF(W9=\"\",\"\",VLOOKUP(W9,名簿男子!$A$2:$I$101,3))","v":0},{"$f":"IF(W9=\"\",\"\",VLOOKUP(W9,名簿男子!$A$2:$I$101,9))","v":0},76,{"$f":"IF(Z9=\"\",\"\",VLOOKUP(Z9,名簿男子!$A$2:$I$101,3))","v":0},{"$f":"IF(Z9=\"\",\"\",VLOOKUP(Z9,名簿男子!$A$2:$I$101,9))","v":0}]
[null,{"$f":"IF(M9=\"\",\"\",VLOOKUP(M9,名簿男子!$A$2:$I$101,3))","v":""},null,null,null,null,null,null,null,null,null,null,null,null,null,null,null,{"$f":"IF(AC10=\"\",\"\",VLOOKUP(AC10,名簿男子!$A$2:$I$41,4))","v":""},{"$f":"IF(AD10=\"\",\"\",VLOOKUP(AD10,名簿男子!$A$2:$I$41,4))","v":""},null,{"$f":"IF(AF10=\"\",\"\",VLOOKUP(AF10,名簿男子!$A$2:$I$41,4))","v":""},{"$f":"IF(AG10=\"\",\"\",VLOOKUP(AG10,名簿男子!$A$2:$I$41,4))","v":""},null,{"$f":"IF(AI10=\"\",\"\",VLOOKUP(AI10,名簿男子!$A$2:$I$41,4))","v":""},{"$f":"IF(AJ10=\"\",\"\",VLOOKUP(AJ10,名簿男子!$A$2:$I$41,4))","v":""},null,{"$f":"IF(AL10=\"\",\"\",VLOOKUP(AL10,名簿男子!$A$2:$I$41,4))","v":""},{"$f":"IF(AM10=\"\",\"\",VLOOKUP(AM10,名簿男子!$A$2:$I$41,4))","v":""}]
[{"$f":"IF(M11=\"\",\"\",VLOOKUP(M11,名簿男子!$A$2:$I$101,2))","v":""},{"$f":"IF(M11=\"\",\"\",VLOOKUP(M11,名簿男子!$A$2:$I$101,4))","v":""},{"$f":"IF(M11=\"\",\"\",VLOOKUP(M11,名簿男子!$A$2:$I$101,6))","v":""},{"$f":"IF(M11=\"\",\"\",VLOOKUP(M11,名簿男子!$A$2:$I$101,7))","v":""},{"$f":"IF(M11=\"\",\"\",VLOOKUP(M11,名簿男子!$A$2:$I$101,8))","v":""},{"$f":"IF(M11=\"\",\"\",VLOOKUP(M11,名簿男子!$A$2:$I$101,9))","v":""},{"$f":"IF(N11=\"\",\"\",VLOOKUP(N11,名簿男子!$A$2:$I$101,9))","v":""},{"$f":"IF(O11=\"\",\"\",VLOOKUP(O11,名簿男子!$A$2:$I$101,9))","v":""},null,null,null,{"$f":"IF(M11=\"\",\"\",VLOOKUP(M11,名簿男子!$A$2:$I$101,3))","v":""},null,null,null,null,2,{"$f":"IF(Q11=\"\",\"\",VLOOKUP(Q11,名簿男子!$A$2:$I$101,3))","v":0},{"$f":"IF(Q11=\"\",\"\",VLOOKUP(Q11,名簿男子!$A$2:$I$101,9))","v":0},27,{"$f":"IF(T11=\"\",\"\",VLOOKUP(T11,名簿男子!$A$2:$I$101,3))","v":0},{"$f":"IF(T11=\"\",\"\",VLOOKUP(T11,名簿男子!$A$2:$I$101,9))","v":0},52,{"$f":"IF(W11=\"\",\"\",VLOOKUP(W11,名簿男子!$A$2:$I$101,3))","v":0},{"$f":"IF(W11=\"\",\"\",VLOOKUP(W11,名簿男子!$A$2:$I$101,9))","v":0},77,{"$f":"IF(Z11=\"\",\"\",VLOOKUP(Z11,名簿男子!$A$2:$I$101,3))","v":0},{"$f":"IF(Z11=\"\",\"\",VLOOKUP(Z11,名簿男子!$A$2:$I$101,9))","v":0}]
[null,{"$f":"IF(M11=\"\",\"\",VLOOKUP(M11,名簿男子!$A$2:$I$101,3))","v":""},null,null,null,null,null,null,null,null,null,null,null,null,null,null,null,{"$f":"IF(AC12=\"\",\"\",VLOOKUP(AC12,名簿男子!$A$2:$I$41,4))","v":""},{"$f":"IF(AD12=\"\",\"\",VLOOKUP(AD12,名簿男子!$A$2:$I$41,4))","v":""},null,{"$f":"IF(AF12=\"\",\"\",VLOOKUP(AF12,名簿男子!$A$2:$I$41,4))","v":""},{"$f":"IF(AG12=\"\",\"\",VLOOKUP(AG12,名簿男子!$A$2:$I$41,4))","v":""},null,{"$f":"IF(AI12=\"\",\"\",VLOOKUP(AI12,名簿男子!$A$2:$I$41,4))","v":""},{"$f":"IF(AJ12=\"\",\"\",VLOOKUP(AJ12,名簿男子!$A$2:$I$41,4))","v":""},null,{"$f":"IF(AL12=\"\",\"\",VLOOKUP(AL12,名簿男子!$A$2:$I$41,4))","v":""},{"$f":"IF(AM12=\"\",\"\",VLOOKUP(AM12,名簿男子!$A$2:$I$41,4))","v":""}]
[{"$f":"IF(M13=\"\",\"\",VLOOKUP(M13,名簿男子!$A$2:$I$101,2))","v":""},{"$f":"IF(M13=\"\",\"\",VLOOKUP(M13,名簿男子!$A$2:$I$101,4))","v":""},{"$f":"IF(M13=\"\",\"\",VLOOKUP(M13,名簿男子!$A$2:$I$101,6))","v":""},{"$f":"IF(M13=\"\",\"\",VLOOKUP(M13,名簿男子!$A$2:$I$101,7))","v":""},{"$f":"IF(M13=\"\",\"\",VLOOKUP(M13,名簿男子!$A$2:$I$101,8))","v":""},{"$f":"IF(M13=\"\",\"\",VLOOKUP(M13,名簿男子!$A$2:$I$101,9))","v":""},{"$f":"IF(N13=\"\",\"\",VLOOKUP(N13,名簿男子!$A$2:$I$101,9))","v":""},{"$f":"IF(O13=\"\",\"\",VLOOKUP(O13,名簿男子!$A$2:$I$101,9))","v":""},null,null,null,{"$f":"IF(M13=\"\",\"\",VLOOKUP(M13,名簿男子!$A$2:$I$101,3))","v":""},null,null,null,null,3,{"$f":"IF(Q13=\"\",\"\",VLOOKUP(Q13,名簿男子!$A$2:$I$101,3))","v":0},{"$f":"IF(Q13=\"\",\"\",VLOOKUP(Q13,名簿男子!$A$2:$I$101,9))","v":0},28,{"$f":"IF(T13=\"\",\"\",VLOOKUP(T13,名簿男子!$A$2:$I$101,3))","v":0},{"$f":"IF(T13=\"\",\"\",VLOOKUP(T13,名簿男子!$A$2:$I$101,9))","v":0},53,{"$f":"IF(W13=\"\",\"\",VLOOKUP(W13,名簿男子!$A$2:$I$101,3))","v":0},{"$f":"IF(W13=\"\",\"\",VLOOKUP(W13,名簿男子!$A$2:$I$101,9))","v":0},78,{"$f":"IF(Z13=\"\",\"\",VLOOKUP(Z13,名簿男子!$A$2:$I$101,3))","v":0},{"$f":"IF(Z13=\"\",\"\",VLOOKUP(Z13,名簿男子!$A$2:$I$101,9))","v":0}]
[null,{"$f":"IF(M13=\"\",\"\",VLOOKUP(M13,名簿男子!$A$2:$I$101,3))","v":""},null,null,null,null,null,null,null,null,null,null,null,null,null,null,null,{"$f":"IF(AC14=\"\",\"\",VLOOKUP(AC14,名簿男子!$A$2:$I$41,4))","v":""},{"$f":"IF(AD14=\"\",\"\",VLOOKUP(AD14,名簿男子!$A$2:$I$41,4))","v":""},null,{"$f":"IF(AF14=\"\",\"\",VLOOKUP(AF14,名簿男子!$A$2:$I$41,4))","v":""},{"$f":"IF(AG14=\"\",\"\",VLOOKUP(AG14,名簿男子!$A$2:$I$41,4))","v":""},null,{"$f":"IF(AI14=\"\",\"\",VLOOKUP(AI14,名簿男子!$A$2:$I$41,4))","v":""},{"$f":"IF(AJ14=\"\",\"\",VLOOKUP(AJ14,名簿男子!$A$2:$I$41,4))","v":""},null,{"$f":"IF(AL14=\"\",\"\",VLOOKUP(AL14,名簿男子!$A$2:$I$41,4))","v":""},{"$f":"IF(AM14=\"\",\"\",VLOOKUP(AM14,名簿男子!$A$2:$I$41,4))","v":""}]
[{"$f":"IF(M15=\"\",\"\",VLOOKUP(M15,名簿男子!$A$2:$I$101,2))","v":""},{"$f":"IF(M15=\"\",\"\",VLOOKUP(M15,名簿男子!$A$2:$I$101,4))","v":""},{"$f":"IF(M15=\"\",\"\",VLOOKUP(M15,名簿男子!$A$2:$I$101,6))","v":""},{"$f":"IF(M15=\"\",\"\",VLOOKUP(M15,名簿男子!$A$2:$I$101,7))","v":""},{"$f":"IF(M15=\"\",\"\",VLOOKUP(M15,名簿男子!$A$2:$I$101,8))","v":""},{"$f":"IF(M15=\"\",\"\",VLOOKUP(M15,名簿男子!$A$2:$I$101,9))","v":""},{"$f":"IF(N15=\"\",\"\",VLOOKUP(N15,名簿男子!$A$2:$I$101,9))","v":""},{"$f":"IF(O15=\"\",\"\",VLOOKUP(O15,名簿男子!$A$2:$I$101,9))","v":""},null,null,null,{"$f":"IF(M15=\"\",\"\",VLOOKUP(M15,名簿男子!$A$2:$I$101,3))","v":""},null,null,null,null,4,{"$f":"IF(Q15=\"\",\"\",VLOOKUP(Q15,名簿男子!$A$2:$I$101,3))","v":0},{"$f":"IF(Q15=\"\",\"\",VLOOKUP(Q15,名簿男子!$A$2:$I$101,9))","v":0},29,{"$f":"IF(T15=\"\",\"\",VLOOKUP(T15,名簿男子!$A$2:$I$101,3))","v":0},{"$f":"IF(T15=\"\",\"\",VLOOKUP(T15,名簿男子!$A$2:$I$101,9))","v":0},54,{"$f":"IF(W15=\"\",\"\",VLOOKUP(W15,名簿男子!$A$2:$I$101,3))","v":0},{"$f":"IF(W15=\"\",\"\",VLOOKUP(W15,名簿男子!$A$2:$I$101,9))","v":0},79,{"$f":"IF(Z15=\"\",\"\",VLOOKUP(Z15,名簿男子!$A$2:$I$101,3))","v":0},{"$f":"IF(Z15=\"\",\"\",VLOOKUP(Z15,名簿男子!$A$2:$I$101,9))","v":0}]
[null,{"$f":"IF(M15=\"\",\"\",VLOOKUP(M15,名簿男子!$A$2:$I$101,3))","v":""},null,null,null,null,null,null,null,null,null,null,null,null,null,null,null,{"$f":"IF(AC16=\"\",\"\",VLOOKUP(AC16,名簿男子!$A$2:$I$41,4))","v":""},{"$f":"IF(AD16=\"\",\"\",VLOOKUP(AD16,名簿男子!$A$2:$I$41,4))","v":""},null,{"$f":"IF(AF16=\"\",\"\",VLOOKUP(AF16,名簿男子!$A$2:$I$41,4))","v":""},{"$f":"IF(AG16=\"\",\"\",VLOOKUP(AG16,名簿男子!$A$2:$I$41,4))","v":""},null,{"$f":"IF(AI16=\"\",\"\",VLOOKUP(AI16,名簿男子!$A$2:$I$41,4))","v":""},{"$f":"IF(AJ16=\"\",\"\",VLOOKUP(AJ16,名簿男子!$A$2:$I$41,4))","v":""},null,{"$f":"IF(AL16=\"\",\"\",VLOOKUP(AL16,名簿男子!$A$2:$I$41,4))","v":""},{"$f":"IF(AM16=\"\",\"\",VLOOKUP(AM16,名簿男子!$A$2:$I$41,4))","v":""}]
[{"$f":"IF(M17=\"\",\"\",VLOOKUP(M17,名簿男子!$A$2:$I$101,2))","v":""},{"$f":"IF(M17=\"\",\"\",VLOOKUP(M17,名簿男子!$A$2:$I$101,4))","v":""},{"$f":"IF(M17=\"\",\"\",VLOOKUP(M17,名簿男子!$A$2:$I$101,6))","v":""},{"$f":"IF(M17=\"\",\"\",VLOOKUP(M17,名簿男子!$A$2:$I$101,7))","v":""},{"$f":"IF(M17=\"\",\"\",VLOOKUP(M17,名簿男子!$A$2:$I$101,8))","v":""},{"$f":"IF(M17=\"\",\"\",VLOOKUP(M17,名簿男子!$A$2:$I$101,9))","v":""},{"$f":"IF(N17=\"\",\"\",VLOOKUP(N17,名簿男子!$A$2:$I$101,9))","v":""},{"$f":"IF(O17=\"\",\"\",VLOOKUP(O17,名簿男子!$A$2:$I$101,9))","v":""},null,null,null,{"$f":"IF(M17=\"\",\"\",VLOOKUP(M17,名簿男子!$A$2:$I$101,3))","v":""},null,null,null,null,5,{"$f":"IF(Q17=\"\",\"\",VLOOKUP(Q17,名簿男子!$A$2:$I$101,3))","v":0},{"$f":"IF(Q17=\"\",\"\",VLOOKUP(Q17,名簿男子!$A$2:$I$101,9))","v":0},30,{"$f":"IF(T17=\"\",\"\",VLOOKUP(T17,名簿男子!$A$2:$I$101,3))","v":0},{"$f":"IF(T17=\"\",\"\",VLOOKUP(T17,名簿男子!$A$2:$I$101,9))","v":0},55,{"$f":"IF(W17=\"\",\"\",VLOOKUP(W17,名簿男子!$A$2:$I$101,3))","v":0},{"$f":"IF(W17=\"\",\"\",VLOOKUP(W17,名簿男子!$A$2:$I$101,9))","v":0},80,{"$f":"IF(Z17=\"\",\"\",VLOOKUP(Z17,名簿男子!$A$2:$I$101,3))","v":0},{"$f":"IF(Z17=\"\",\"\",VLOOKUP(Z17,名簿男子!$A$2:$I$101,9))","v":0}]
[null,{"$f":"IF(M17=\"\",\"\",VLOOKUP(M17,名簿男子!$A$2:$I$101,3))","v":""},null,null,null,null,null,null,null,null,null,null,null,null,null,null,null,{"$f":"IF(AC18=\"\",\"\",VLOOKUP(AC18,名簿男子!$A$2:$I$41,4))","v":""},{"$f":"IF(AD18=\"\",\"\",VLOOKUP(AD18,名簿男子!$A$2:$I$41,4))","v":""},null,{"$f":"IF(AF18=\"\",\"\",VLOOKUP(AF18,名簿男子!$A$2:$I$41,4))","v":""},{"$f":"IF(AG18=\"\",\"\",VLOOKUP(AG18,名簿男子!$A$2:$I$41,4))","v":""},null,{"$f":"IF(AI18=\"\",\"\",VLOOKUP(AI18,名簿男子!$A$2:$I$41,4))","v":""},{"$f":"IF(AJ18=\"\",\"\",VLOOKUP(AJ18,名簿男子!$A$2:$I$41,4))","v":""},null,{"$f":"IF(AL18=\"\",\"\",VLOOKUP(AL18,名簿男子!$A$2:$I$41,4))","v":""},{"$f":"IF(AM18=\"\",\"\",VLOOKUP(AM18,名簿男子!$A$2:$I$41,4))","v":""}]
[{"$f":"IF(M19=\"\",\"\",VLOOKUP(M19,名簿男子!$A$2:$I$101,2))","v":""},{"$f":"IF(M19=\"\",\"\",VLOOKUP(M19,名簿男子!$A$2:$I$101,4))","v":""},{"$f":"IF(M19=\"\",\"\",VLOOKUP(M19,名簿男子!$A$2:$I$101,6))","v":""},{"$f":"IF(M19=\"\",\"\",VLOOKUP(M19,名簿男子!$A$2:$I$101,7))","v":""},{"$f":"IF(M19=\"\",\"\",VLOOKUP(M19,名簿男子!$A$2:$I$101,8))","v":""},{"$f":"IF(M19=\"\",\"\",VLOOKUP(M19,名簿男子!$A$2:$I$101,9))","v":""},{"$f":"IF(N19=\"\",\"\",VLOOKUP(N19,名簿男子!$A$2:$I$101,9))","v":""},{"$f":"IF(O19=\"\",\"\",VLOOKUP(O19,名簿男子!$A$2:$I$101,9))","v":""},null,null,null,{"$f":"IF(M19=\"\",\"\",VLOOKUP(M19,名簿男子!$A$2:$I$101,3))","v":""},null,null,null,null,6,{"$f":"IF(Q19=\"\",\"\",VLOOKUP(Q19,名簿男子!$A$2:$I$101,3))","v":0},{"$f":"IF(Q19=\"\",\"\",VLOOKUP(Q19,名簿男子!$A$2:$I$101,9))","v":0},31,{"$f":"IF(T19=\"\",\"\",VLOOKUP(T19,名簿男子!$A$2:$I$101,3))","v":0},{"$f":"IF(T19=\"\",\"\",VLOOKUP(T19,名簿男子!$A$2:$I$101,9))","v":0},56,{"$f":"IF(W19=\"\",\"\",VLOOKUP(W19,名簿男子!$A$2:$I$101,3))","v":0},{"$f":"IF(W19=\"\",\"\",VLOOKUP(W19,名簿男子!$A$2:$I$101,9))","v":0},81,{"$f":"IF(Z19=\"\",\"\",VLOOKUP(Z19,名簿男子!$A$2:$I$101,3))","v":0},{"$f":"IF(Z19=\"\",\"\",VLOOKUP(Z19,名簿男子!$A$2:$I$101,9))","v":0}]
[null,{"$f":"IF(M19=\"\",\"\",VLOOKUP(M19,名簿男子!$A$2:$I$101,3))","v":""},null,null,null,null,null,null,null,null,null,null,null,null,null,null,null,{"$f":"IF(AC20=\"\",\"\",VLOOKUP(AC20,名簿男子!$A$2:$I$41,4))","v":""},{"$f":"IF(AD20=\"\",\"\",VLOOKUP(AD20,名簿男子!$A$2:$I$41,4))","v":""},null,{"$f":"IF(AF20=\"\",\"\",VLOOKUP(AF20,名簿男子!$A$2:$I$41,4))","v":""},{"$f":"IF(AG20=\"\",\"\",VLOOKUP(AG20,名簿男子!$A$2:$I$41,4))","v":""},null,{"$f":"IF(AI20=\"\",\"\",VLOOKUP(AI20,名簿男子!$A$2:$I$41,4))","v":""},{"$f":"IF(AJ20=\"\",\"\",VLOOKUP(AJ20,名簿男子!$A$2:$I$41,4))","v":""},null,{"$f":"IF(AL20=\"\",\"\",VLOOKUP(AL20,名簿男子!$A$2:$I$41,4))","v":""},{"$f":"IF(AM20=\"\",\"\",VLOOKUP(AM20,名簿男子!$A$2:$I$41,4))","v":""}]
[{"$f":"IF(M21=\"\",\"\",VLOOKUP(M21,名簿男子!$A$2:$I$101,2))","v":""},{"$f":"IF(M21=\"\",\"\",VLOOKUP(M21,名簿男子!$A$2:$I$101,4))","v":""},{"$f":"IF(M21=\"\",\"\",VLOOKUP(M21,名簿男子!$A$2:$I$101,6))","v":""},{"$f":"IF(M21=\"\",\"\",VLOOKUP(M21,名簿男子!$A$2:$I$101,7))","v":""},{"$f":"IF(M21=\"\",\"\",VLOOKUP(M21,名簿男子!$A$2:$I$101,8))","v":""},{"$f":"IF(M21=\"\",\"\",VLOOKUP(M21,名簿男子!$A$2:$I$101,9))","v":""},{"$f":"IF(N21=\"\",\"\",VLOOKUP(N21,名簿男子!$A$2:$I$101,9))","v":""},{"$f":"IF(O21=\"\",\"\",VLOOKUP(O21,名簿男子!$A$2:$I$101,9))","v":""},null,null,null,{"$f":"IF(M21=\"\",\"\",VLOOKUP(M21,名簿男子!$A$2:$I$101,3))","v":""},null,null,null,null,7,{"$f":"IF(Q21=\"\",\"\",VLOOKUP(Q21,名簿男子!$A$2:$I$101,3))","v":0},{"$f":"IF(Q21=\"\",\"\",VLOOKUP(Q21,名簿男子!$A$2:$I$101,9))","v":0},32,{"$f":"IF(T21=\"\",\"\",VLOOKUP(T21,名簿男子!$A$2:$I$101,3))","v":0},{"$f":"IF(T21=\"\",\"\",VLOOKUP(T21,名簿男子!$A$2:$I$101,9))","v":0},57,{"$f":"IF(W21=\"\",\"\",VLOOKUP(W21,名簿男子!$A$2:$I$101,3))","v":0},{"$f":"IF(W21=\"\",\"\",VLOOKUP(W21,名簿男子!$A$2:$I$101,9))","v":0},82,{"$f":"IF(Z21=\"\",\"\",VLOOKUP(Z21,名簿男子!$A$2:$I$101,3))","v":0},{"$f":"IF(Z21=\"\",\"\",VLOOKUP(Z21,名簿男子!$A$2:$I$101,9))","v":0}]
[null,{"$f":"IF(M21=\"\",\"\",VLOOKUP(M21,名簿男子!$A$2:$I$101,3))","v":""},null,null,null,null,null,null,null,null,null,null,null,null,null,null,null,{"$f":"IF(AC22=\"\",\"\",VLOOKUP(AC22,名簿男子!$A$2:$I$41,4))","v":""},{"$f":"IF(AD22=\"\",\"\",VLOOKUP(AD22,名簿男子!$A$2:$I$41,4))","v":""},null,{"$f":"IF(AF22=\"\",\"\",VLOOKUP(AF22,名簿男子!$A$2:$I$41,4))","v":""},{"$f":"IF(AG22=\"\",\"\",VLOOKUP(AG22,名簿男子!$A$2:$I$41,4))","v":""},null,{"$f":"IF(AI22=\"\",\"\",VLOOKUP(AI22,名簿男子!$A$2:$I$41,4))","v":""},{"$f":"IF(AJ22=\"\",\"\",VLOOKUP(AJ22,名簿男子!$A$2:$I$41,4))","v":""},null,{"$f":"IF(AL22=\"\",\"\",VLOOKUP(AL22,名簿男子!$A$2:$I$41,4))","v":""},{"$f":"IF(AM22=\"\",\"\",VLOOKUP(AM22,名簿男子!$A$2:$I$41,4))","v":""}]
[{"$f":"IF(M23=\"\",\"\",VLOOKUP(M23,名簿男子!$A$2:$I$101,2))","v":""},{"$f":"IF(M23=\"\",\"\",VLOOKUP(M23,名簿男子!$A$2:$I$101,4))","v":""},{"$f":"IF(M23=\"\",\"\",VLOOKUP(M23,名簿男子!$A$2:$I$101,6))","v":""},{"$f":"IF(M23=\"\",\"\",VLOOKUP(M23,名簿男子!$A$2:$I$101,7))","v":""},{"$f":"IF(M23=\"\",\"\",VLOOKUP(M23,名簿男子!$A$2:$I$101,8))","v":""},{"$f":"IF(M23=\"\",\"\",VLOOKUP(M23,名簿男子!$A$2:$I$101,9))","v":""},{"$f":"IF(N23=\"\",\"\",VLOOKUP(N23,名簿男子!$A$2:$I$101,9))","v":""},{"$f":"IF(O23=\"\",\"\",VLOOKUP(O23,名簿男子!$A$2:$I$101,9))","v":""},null,null,null,{"$f":"IF(M23=\"\",\"\",VLOOKUP(M23,名簿男子!$A$2:$I$101,3))","v":""},null,null,null,null,8,{"$f":"IF(Q23=\"\",\"\",VLOOKUP(Q23,名簿男子!$A$2:$I$101,3))","v":0},{"$f":"IF(Q23=\"\",\"\",VLOOKUP(Q23,名簿男子!$A$2:$I$101,9))","v":0},33,{"$f":"IF(T23=\"\",\"\",VLOOKUP(T23,名簿男子!$A$2:$I$101,3))","v":0},{"$f":"IF(T23=\"\",\"\",VLOOKUP(T23,名簿男子!$A$2:$I$101,9))","v":0},58,{"$f":"IF(W23=\"\",\"\",VLOOKUP(W23,名簿男子!$A$2:$I$101,3))","v":0},{"$f":"IF(W23=\"\",\"\",VLOOKUP(W23,名簿男子!$A$2:$I$101,9))","v":0},83,{"$f":"IF(Z23=\"\",\"\",VLOOKUP(Z23,名簿男子!$A$2:$I$101,3))","v":0},{"$f":"IF(Z23=\"\",\"\",VLOOKUP(Z23,名簿男子!$A$2:$I$101,9))","v":0}]
[null,{"$f":"IF(M23=\"\",\"\",VLOOKUP(M23,名簿男子!$A$2:$I$101,3))","v":""},null,null,null,null,null,null,null,null,null,null,null,null,null,null,null,{"$f":"IF(AC24=\"\",\"\",VLOOKUP(AC24,名簿男子!$A$2:$I$41,4))","v":""},{"$f":"IF(AD24=\"\",\"\",VLOOKUP(AD24,名簿男子!$A$2:$I$41,4))","v":""},null,{"$f":"IF(AF24=\"\",\"\",VLOOKUP(AF24,名簿男子!$A$2:$I$41,4))","v":""},{"$f":"IF(AG24=\"\",\"\",VLOOKUP(AG24,名簿男子!$A$2:$I$41,4))","v":""},null,{"$f":"IF(AI24=\"\",\"\",VLOOKUP(AI24,名簿男子!$A$2:$I$41,4))","v":""},{"$f":"IF(AJ24=\"\",\"\",VLOOKUP(AJ24,名簿男子!$A$2:$I$41,4))","v":""},null,{"$f":"IF(AL24=\"\",\"\",VLOOKUP(AL24,名簿男子!$A$2:$I$41,4))","v":""},{"$f":"IF(AM24=\"\",\"\",VLOOKUP(AM24,名簿男子!$A$2:$I$41,4))","v":""}]
[{"$f":"IF(M25=\"\",\"\",VLOOKUP(M25,名簿男子!$A$2:$I$101,2))","v":""},{"$f":"IF(M25=\"\",\"\",VLOOKUP(M25,名簿男子!$A$2:$I$101,4))","v":""},{"$f":"IF(M25=\"\",\"\",VLOOKUP(M25,名簿男子!$A$2:$I$101,6))","v":""},{"$f":"IF(M25=\"\",\"\",VLOOKUP(M25,名簿男子!$A$2:$I$101,7))","v":""},{"$f":"IF(M25=\"\",\"\",VLOOKUP(M25,名簿男子!$A$2:$I$101,8))","v":""},{"$f":"IF(M25=\"\",\"\",VLOOKUP(M25,名簿男子!$A$2:$I$101,9))","v":""},{"$f":"IF(N25=\"\",\"\",VLOOKUP(N25,名簿男子!$A$2:$I$101,9))","v":""},{"$f":"IF(O25=\"\",\"\",VLOOKUP(O25,名簿男子!$A$2:$I$101,9))","v":""},null,null,null,{"$f":"IF(M25=\"\",\"\",VLOOKUP(M25,名簿男子!$A$2:$I$101,3))","v":""},null,null,null,null,9,{"$f":"IF(Q25=\"\",\"\",VLOOKUP(Q25,名簿男子!$A$2:$I$101,3))","v":0},{"$f":"IF(Q25=\"\",\"\",VLOOKUP(Q25,名簿男子!$A$2:$I$101,9))","v":0},34,{"$f":"IF(T25=\"\",\"\",VLOOKUP(T25,名簿男子!$A$2:$I$101,3))","v":0},{"$f":"IF(T25=\"\",\"\",VLOOKUP(T25,名簿男子!$A$2:$I$101,9))","v":0},59,{"$f":"IF(W25=\"\",\"\",VLOOKUP(W25,名簿男子!$A$2:$I$101,3))","v":0},{"$f":"IF(W25=\"\",\"\",VLOOKUP(W25,名簿男子!$A$2:$I$101,9))","v":0},84,{"$f":"IF(Z25=\"\",\"\",VLOOKUP(Z25,名簿男子!$A$2:$I$101,3))","v":0},{"$f":"IF(Z25=\"\",\"\",VLOOKUP(Z25,名簿男子!$A$2:$I$101,9))","v":0}]
[null,{"$f":"IF(M25=\"\",\"\",VLOOKUP(M25,名簿男子!$A$2:$I$101,3))","v":""},null,null,null,null,null,null,null,null,null,null,null,null,null,null,null,{"$f":"IF(AC26=\"\",\"\",VLOOKUP(AC26,名簿男子!$A$2:$I$41,4))","v":""},{"$f":"IF(AD26=\"\",\"\",VLOOKUP(AD26,名簿男子!$A$2:$I$41,4))","v":""},null,{"$f":"IF(AF26=\"\",\"\",VLOOKUP(AF26,名簿男子!$A$2:$I$41,4))","v":""},{"$f":"IF(AG26=\"\",\"\",VLOOKUP(AG26,名簿男子!$A$2:$I$41,4))","v":""},null,{"$f":"IF(AI26=\"\",\"\",VLOOKUP(AI26,名簿男子!$A$2:$I$41,4))","v":""},{"$f":"IF(AJ26=\"\",\"\",VLOOKUP(AJ26,名簿男子!$A$2:$I$41,4))","v":""},null,{"$f":"IF(AL26=\"\",\"\",VLOOKUP(AL26,名簿男子!$A$2:$I$41,4))","v":""},{"$f":"IF(AM26=\"\",\"\",VLOOKUP(AM26,名簿男子!$A$2:$I$41,4))","v":""}]
[{"$f":"IF(M27=\"\",\"\",VLOOKUP(M27,名簿男子!$A$2:$I$101,2))","v":""},{"$f":"IF(M27=\"\",\"\",VLOOKUP(M27,名簿男子!$A$2:$I$101,4))","v":""},{"$f":"IF(M27=\"\",\"\",VLOOKUP(M27,名簿男子!$A$2:$I$101,6))","v":""},{"$f":"IF(M27=\"\",\"\",VLOOKUP(M27,名簿男子!$A$2:$I$101,7))","v":""},{"$f":"IF(M27=\"\",\"\",VLOOKUP(M27,名簿男子!$A$2:$I$101,8))","v":""},{"$f":"IF(M27=\"\",\"\",VLOOKUP(M27,名簿男子!$A$2:$I$101,9))","v":""},{"$f":"IF(N27=\"\",\"\",VLOOKUP(N27,名簿男子!$A$2:$I$101,9))","v":""},{"$f":"IF(O27=\"\",\"\",VLOOKUP(O27,名簿男子!$A$2:$I$101,9))","v":""},null,null,null,{"$f":"IF(M27=\"\",\"\",VLOOKUP(M27,名簿男子!$A$2:$I$101,3))","v":""},null,null,null,null,10,{"$f":"IF(Q27=\"\",\"\",VLOOKUP(Q27,名簿男子!$A$2:$I$101,3))","v":0},{"$f":"IF(Q27=\"\",\"\",VLOOKUP(Q27,名簿男子!$A$2:$I$101,9))","v":0},35,{"$f":"IF(T27=\"\",\"\",VLOOKUP(T27,名簿男子!$A$2:$I$101,3))","v":0},{"$f":"IF(T27=\"\",\"\",VLOOKUP(T27,名簿男子!$A$2:$I$101,9))","v":0},60,{"$f":"IF(W27=\"\",\"\",VLOOKUP(W27,名簿男子!$A$2:$I$101,3))","v":0},{"$f":"IF(W27=\"\",\"\",VLOOKUP(W27,名簿男子!$A$2:$I$101,9))","v":0},85,{"$f":"IF(Z27=\"\",\"\",VLOOKUP(Z27,名簿男子!$A$2:$I$101,3))","v":0},{"$f":"IF(Z27=\"\",\"\",VLOOKUP(Z27,名簿男子!$A$2:$I$101,9))","v":0}]
[null,{"$f":"IF(M27=\"\",\"\",VLOOKUP(M27,名簿男子!$A$2:$I$101,3))","v":""},null,null,null,null,null,null,null,null,null,null,null,null,null,null,null,{"$f":"IF(AC28=\"\",\"\",VLOOKUP(AC28,名簿男子!$A$2:$I$41,4))","v":""},{"$f":"IF(AD28=\"\",\"\",VLOOKUP(AD28,名簿男子!$A$2:$I$41,4))","v":""},null,{"$f":"IF(AF28=\"\",\"\",VLOOKUP(AF28,名簿男子!$A$2:$I$41,4))","v":""},{"$f":"IF(AG28=\"\",\"\",VLOOKUP(AG28,名簿男子!$A$2:$I$41,4))","v":""},null,{"$f":"IF(AI28=\"\",\"\",VLOOKUP(AI28,名簿男子!$A$2:$I$41,4))","v":""},{"$f":"IF(AJ28=\"\",\"\",VLOOKUP(AJ28,名簿男子!$A$2:$I$41,4))","v":""},null,{"$f":"IF(AL28=\"\",\"\",VLOOKUP(AL28,名簿男子!$A$2:$I$41,4))","v":""},{"$f":"IF(AM28=\"\",\"\",VLOOKUP(AM28,名簿男子!$A$2:$I$41,4))","v":""}]
[{"$f":"IF(M29=\"\",\"\",VLOOKUP(M29,名簿男子!$A$2:$I$101,2))","v":""},{"$f":"IF(M29=\"\",\"\",VLOOKUP(M29,名簿男子!$A$2:$I$101,4))","v":""},{"$f":"IF(M29=\"\",\"\",VLOOKUP(M29,名簿男子!$A$2:$I$101,6))","v":""},{"$f":"IF(M29=\"\",\"\",VLOOKUP(M29,名簿男子!$A$2:$I$101,7))","v":""},{"$f":"IF(M29=\"\",\"\",VLOOKUP(M29,名簿男子!$A$2:$I$101,8))","v":""},{"$f":"IF(M29=\"\",\"\",VLOOKUP(M29,名簿男子!$A$2:$I$101,9))","v":""},{"$f":"IF(N29=\"\",\"\",VLOOKUP(N29,名簿男子!$A$2:$I$101,9))","v":""},{"$f":"IF(O29=\"\",\"\",VLOOKUP(O29,名簿男子!$A$2:$I$101,9))","v":""},null,null,null,{"$f":"IF(M29=\"\",\"\",VLOOKUP(M29,名簿男子!$A$2:$I$101,3))","v":""},null,null,null,null,11,{"$f":"IF(Q29=\"\",\"\",VLOOKUP(Q29,名簿男子!$A$2:$I$101,3))","v":0},{"$f":"IF(Q29=\"\",\"\",VLOOKUP(Q29,名簿男子!$A$2:$I$101,9))","v":0},36,{"$f":"IF(T29=\"\",\"\",VLOOKUP(T29,名簿男子!$A$2:$I$101,3))","v":0},{"$f":"IF(T29=\"\",\"\",VLOOKUP(T29,名簿男子!$A$2:$I$101,9))","v":0},61,{"$f":"IF(W29=\"\",\"\",VLOOKUP(W29,名簿男子!$A$2:$I$101,3))","v":0},{"$f":"IF(W29=\"\",\"\",VLOOKUP(W29,名簿男子!$A$2:$I$101,9))","v":0},86,{"$f":"IF(Z29=\"\",\"\",VLOOKUP(Z29,名簿男子!$A$2:$I$101,3))","v":0},{"$f":"IF(Z29=\"\",\"\",VLOOKUP(Z29,名簿男子!$A$2:$I$101,9))","v":0}]
[null,{"$f":"IF(M29=\"\",\"\",VLOOKUP(M29,名簿男子!$A$2:$I$101,3))","v":""},null,null,null,null,null,null,null,null,null,null,null,null,null,null,null,{"$f":"IF(AC30=\"\",\"\",VLOOKUP(AC30,名簿男子!$A$2:$I$41,4))","v":""},{"$f":"IF(AD30=\"\",\"\",VLOOKUP(AD30,名簿男子!$A$2:$I$41,4))","v":""},null,{"$f":"IF(AF30=\"\",\"\",VLOOKUP(AF30,名簿男子!$A$2:$I$41,4))","v":""},{"$f":"IF(AG30=\"\",\"\",VLOOKUP(AG30,名簿男子!$A$2:$I$41,4))","v":""},null,{"$f":"IF(AI30=\"\",\"\",VLOOKUP(AI30,名簿男子!$A$2:$I$41,4))","v":""},{"$f":"IF(AJ30=\"\",\"\",VLOOKUP(AJ30,名簿男子!$A$2:$I$41,4))","v":""},null,{"$f":"IF(AL30=\"\",\"\",VLOOKUP(AL30,名簿男子!$A$2:$I$41,4))","v":""},{"$f":"IF(AM30=\"\",\"\",VLOOKUP(AM30,名簿男子!$A$2:$I$41,4))","v":""}]
[{"$f":"IF(M31=\"\",\"\",VLOOKUP(M31,名簿男子!$A$2:$I$101,2))","v":""},{"$f":"IF(M31=\"\",\"\",VLOOKUP(M31,名簿男子!$A$2:$I$101,4))","v":""},{"$f":"IF(M31=\"\",\"\",VLOOKUP(M31,名簿男子!$A$2:$I$101,6))","v":""},{"$f":"IF(M31=\"\",\"\",VLOOKUP(M31,名簿男子!$A$2:$I$101,7))","v":""},{"$f":"IF(M31=\"\",\"\",VLOOKUP(M31,名簿男子!$A$2:$I$101,8))","v":""},{"$f":"IF(M31=\"\",\"\",VLOOKUP(M31,名簿男子!$A$2:$I$101,9))","v":""},{"$f":"IF(N31=\"\",\"\",VLOOKUP(N31,名簿男子!$A$2:$I$101,9))","v":""},{"$f":"IF(O31=\"\",\"\",VLOOKUP(O31,名簿男子!$A$2:$I$101,9))","v":""},null,null,null,{"$f":"IF(M31=\"\",\"\",VLOOKUP(M31,名簿男子!$A$2:$I$101,3))","v":""},null,null,null,null,12,{"$f":"IF(Q31=\"\",\"\",VLOOKUP(Q31,名簿男子!$A$2:$I$101,3))","v":0},{"$f":"IF(Q31=\"\",\"\",VLOOKUP(Q31,名簿男子!$A$2:$I$101,9))","v":0},37,{"$f":"IF(T31=\"\",\"\",VLOOKUP(T31,名簿男子!$A$2:$I$101,3))","v":0},{"$f":"IF(T31=\"\",\"\",VLOOKUP(T31,名簿男子!$A$2:$I$101,9))","v":0},62,{"$f":"IF(W31=\"\",\"\",VLOOKUP(W31,名簿男子!$A$2:$I$101,3))","v":0},{"$f":"IF(W31=\"\",\"\",VLOOKUP(W31,名簿男子!$A$2:$I$101,9))","v":0},87,{"$f":"IF(Z31=\"\",\"\",VLOOKUP(Z31,名簿男子!$A$2:$I$101,3))","v":0},{"$f":"IF(Z31=\"\",\"\",VLOOKUP(Z31,名簿男子!$A$2:$I$101,9))","v":0}]
[null,{"$f":"IF(M31=\"\",\"\",VLOOKUP(M31,名簿男子!$A$2:$I$101,3))","v":""},null,null,null,null,null,null,null,null,null,null,null,null,null,null,null,{"$f":"IF(AC32=\"\",\"\",VLOOKUP(AC32,名簿男子!$A$2:$I$41,4))","v":""},{"$f":"IF(AD32=\"\",\"\",VLOOKUP(AD32,名簿男子!$A$2:$I$41,4))","v":""},null,{"$f":"IF(AF32=\"\",\"\",VLOOKUP(AF32,名簿男子!$A$2:$I$41,4))","v":""},{"$f":"IF(AG32=\"\",\"\",VLOOKUP(AG32,名簿男子!$A$2:$I$41,4))","v":""},null,{"$f":"IF(AI32=\"\",\"\",VLOOKUP(AI32,名簿男子!$A$2:$I$41,4))","v":""},{"$f":"IF(AJ32=\"\",\"\",VLOOKUP(AJ32,名簿男子!$A$2:$I$41,4))","v":""},null,{"$f":"IF(AL32=\"\",\"\",VLOOKUP(AL32,名簿男子!$A$2:$I$41,4))","v":""},{"$f":"IF(AM32=\"\",\"\",VLOOKUP(AM32,名簿男子!$A$2:$I$41,4))","v":""}]
[{"$f":"IF(M33=\"\",\"\",VLOOKUP(M33,名簿男子!$A$2:$I$101,2))","v":""},{"$f":"IF(M33=\"\",\"\",VLOOKUP(M33,名簿男子!$A$2:$I$101,4))","v":""},{"$f":"IF(M33=\"\",\"\",VLOOKUP(M33,名簿男子!$A$2:$I$101,6))","v":""},{"$f":"IF(M33=\"\",\"\",VLOOKUP(M33,名簿男子!$A$2:$I$101,7))","v":""},{"$f":"IF(M33=\"\",\"\",VLOOKUP(M33,名簿男子!$A$2:$I$101,8))","v":""},{"$f":"IF(M33=\"\",\"\",VLOOKUP(M33,名簿男子!$A$2:$I$101,9))","v":""},{"$f":"IF(N33=\"\",\"\",VLOOKUP(N33,名簿男子!$A$2:$I$101,9))","v":""},{"$f":"IF(O33=\"\",\"\",VLOOKUP(O33,名簿男子!$A$2:$I$101,9))","v":""},null,null,null,{"$f":"IF(M33=\"\",\"\",VLOOKUP(M33,名簿男子!$A$2:$I$101,3))","v":""},null,null,null,null,13,{"$f":"IF(Q33=\"\",\"\",VLOOKUP(Q33,名簿男子!$A$2:$I$101,3))","v":0},{"$f":"IF(Q33=\"\",\"\",VLOOKUP(Q33,名簿男子!$A$2:$I$101,9))","v":0},38,{"$f":"IF(T33=\"\",\"\",VLOOKUP(T33,名簿男子!$A$2:$I$101,3))","v":0},{"$f":"IF(T33=\"\",\"\",VLOOKUP(T33,名簿男子!$A$2:$I$101,9))","v":0},63,{"$f":"IF(W33=\"\",\"\",VLOOKUP(W33,名簿男子!$A$2:$I$101,3))","v":0},{"$f":"IF(W33=\"\",\"\",VLOOKUP(W33,名簿男子!$A$2:$I$101,9))","v":0},88,{"$f":"IF(Z33=\"\",\"\",VLOOKUP(Z33,名簿男子!$A$2:$I$101,3))","v":0},{"$f":"IF(Z33=\"\",\"\",VLOOKUP(Z33,名簿男子!$A$2:$I$101,9))","v":0}]
[null,{"$f":"IF(M33=\"\",\"\",VLOOKUP(M33,名簿男子!$A$2:$I$101,3))","v":""},null,null,null,null,null,null,null,null,null,null,null,null,null,null,null,{"$f":"IF(AC34=\"\",\"\",VLOOKUP(AC34,名簿男子!$A$2:$I$41,4))","v":""},{"$f":"IF(AD34=\"\",\"\",VLOOKUP(AD34,名簿男子!$A$2:$I$41,4))","v":""},null,{"$f":"IF(AF34=\"\",\"\",VLOOKUP(AF34,名簿男子!$A$2:$I$41,4))","v":""},{"$f":"IF(AG34=\"\",\"\",VLOOKUP(AG34,名簿男子!$A$2:$I$41,4))","v":""},null,{"$f":"IF(AI34=\"\",\"\",VLOOKUP(AI34,名簿男子!$A$2:$I$41,4))","v":""},{"$f":"IF(AJ34=\"\",\"\",VLOOKUP(AJ34,名簿男子!$A$2:$I$41,4))","v":""},null,{"$f":"IF(AL34=\"\",\"\",VLOOKUP(AL34,名簿男子!$A$2:$I$41,4))","v":""},{"$f":"IF(AM34=\"\",\"\",VLOOKUP(AM34,名簿男子!$A$2:$I$41,4))","v":""}]
[{"$f":"IF(M35=\"\",\"\",VLOOKUP(M35,名簿男子!$A$2:$I$101,2))","v":""},{"$f":"IF(M35=\"\",\"\",VLOOKUP(M35,名簿男子!$A$2:$I$101,4))","v":""},{"$f":"IF(M35=\"\",\"\",VLOOKUP(M35,名簿男子!$A$2:$I$101,6))","v":""},{"$f":"IF(M35=\"\",\"\",VLOOKUP(M35,名簿男子!$A$2:$I$101,7))","v":""},{"$f":"IF(M35=\"\",\"\",VLOOKUP(M35,名簿男子!$A$2:$I$101,8))","v":""},{"$f":"IF(M35=\"\",\"\",VLOOKUP(M35,名簿男子!$A$2:$I$101,9))","v":""},{"$f":"IF(N35=\"\",\"\",VLOOKUP(N35,名簿男子!$A$2:$I$101,9))","v":""},{"$f":"IF(O35=\"\",\"\",VLOOKUP(O35,名簿男子!$A$2:$I$101,9))","v":""},null,null,null,{"$f":"IF(M35=\"\",\"\",VLOOKUP(M35,名簿男子!$A$2:$I$101,3))","v":""},null,null,null,null,14,{"$f":"IF(Q35=\"\",\"\",VLOOKUP(Q35,名簿男子!$A$2:$I$101,3))","v":0},{"$f":"IF(Q35=\"\",\"\",VLOOKUP(Q35,名簿男子!$A$2:$I$101,9))","v":0},39,{"$f":"IF(T35=\"\",\"\",VLOOKUP(T35,名簿男子!$A$2:$I$101,3))","v":0},{"$f":"IF(T35=\"\",\"\",VLOOKUP(T35,名簿男子!$A$2:$I$101,9))","v":0},64,{"$f":"IF(W35=\"\",\"\",VLOOKUP(W35,名簿男子!$A$2:$I$101,3))","v":0},{"$f":"IF(W35=\"\",\"\",VLOOKUP(W35,名簿男子!$A$2:$I$101,9))","v":0},89,{"$f":"IF(Z35=\"\",\"\",VLOOKUP(Z35,名簿男子!$A$2:$I$101,3))","v":0},{"$f":"IF(Z35=\"\",\"\",VLOOKUP(Z35,名簿男子!$A$2:$I$101,9))","v":0}]
[null,{"$f":"IF(M35=\"\",\"\",VLOOKUP(M35,名簿男子!$A$2:$I$101,3))","v":""},null,null,null,null,null,null,null,null,null,null,null,null,null,null,null,{"$f":"IF(AC36=\"\",\"\",VLOOKUP(AC36,名簿男子!$A$2:$I$41,4))","v":""},{"$f":"IF(AD36=\"\",\"\",VLOOKUP(AD36,名簿男子!$A$2:$I$41,4))","v":""},null,{"$f":"IF(AF36=\"\",\"\",VLOOKUP(AF36,名簿男子!$A$2:$I$41,4))","v":""},{"$f":"IF(AG36=\"\",\"\",VLOOKUP(AG36,名簿男子!$A$2:$I$41,4))","v":""},null,{"$f":"IF(AI36=\"\",\"\",VLOOKUP(AI36,名簿男子!$A$2:$I$41,4))","v":""},{"$f":"IF(AJ36=\"\",\"\",VLOOKUP(AJ36,名簿男子!$A$2:$I$41,4))","v":""},null,{"$f":"IF(AL36=\"\",\"\",VLOOKUP(AL36,名簿男子!$A$2:$I$41,4))","v":""},{"$f":"IF(AM36=\"\",\"\",VLOOKUP(AM36,名簿男子!$A$2:$I$41,4))","v":""}]
[{"$f":"IF(M37=\"\",\"\",VLOOKUP(M37,名簿男子!$A$2:$I$101,2))","v":""},{"$f":"IF(M37=\"\",\"\",VLOOKUP(M37,名簿男子!$A$2:$I$101,4))","v":""},{"$f":"IF(M37=\"\",\"\",VLOOKUP(M37,名簿男子!$A$2:$I$101,6))","v":""},{"$f":"IF(M37=\"\",\"\",VLOOKUP(M37,名簿男子!$A$2:$I$101,7))","v":""},{"$f":"IF(M37=\"\",\"\",VLOOKUP(M37,名簿男子!$A$2:$I$101,8))","v":""},{"$f":"IF(M37=\"\",\"\",VLOOKUP(M37,名簿男子!$A$2:$I$101,9))","v":""},{"$f":"IF(N37=\"\",\"\",VLOOKUP(N37,名簿男子!$A$2:$I$101,9))","v":""},{"$f":"IF(O37=\"\",\"\",VLOOKUP(O37,名簿男子!$A$2:$I$101,9))","v":""},null,null,null,{"$f":"IF(M37=\"\",\"\",VLOOKUP(M37,名簿男子!$A$2:$I$101,3))","v":""},null,null,null,null,15,{"$f":"IF(Q37=\"\",\"\",VLOOKUP(Q37,名簿男子!$A$2:$I$101,3))","v":0},{"$f":"IF(Q37=\"\",\"\",VLOOKUP(Q37,名簿男子!$A$2:$I$101,9))","v":0},40,{"$f":"IF(T37=\"\",\"\",VLOOKUP(T37,名簿男子!$A$2:$I$101,3))","v":0},{"$f":"IF(T37=\"\",\"\",VLOOKUP(T37,名簿男子!$A$2:$I$101,9))","v":0},65,{"$f":"IF(W37=\"\",\"\",VLOOKUP(W37,名簿男子!$A$2:$I$101,3))","v":0},{"$f":"IF(W37=\"\",\"\",VLOOKUP(W37,名簿男子!$A$2:$I$101,9))","v":0},90,{"$f":"IF(Z37=\"\",\"\",VLOOKUP(Z37,名簿男子!$A$2:$I$101,3))","v":0},{"$f":"IF(Z37=\"\",\"\",VLOOKUP(Z37,名簿男子!$A$2:$I$101,9))","v":0}]
[null,{"$f":"IF(M37=\"\",\"\",VLOOKUP(M37,名簿男子!$A$2:$I$101,3))","v":""},null,null,null,null,null,null,null,null,null,null,null,null,null,null,null,{"$f":"IF(AC38=\"\",\"\",VLOOKUP(AC38,名簿男子!$A$2:$I$41,4))","v":""},{"$f":"IF(AD38=\"\",\"\",VLOOKUP(AD38,名簿男子!$A$2:$I$41,4))","v":""},null,{"$f":"IF(AF38=\"\",\"\",VLOOKUP(AF38,名簿男子!$A$2:$I$41,4))","v":""},{"$f":"IF(AG38=\"\",\"\",VLOOKUP(AG38,名簿男子!$A$2:$I$41,4))","v":""},null,{"$f":"IF(AI38=\"\",\"\",VLOOKUP(AI38,名簿男子!$A$2:$I$41,4))","v":""},{"$f":"IF(AJ38=\"\",\"\",VLOOKUP(AJ38,名簿男子!$A$2:$I$41,4))","v":""},null,{"$f":"IF(AL38=\"\",\"\",VLOOKUP(AL38,名簿男子!$A$2:$I$41,4))","v":""},{"$f":"IF(AM38=\"\",\"\",VLOOKUP(AM38,名簿男子!$A$2:$I$41,4))","v":""}]
[{"$f":"IF(M39=\"\",\"\",VLOOKUP(M39,名簿男子!$A$2:$I$101,2))","v":""},{"$f":"IF(M39=\"\",\"\",VLOOKUP(M39,名簿男子!$A$2:$I$101,4))","v":""},{"$f":"IF(M39=\"\",\"\",VLOOKUP(M39,名簿男子!$A$2:$I$101,6))","v":""},{"$f":"IF(M39=\"\",\"\",VLOOKUP(M39,名簿男子!$A$2:$I$101,7))","v":""},{"$f":"IF(M39=\"\",\"\",VLOOKUP(M39,名簿男子!$A$2:$I$101,8))","v":""},{"$f":"IF(M39=\"\",\"\",VLOOKUP(M39,名簿男子!$A$2:$I$101,9))","v":""},{"$f":"IF(N39=\"\",\"\",VLOOKUP(N39,名簿男子!$A$2:$I$101,9))","v":""},{"$f":"IF(O39=\"\",\"\",VLOOKUP(O39,名簿男子!$A$2:$I$101,9))","v":""},null,null,null,{"$f":"IF(M39=\"\",\"\",VLOOKUP(M39,名簿男子!$A$2:$I$101,3))","v":""},null,null,null,null,16,{"$f":"IF(Q39=\"\",\"\",VLOOKUP(Q39,名簿男子!$A$2:$I$101,3))","v":0},{"$f":"IF(Q39=\"\",\"\",VLOOKUP(Q39,名簿男子!$A$2:$I$101,9))","v":0},41,{"$f":"IF(T39=\"\",\"\",VLOOKUP(T39,名簿男子!$A$2:$I$101,3))","v":0},{"$f":"IF(T39=\"\",\"\",VLOOKUP(T39,名簿男子!$A$2:$I$101,9))","v":0},66,{"$f":"IF(W39=\"\",\"\",VLOOKUP(W39,名簿男子!$A$2:$I$101,3))","v":0},{"$f":"IF(W39=\"\",\"\",VLOOKUP(W39,名簿男子!$A$2:$I$101,9))","v":0},91,{"$f":"IF(Z39=\"\",\"\",VLOOKUP(Z39,名簿男子!$A$2:$I$101,3))","v":0},{"$f":"IF(Z39=\"\",\"\",VLOOKUP(Z39,名簿男子!$A$2:$I$101,9))","v":0}]
[null,{"$f":"IF(M39=\"\",\"\",VLOOKUP(M39,名簿男子!$A$2:$I$101,3))","v":""},null,null,null,null,null,null,null,null,null,null,null,null,null,null,null,{"$f":"IF(AC40=\"\",\"\",VLOOKUP(AC40,名簿男子!$A$2:$I$41,4))","v":""},{"$f":"IF(AD40=\"\",\"\",VLOOKUP(AD40,名簿男子!$A$2:$I$41,4))","v":""},null,{"$f":"IF(AF40=\"\",\"\",VLOOKUP(AF40,名簿男子!$A$2:$I$41,4))","v":""},{"$f":"IF(AG40=\"\",\"\",VLOOKUP(AG40,名簿男子!$A$2:$I$41,4))","v":""},null,{"$f":"IF(AI40=\"\",\"\",VLOOKUP(AI40,名簿男子!$A$2:$I$41,4))","v":""},{"$f":"IF(AJ40=\"\",\"\",VLOOKUP(AJ40,名簿男子!$A$2:$I$41,4))","v":""},null,{"$f":"IF(AL40=\"\",\"\",VLOOKUP(AL40,名簿男子!$A$2:$I$41,4))","v":""},{"$f":"IF(AM40=\"\",\"\",VLOOKUP(AM40,名簿男子!$A$2:$I$41,4))","v":""}]
[{"$f":"IF(M41=\"\",\"\",VLOOKUP(M41,名簿男子!$A$2:$I$101,2))","v":""},{"$f":"IF(M41=\"\",\"\",VLOOKUP(M41,名簿男子!$A$2:$I$101,4))","v":""},{"$f":"IF(M41=\"\",\"\",VLOOKUP(M41,名簿男子!$A$2:$I$101,6))","v":""},{"$f":"IF(M41=\"\",\"\",VLOOKUP(M41,名簿男子!$A$2:$I$101,7))","v":""},{"$f":"IF(M41=\"\",\"\",VLOOKUP(M41,名簿男子!$A$2:$I$101,8))","v":""},{"$f":"IF(M41=\"\",\"\",VLOOKUP(M41,名簿男子!$A$2:$I$101,9))","v":""},{"$f":"IF(N41=\"\",\"\",VLOOKUP(N41,名簿男子!$A$2:$I$101,9))","v":""},{"$f":"IF(O41=\"\",\"\",VLOOKUP(O41,名簿男子!$A$2:$I$101,9))","v":""},null,null,null,{"$f":"IF(M41=\"\",\"\",VLOOKUP(M41,名簿男子!$A$2:$I$101,3))","v":""},null,null,null,null,17,{"$f":"IF(Q41=\"\",\"\",VLOOKUP(Q41,名簿男子!$A$2:$I$101,3))","v":0},{"$f":"IF(Q41=\"\",\"\",VLOOKUP(Q41,名簿男子!$A$2:$I$101,9))","v":0},42,{"$f":"IF(T41=\"\",\"\",VLOOKUP(T41,名簿男子!$A$2:$I$101,3))","v":0},{"$f":"IF(T41=\"\",\"\",VLOOKUP(T41,名簿男子!$A$2:$I$101,9))","v":0},67,{"$f":"IF(W41=\"\",\"\",VLOOKUP(W41,名簿男子!$A$2:$I$101,3))","v":0},{"$f":"IF(W41=\"\",\"\",VLOOKUP(W41,名簿男子!$A$2:$I$101,9))","v":0},92,{"$f":"IF(Z41=\"\",\"\",VLOOKUP(Z41,名簿男子!$A$2:$I$101,3))","v":0},{"$f":"IF(Z41=\"\",\"\",VLOOKUP(Z41,名簿男子!$A$2:$I$101,9))","v":0}]
[null,{"$f":"IF(M41=\"\",\"\",VLOOKUP(M41,名簿男子!$A$2:$I$101,3))","v":""},null,null,null,null,null,null,null,null,null,null,null,null,null,null,null,{"$f":"IF(AC42=\"\",\"\",VLOOKUP(AC42,名簿男子!$A$2:$I$41,4))","v":""},{"$f":"IF(AD42=\"\",\"\",VLOOKUP(AD42,名簿男子!$A$2:$I$41,4))","v":""},null,{"$f":"IF(AF42=\"\",\"\",VLOOKUP(AF42,名簿男子!$A$2:$I$41,4))","v":""},{"$f":"IF(AG42=\"\",\"\",VLOOKUP(AG42,名簿男子!$A$2:$I$41,4))","v":""},null,{"$f":"IF(AI42=\"\",\"\",VLOOKUP(AI42,名簿男子!$A$2:$I$41,4))","v":""},{"$f":"IF(AJ42=\"\",\"\",VLOOKUP(AJ42,名簿男子!$A$2:$I$41,4))","v":""},null,{"$f":"IF(AL42=\"\",\"\",VLOOKUP(AL42,名簿男子!$A$2:$I$41,4))","v":""},{"$f":"IF(AM42=\"\",\"\",VLOOKUP(AM42,名簿男子!$A$2:$I$41,4))","v":""}]
[{"$f":"IF(M43=\"\",\"\",VLOOKUP(M43,名簿男子!$A$2:$I$101,2))","v":""},{"$f":"IF(M43=\"\",\"\",VLOOKUP(M43,名簿男子!$A$2:$I$101,4))","v":""},{"$f":"IF(M43=\"\",\"\",VLOOKUP(M43,名簿男子!$A$2:$I$101,6))","v":""},{"$f":"IF(M43=\"\",\"\",VLOOKUP(M43,名簿男子!$A$2:$I$101,7))","v":""},{"$f":"IF(M43=\"\",\"\",VLOOKUP(M43,名簿男子!$A$2:$I$101,8))","v":""},{"$f":"IF(M43=\"\",\"\",VLOOKUP(M43,名簿男子!$A$2:$I$101,9))","v":""},{"$f":"IF(N43=\"\",\"\",VLOOKUP(N43,名簿男子!$A$2:$I$101,9))","v":""},{"$f":"IF(O43=\"\",\"\",VLOOKUP(O43,名簿男子!$A$2:$I$101,9))","v":""},null,null,null,{"$f":"IF(M43=\"\",\"\",VLOOKUP(M43,名簿男子!$A$2:$I$101,3))","v":""},null,null,null,null,18,{"$f":"IF(Q43=\"\",\"\",VLOOKUP(Q43,名簿男子!$A$2:$I$101,3))","v":0},{"$f":"IF(Q43=\"\",\"\",VLOOKUP(Q43,名簿男子!$A$2:$I$101,9))","v":0},43,{"$f":"IF(T43=\"\",\"\",VLOOKUP(T43,名簿男子!$A$2:$I$101,3))","v":0},{"$f":"IF(T43=\"\",\"\",VLOOKUP(T43,名簿男子!$A$2:$I$101,9))","v":0},68,{"$f":"IF(W43=\"\",\"\",VLOOKUP(W43,名簿男子!$A$2:$I$101,3))","v":0},{"$f":"IF(W43=\"\",\"\",VLOOKUP(W43,名簿男子!$A$2:$I$101,9))","v":0},93,{"$f":"IF(Z43=\"\",\"\",VLOOKUP(Z43,名簿男子!$A$2:$I$101,3))","v":0},{"$f":"IF(Z43=\"\",\"\",VLOOKUP(Z43,名簿男子!$A$2:$I$101,9))","v":0}]
[null,{"$f":"IF(M43=\"\",\"\",VLOOKUP(M43,名簿男子!$A$2:$I$101,3))","v":""},null,null,null,null,null,null,null,null,null,null,null,null,null,null,null,{"$f":"IF(AC44=\"\",\"\",VLOOKUP(AC44,名簿男子!$A$2:$I$41,4))","v":""},{"$f":"IF(AD44=\"\",\"\",VLOOKUP(AD44,名簿男子!$A$2:$I$41,4))","v":""},null,{"$f":"IF(AF44=\"\",\"\",VLOOKUP(AF44,名簿男子!$A$2:$I$41,4))","v":""},{"$f":"IF(AG44=\"\",\"\",VLOOKUP(AG44,名簿男子!$A$2:$I$41,4))","v":""},null,{"$f":"IF(AI44=\"\",\"\",VLOOKUP(AI44,名簿男子!$A$2:$I$41,4))","v":""},{"$f":"IF(AJ44=\"\",\"\",VLOOKUP(AJ44,名簿男子!$A$2:$I$41,4))","v":""},null,{"$f":"IF(AL44=\"\",\"\",VLOOKUP(AL44,名簿男子!$A$2:$I$41,4))","v":""},{"$f":"IF(AM44=\"\",\"\",VLOOKUP(AM44,名簿男子!$A$2:$I$41,4))","v":""}]
[{"$f":"IF(M45=\"\",\"\",VLOOKUP(M45,名簿男子!$A$2:$I$101,2))","v":""},{"$f":"IF(M45=\"\",\"\",VLOOKUP(M45,名簿男子!$A$2:$I$101,4))","v":""},{"$f":"IF(M45=\"\",\"\",VLOOKUP(M45,名簿男子!$A$2:$I$101,6))","v":""},{"$f":"IF(M45=\"\",\"\",VLOOKUP(M45,名簿男子!$A$2:$I$101,7))","v":""},{"$f":"IF(M45=\"\",\"\",VLOOKUP(M45,名簿男子!$A$2:$I$101,8))","v":""},{"$f":"IF(M45=\"\",\"\",VLOOKUP(M45,名簿男子!$A$2:$I$101,9))","v":""},{"$f":"IF(N45=\"\",\"\",VLOOKUP(N45,名簿男子!$A$2:$I$101,9))","v":""},{"$f":"IF(O45=\"\",\"\",VLOOKUP(O45,名簿男子!$A$2:$I$101,9))","v":""},null,null,null,{"$f":"IF(M45=\"\",\"\",VLOOKUP(M45,名簿男子!$A$2:$I$101,3))","v":""},null,null,null,null,19,{"$f":"IF(Q45=\"\",\"\",VLOOKUP(Q45,名簿男子!$A$2:$I$101,3))","v":0},{"$f":"IF(Q45=\"\",\"\",VLOOKUP(Q45,名簿男子!$A$2:$I$101,9))","v":0},44,{"$f":"IF(T45=\"\",\"\",VLOOKUP(T45,名簿男子!$A$2:$I$101,3))","v":0},{"$f":"IF(T45=\"\",\"\",VLOOKUP(T45,名簿男子!$A$2:$I$101,9))","v":0},69,{"$f":"IF(W45=\"\",\"\",VLOOKUP(W45,名簿男子!$A$2:$I$101,3))","v":0},{"$f":"IF(W45=\"\",\"\",VLOOKUP(W45,名簿男子!$A$2:$I$101,9))","v":0},94,{"$f":"IF(Z45=\"\",\"\",VLOOKUP(Z45,名簿男子!$A$2:$I$101,3))","v":0},{"$f":"IF(Z45=\"\",\"\",VLOOKUP(Z45,名簿男子!$A$2:$I$101,9))","v":0}]
[null,{"$f":"IF(M45=\"\",\"\",VLOOKUP(M45,名簿男子!$A$2:$I$101,3))","v":""},null,null,null,null,null,null,null,null,null,null,null,null,null,null,null,{"$f":"IF(AC46=\"\",\"\",VLOOKUP(AC46,名簿男子!$A$2:$I$41,4))","v":""},{"$f":"IF(AD46=\"\",\"\",VLOOKUP(AD46,名簿男子!$A$2:$I$41,4))","v":""},null,{"$f":"IF(AF46=\"\",\"\",VLOOKUP(AF46,名簿男子!$A$2:$I$41,4))","v":""},{"$f":"IF(AG46=\"\",\"\",VLOOKUP(AG46,名簿男子!$A$2:$I$41,4))","v":""},null,{"$f":"IF(AI46=\"\",\"\",VLOOKUP(AI46,名簿男子!$A$2:$I$41,4))","v":""},{"$f":"IF(AJ46=\"\",\"\",VLOOKUP(AJ46,名簿男子!$A$2:$I$41,4))","v":""},null,{"$f":"IF(AL46=\"\",\"\",VLOOKUP(AL46,名簿男子!$A$2:$I$41,4))","v":""},{"$f":"IF(AM46=\"\",\"\",VLOOKUP(AM46,名簿男子!$A$2:$I$41,4))","v":""}]
[{"$f":"IF(M47=\"\",\"\",VLOOKUP(M47,名簿男子!$A$2:$I$101,2))","v":""},{"$f":"IF(M47=\"\",\"\",VLOOKUP(M47,名簿男子!$A$2:$I$101,4))","v":""},{"$f":"IF(M47=\"\",\"\",VLOOKUP(M47,名簿男子!$A$2:$I$101,6))","v":""},{"$f":"IF(M47=\"\",\"\",VLOOKUP(M47,名簿男子!$A$2:$I$101,7))","v":""},{"$f":"IF(M47=\"\",\"\",VLOOKUP(M47,名簿男子!$A$2:$I$101,8))","v":""},{"$f":"IF(M47=\"\",\"\",VLOOKUP(M47,名簿男子!$A$2:$I$101,9))","v":""},{"$f":"IF(N47=\"\",\"\",VLOOKUP(N47,名簿男子!$A$2:$I$101,9))","v":""},{"$f":"IF(O47=\"\",\"\",VLOOKUP(O47,名簿男子!$A$2:$I$101,9))","v":""},null,null,null,{"$f":"IF(M47=\"\",\"\",VLOOKUP(M47,名簿男子!$A$2:$I$101,3))","v":""},null,null,null,null,20,{"$f":"IF(Q47=\"\",\"\",VLOOKUP(Q47,名簿男子!$A$2:$I$101,3))","v":0},{"$f":"IF(Q47=\"\",\"\",VLOOKUP(Q47,名簿男子!$A$2:$I$101,9))","v":0},45,{"$f":"IF(T47=\"\",\"\",VLOOKUP(T47,名簿男子!$A$2:$I$101,3))","v":0},{"$f":"IF(T47=\"\",\"\",VLOOKUP(T47,名簿男子!$A$2:$I$101,9))","v":0},70,{"$f":"IF(W47=\"\",\"\",VLOOKUP(W47,名簿男子!$A$2:$I$101,3))","v":0},{"$f":"IF(W47=\"\",\"\",VLOOKUP(W47,名簿男子!$A$2:$I$101,9))","v":0},95,{"$f":"IF(Z47=\"\",\"\",VLOOKUP(Z47,名簿男子!$A$2:$I$101,3))","v":0},{"$f":"IF(Z47=\"\",\"\",VLOOKUP(Z47,名簿男子!$A$2:$I$101,9))","v":0}]
[null,{"$f":"IF(M47=\"\",\"\",VLOOKUP(M47,名簿男子!$A$2:$I$101,3))","v":""},null,null,null,null,null,null,null,null,null,null,null,null,null,null,null,{"$f":"IF(AC48=\"\",\"\",VLOOKUP(AC48,名簿男子!$A$2:$I$41,4))","v":""},{"$f":"IF(AD48=\"\",\"\",VLOOKUP(AD48,名簿男子!$A$2:$I$41,4))","v":""},null,{"$f":"IF(AF48=\"\",\"\",VLOOKUP(AF48,名簿男子!$A$2:$I$41,4))","v":""},{"$f":"IF(AG48=\"\",\"\",VLOOKUP(AG48,名簿男子!$A$2:$I$41,4))","v":""},null,{"$f":"IF(AI48=\"\",\"\",VLOOKUP(AI48,名簿男子!$A$2:$I$41,4))","v":""},{"$f":"IF(AJ48=\"\",\"\",VLOOKUP(AJ48,名簿男子!$A$2:$I$41,4))","v":""},null,{"$f":"IF(AL48=\"\",\"\",VLOOKUP(AL48,名簿男子!$A$2:$I$41,4))","v":""},{"$f":"IF(AM48=\"\",\"\",VLOOKUP(AM48,名簿男子!$A$2:$I$41,4))","v":""}]
[{"$f":"IF(M49=\"\",\"\",VLOOKUP(M49,名簿男子!$A$2:$I$101,2))","v":""},{"$f":"IF(M49=\"\",\"\",VLOOKUP(M49,名簿男子!$A$2:$I$101,4))","v":""},{"$f":"IF(M49=\"\",\"\",VLOOKUP(M49,名簿男子!$A$2:$I$101,6))","v":""},{"$f":"IF(M49=\"\",\"\",VLOOKUP(M49,名簿男子!$A$2:$I$101,7))","v":""},{"$f":"IF(M49=\"\",\"\",VLOOKUP(M49,名簿男子!$A$2:$I$101,8))","v":""},{"$f":"IF(M49=\"\",\"\",VLOOKUP(M49,名簿男子!$A$2:$I$101,9))","v":""},{"$f":"IF(N49=\"\",\"\",VLOOKUP(N49,名簿男子!$A$2:$I$101,9))","v":""},{"$f":"IF(O49=\"\",\"\",VLOOKUP(O49,名簿男子!$A$2:$I$101,9))","v":""},null,null,null,{"$f":"IF(M49=\"\",\"\",VLOOKUP(M49,名簿男子!$A$2:$I$101,3))","v":""},null,null,null,null,21,{"$f":"IF(Q49=\"\",\"\",VLOOKUP(Q49,名簿男子!$A$2:$I$101,3))","v":0},{"$f":"IF(Q49=\"\",\"\",VLOOKUP(Q49,名簿男子!$A$2:$I$101,9))","v":0},46,{"$f":"IF(T49=\"\",\"\",VLOOKUP(T49,名簿男子!$A$2:$I$101,3))","v":0},{"$f":"IF(T49=\"\",\"\",VLOOKUP(T49,名簿男子!$A$2:$I$101,9))","v":0},71,{"$f":"IF(W49=\"\",\"\",VLOOKUP(W49,名簿男子!$A$2:$I$101,3))","v":0},{"$f":"IF(W49=\"\",\"\",VLOOKUP(W49,名簿男子!$A$2:$I$101,9))","v":0},96,{"$f":"IF(Z49=\"\",\"\",VLOOKUP(Z49,名簿男子!$A$2:$I$101,3))","v":0},{"$f":"IF(Z49=\"\",\"\",VLOOKUP(Z49,名簿男子!$A$2:$I$101,9))","v":0}]
[null,{"$f":"IF(M49=\"\",\"\",VLOOKUP(M49,名簿男子!$A$2:$I$101,3))","v":""},null,null,null,null,null,null,null,null,null,null,null,null,null,null,null,{"$f":"IF(AC50=\"\",\"\",VLOOKUP(AC50,名簿男子!$A$2:$I$41,4))","v":""},{"$f":"IF(AD50=\"\",\"\",VLOOKUP(AD50,名簿男子!$A$2:$I$41,4))","v":""},null,{"$f":"IF(AF50=\"\",\"\",VLOOKUP(AF50,名簿男子!$A$2:$I$41,4))","v":""},{"$f":"IF(AG50=\"\",\"\",VLOOKUP(AG50,名簿男子!$A$2:$I$41,4))","v":""},null,{"$f":"IF(AI50=\"\",\"\",VLOOKUP(AI50,名簿男子!$A$2:$I$41,4))","v":""},{"$f":"IF(AJ50=\"\",\"\",VLOOKUP(AJ50,名簿男子!$A$2:$I$41,4))","v":""},null,{"$f":"IF(AL50=\"\",\"\",VLOOKUP(AL50,名簿男子!$A$2:$I$41,4))","v":""},{"$f":"IF(AM50=\"\",\"\",VLOOKUP(AM50,名簿男子!$A$2:$I$41,4))","v":""}]
[{"$f":"IF(M51=\"\",\"\",VLOOKUP(M51,名簿男子!$A$2:$I$101,2))","v":""},{"$f":"IF(M51=\"\",\"\",VLOOKUP(M51,名簿男子!$A$2:$I$101,4))","v":""},{"$f":"IF(M51=\"\",\"\",VLOOKUP(M51,名簿男子!$A$2:$I$101,6))","v":""},{"$f":"IF(M51=\"\",\"\",VLOOKUP(M51,名簿男子!$A$2:$I$101,7))","v":""},{"$f":"IF(M51=\"\",\"\",VLOOKUP(M51,名簿男子!$A$2:$I$101,8))","v":""},{"$f":"IF(M51=\"\",\"\",VLOOKUP(M51,名簿男子!$A$2:$I$101,9))","v":""},{"$f":"IF(N51=\"\",\"\",VLOOKUP(N51,名簿男子!$A$2:$I$101,9))","v":""},{"$f":"IF(O51=\"\",\"\",VLOOKUP(O51,名簿男子!$A$2:$I$101,9))","v":""},null,null,null,{"$f":"IF(M51=\"\",\"\",VLOOKUP(M51,名簿男子!$A$2:$I$101,3))","v":""},null,null,null,null,22,{"$f":"IF(Q51=\"\",\"\",VLOOKUP(Q51,名簿男子!$A$2:$I$101,3))","v":0},{"$f":"IF(Q51=\"\",\"\",VLOOKUP(Q51,名簿男子!$A$2:$I$101,9))","v":0},47,{"$f":"IF(T51=\"\",\"\",VLOOKUP(T51,名簿男子!$A$2:$I$101,3))","v":0},{"$f":"IF(T51=\"\",\"\",VLOOKUP(T51,名簿男子!$A$2:$I$101,9))","v":0},72,{"$f":"IF(W51=\"\",\"\",VLOOKUP(W51,名簿男子!$A$2:$I$101,3))","v":0},{"$f":"IF(W51=\"\",\"\",VLOOKUP(W51,名簿男子!$A$2:$I$101,9))","v":0},97,{"$f":"IF(Z51=\"\",\"\",VLOOKUP(Z51,名簿男子!$A$2:$I$101,3))","v":0},{"$f":"IF(Z51=\"\",\"\",VLOOKUP(Z51,名簿男子!$A$2:$I$101,9))","v":0}]
[null,{"$f":"IF(M51=\"\",\"\",VLOOKUP(M51,名簿男子!$A$2:$I$101,3))","v":""},null,null,null,null,null,null,null,null,null,null,null,null,null,null,null,{"$f":"IF(AC52=\"\",\"\",VLOOKUP(AC52,名簿男子!$A$2:$I$41,4))","v":""},{"$f":"IF(AD52=\"\",\"\",VLOOKUP(AD52,名簿男子!$A$2:$I$41,4))","v":""},null,{"$f":"IF(AF52=\"\",\"\",VLOOKUP(AF52,名簿男子!$A$2:$I$41,4))","v":""},{"$f":"IF(AG52=\"\",\"\",VLOOKUP(AG52,名簿男子!$A$2:$I$41,4))","v":""},null,{"$f":"IF(AI52=\"\",\"\",VLOOKUP(AI52,名簿男子!$A$2:$I$41,4))","v":""},{"$f":"IF(AJ52=\"\",\"\",VLOOKUP(AJ52,名簿男子!$A$2:$I$41,4))","v":""},null,{"$f":"IF(AL52=\"\",\"\",VLOOKUP(AL52,名簿男子!$A$2:$I$41,4))","v":""},{"$f":"IF(AM52=\"\",\"\",VLOOKUP(AM52,名簿男子!$A$2:$I$41,4))","v":""}]
[{"$f":"IF(M53=\"\",\"\",VLOOKUP(M53,名簿男子!$A$2:$I$101,2))","v":""},{"$f":"IF(M53=\"\",\"\",VLOOKUP(M53,名簿男子!$A$2:$I$101,4))","v":""},{"$f":"IF(M53=\"\",\"\",VLOOKUP(M53,名簿男子!$A$2:$I$101,6))","v":""},{"$f":"IF(M53=\"\",\"\",VLOOKUP(M53,名簿男子!$A$2:$I$101,7))","v":""},{"$f":"IF(M53=\"\",\"\",VLOOKUP(M53,名簿男子!$A$2:$I$101,8))","v":""},{"$f":"IF(M53=\"\",\"\",VLOOKUP(M53,名簿男子!$A$2:$I$101,9))","v":""},{"$f":"IF(N53=\"\",\"\",VLOOKUP(N53,名簿男子!$A$2:$I$101,9))","v":""},{"$f":"IF(O53=\"\",\"\",VLOOKUP(O53,名簿男子!$A$2:$I$101,9))","v":""},null,null,null,{"$f":"IF(M53=\"\",\"\",VLOOKUP(M53,名簿男子!$A$2:$I$101,3))","v":""},null,null,null,null,23,{"$f":"IF(Q53=\"\",\"\",VLOOKUP(Q53,名簿男子!$A$2:$I$101,3))","v":0},{"$f":"IF(Q53=\"\",\"\",VLOOKUP(Q53,名簿男子!$A$2:$I$101,9))","v":0},48,{"$f":"IF(T53=\"\",\"\",VLOOKUP(T53,名簿男子!$A$2:$I$101,3))","v":0},{"$f":"IF(T53=\"\",\"\",VLOOKUP(T53,名簿男子!$A$2:$I$101,9))","v":0},73,{"$f":"IF(W53=\"\",\"\",VLOOKUP(W53,名簿男子!$A$2:$I$101,3))","v":0},{"$f":"IF(W53=\"\",\"\",VLOOKUP(W53,名簿男子!$A$2:$I$101,9))","v":0},98,{"$f":"IF(Z53=\"\",\"\",VLOOKUP(Z53,名簿男子!$A$2:$I$101,3))","v":0},{"$f":"IF(Z53=\"\",\"\",VLOOKUP(Z53,名簿男子!$A$2:$I$101,9))","v":0}]
[null,{"$f":"IF(M53=\"\",\"\",VLOOKUP(M53,名簿男子!$A$2:$I$101,3))","v":""},null,null,null,null,null,null,null,null,null,null,null,null,null,null,null,{"$f":"IF(AC54=\"\",\"\",VLOOKUP(AC54,名簿男子!$A$2:$I$41,4))","v":""},{"$f":"IF(AD54=\"\",\"\",VLOOKUP(AD54,名簿男子!$A$2:$I$41,4))","v":""},null,{"$f":"IF(AF54=\"\",\"\",VLOOKUP(AF54,名簿男子!$A$2:$I$41,4))","v":""},{"$f":"IF(AG54=\"\",\"\",VLOOKUP(AG54,名簿男子!$A$2:$I$41,4))","v":""},null,{"$f":"IF(AI54=\"\",\"\",VLOOKUP(AI54,名簿男子!$A$2:$I$41,4))","v":""},{"$f":"IF(AJ54=\"\",\"\",VLOOKUP(AJ54,名簿男子!$A$2:$I$41,4))","v":""},null,{"$f":"IF(AL54=\"\",\"\",VLOOKUP(AL54,名簿男子!$A$2:$I$41,4))","v":""},{"$f":"IF(AM54=\"\",\"\",VLOOKUP(AM54,名簿男子!$A$2:$I$41,4))","v":""}]
[{"$f":"IF(M55=\"\",\"\",VLOOKUP(M55,名簿男子!$A$2:$I$101,2))","v":""},{"$f":"IF(M55=\"\",\"\",VLOOKUP(M55,名簿男子!$A$2:$I$101,4))","v":""},{"$f":"IF(M55=\"\",\"\",VLOOKUP(M55,名簿男子!$A$2:$I$101,6))","v":""},{"$f":"IF(M55=\"\",\"\",VLOOKUP(M55,名簿男子!$A$2:$I$101,7))","v":""},{"$f":"IF(M55=\"\",\"\",VLOOKUP(M55,名簿男子!$A$2:$I$101,8))","v":""},{"$f":"IF(M55=\"\",\"\",VLOOKUP(M55,名簿男子!$A$2:$I$101,9))","v":""},{"$f":"IF(N55=\"\",\"\",VLOOKUP(N55,名簿男子!$A$2:$I$101,9))","v":""},{"$f":"IF(O55=\"\",\"\",VLOOKUP(O55,名簿男子!$A$2:$I$101,9))","v":""},null,null,null,{"$f":"IF(M55=\"\",\"\",VLOOKUP(M55,名簿男子!$A$2:$I$101,3))","v":""},null,null,null,null,24,{"$f":"IF(Q55=\"\",\"\",VLOOKUP(Q55,名簿男子!$A$2:$I$101,3))","v":0},{"$f":"IF(Q55=\"\",\"\",VLOOKUP(Q55,名簿男子!$A$2:$I$101,9))","v":0},49,{"$f":"IF(T55=\"\",\"\",VLOOKUP(T55,名簿男子!$A$2:$I$101,3))","v":0},{"$f":"IF(T55=\"\",\"\",VLOOKUP(T55,名簿男子!$A$2:$I$101,9))","v":0},74,{"$f":"IF(W55=\"\",\"\",VLOOKUP(W55,名簿男子!$A$2:$I$101,3))","v":0},{"$f":"IF(W55=\"\",\"\",VLOOKUP(W55,名簿男子!$A$2:$I$101,9))","v":0},99,{"$f":"IF(Z55=\"\",\"\",VLOOKUP(Z55,名簿男子!$A$2:$I$101,3))","v":0},{"$f":"IF(Z55=\"\",\"\",VLOOKUP(Z55,名簿男子!$A$2:$I$101,9))","v":0}]
[null,{"$f":"IF(M55=\"\",\"\",VLOOKUP(M55,名簿男子!$A$2:$I$101,3))","v":""},null,null,null,null,null,null,null,null,null,null,null,null,null,null,null,{"$f":"IF(AC56=\"\",\"\",VLOOKUP(AC56,名簿男子!$A$2:$I$41,4))","v":""},{"$f":"IF(AD56=\"\",\"\",VLOOKUP(AD56,名簿男子!$A$2:$I$41,4))","v":""},null,{"$f":"IF(AF56=\"\",\"\",VLOOKUP(AF56,名簿男子!$A$2:$I$41,4))","v":""},{"$f":"IF(AG56=\"\",\"\",VLOOKUP(AG56,名簿男子!$A$2:$I$41,4))","v":""},null,{"$f":"IF(AI56=\"\",\"\",VLOOKUP(AI56,名簿男子!$A$2:$I$41,4))","v":""},{"$f":"IF(AJ56=\"\",\"\",VLOOKUP(AJ56,名簿男子!$A$2:$I$41,4))","v":""},null,{"$f":"IF(AL56=\"\",\"\",VLOOKUP(AL56,名簿男子!$A$2:$I$41,4))","v":""},{"$f":"IF(AM56=\"\",\"\",VLOOKUP(AM56,名簿男子!$A$2:$I$41,4))","v":""}]
[{"$f":"IF(M57=\"\",\"\",VLOOKUP(M57,名簿男子!$A$2:$I$101,2))","v":""},{"$f":"IF(M57=\"\",\"\",VLOOKUP(M57,名簿男子!$A$2:$I$101,4))","v":""},{"$f":"IF(M57=\"\",\"\",VLOOKUP(M57,名簿男子!$A$2:$I$101,6))","v":""},{"$f":"IF(M57=\"\",\"\",VLOOKUP(M57,名簿男子!$A$2:$I$101,7))","v":""},{"$f":"IF(M57=\"\",\"\",VLOOKUP(M57,名簿男子!$A$2:$I$101,8))","v":""},{"$f":"IF(M57=\"\",\"\",VLOOKUP(M57,名簿男子!$A$2:$I$101,9))","v":""},{"$f":"IF(N57=\"\",\"\",VLOOKUP(N57,名簿男子!$A$2:$I$101,9))","v":""},{"$f":"IF(O57=\"\",\"\",VLOOKUP(O57,名簿男子!$A$2:$I$101,9))","v":""},null,null,null,{"$f":"IF(M57=\"\",\"\",VLOOKUP(M57,名簿男子!$A$2:$I$101,3))","v":""},null,null,null,null,25,{"$f":"IF(Q57=\"\",\"\",VLOOKUP(Q57,名簿男子!$A$2:$I$101,3))","v":0},{"$f":"IF(Q57=\"\",\"\",VLOOKUP(Q57,名簿男子!$A$2:$I$101,9))","v":0},50,{"$f":"IF(T57=\"\",\"\",VLOOKUP(T57,名簿男子!$A$2:$I$101,3))","v":0},{"$f":"IF(T57=\"\",\"\",VLOOKUP(T57,名簿男子!$A$2:$I$101,9))","v":0},75,{"$f":"IF(W57=\"\",\"\",VLOOKUP(W57,名簿男子!$A$2:$I$101,3))","v":0},{"$f":"IF(W57=\"\",\"\",VLOOKUP(W57,名簿男子!$A$2:$I$101,9))","v":0},100,{"$f":"IF(Z57=\"\",\"\",VLOOKUP(Z57,名簿男子!$A$2:$I$101,3))","v":0},{"$f":"IF(Z57=\"\",\"\",VLOOKUP(Z57,名簿男子!$A$2:$I$101,9))","v":0}]
[null,{"$f":"IF(M57=\"\",\"\",VLOOKUP(M57,名簿男子!$A$2:$I$101,3))","v":""},null,null,null,null,null,null,null,null,null,null,null,null,null,null,null,{"$f":"IF(AC58=\"\",\"\",VLOOKUP(AC58,名簿男子!$A$2:$I$41,4))","v":""},{"$f":"IF(AD58=\"\",\"\",VLOOKUP(AD58,名簿男子!$A$2:$I$41,4))","v":""},null,{"$f":"IF(AF58=\"\",\"\",VLOOKUP(AF58,名簿男子!$A$2:$I$41,4))","v":""},{"$f":"IF(AG58=\"\",\"\",VLOOKUP(AG58,名簿男子!$A$2:$I$41,4))","v":""},null,{"$f":"IF(AI58=\"\",\"\",VLOOKUP(AI58,名簿男子!$A$2:$I$41,4))","v":""},{"$f":"IF(AJ58=\"\",\"\",VLOOKUP(AJ58,名簿男子!$A$2:$I$41,4))","v":""},null,{"$f":"IF(AL58=\"\",\"\",VLOOKUP(AL58,名簿男子!$A$2:$I$41,4))","v":""},{"$f":"IF(AM58=\"\",\"\",VLOOKUP(AM58,名簿男子!$A$2:$I$41,4))","v":""}]

{"sheet":"様式２男子","index":3,"n_rows":120,"n_cols":88,"rows_kept":120,"cut":false,"hidden":false,"merged":[[38,72,39,72],[38,73,39,73],[38,74,38,76],[38,77,39,77],[38,78,39,78],[38,79,38,81],[40,73,40,76],[40,78,40,81],[40,84,40,87],[38,83,39,83],[38,84,39,84],[38,85,38,87],[39,74,39,76],[39,79,39,81],[39,85,39,87],[38,55,39,55],[38,56,39,56],[38,57,38,59],[38,61,39,61],[38,62,39,62],[38,63,38,65],[38,66,39,66],[38,67,39,67],[38,68,38,70],[39,57,39,59],[39,63,39,65],[39,68,39,70],[3,62,3,63],[3,67,3,68],[3,73,3,74],[3,78,3,79],[3,84,3,85],[2,65,3,65],[2,69,3,69],[2,70,3,70],[2,75,3,75],[2,76,3,76],[2,62,2,63],[2,67,2,68],[2,73,2,74],[2,80,3,80],[2,81,3,81],[12,45,12,46],[12,51,12,52],[12,56,12,57],[23,45,23,46],[23,51,23,52],[23,56,23,57],[33,45,33,46],[33,51,33,52],[33,56,33,57],[13,45,13,46],[13,51,13,52],[13,56,13,57],[24,45,24,46],[24,51,24,52],[24,56,24,57],[27,45,27,48],[27,51,27,54],[27,56,27,59],[25,45,26,46],[25,48,26,48],[25,51,26,52],[25,54,26,54],[25,56,26,57],[25,59,26,59],[28,11,29,11],[28,12,29,12],[28,13,28,15],[28,17,29,17],[28,18,29,18],[28,19,28,21],[29,13,29,15],[29,19,29,21],[30,12,30,15],[30,18,30,21],[24,40,24,41],[2,34,2,35],[2,40,2,41],[3,34,3,35],[3,40,3,41],[12,34,12,35],[12,40,12,41],[13,34,13,35],[13,40,13,41],[23,34,23,35],[23,40,23,41],[17,39,18,39],[17,40,18,40],[17,41,17,43],[18,41,18,43],[2,42,3,42],[2,43,3,43],[2,14,3,14],[2,15,3,15],[2,20,3,20],[2,21,3,21],[2,3,3,3],[2,4,3,4],[2,9,3,9],[2,10,3,10],[2,7,2,8],[3,7,3,8],[2,12,2,13],[2,18,2,19],[3,12,3,13],[3,18,3,19],[4,18,5,19],[4,21,5,21],[6,1,6,4],[6,7,6,10],[6,12,6,15],[6,18,6,21],[4,1,5,2],[4,4,5,4],[4,7,5,8],[4,10,5,10],[4,12,5,13],[4,15,5,15],[7,11,8,11],[7,12,8,12],[7,13,7,15],[7,17,8,17],[7,18,8,18],[7,19,7,21],[8,13,8,15],[8,19,8,21],[7,0,8,0],[7,1,8,1],[7,2,7,4],[7,6,8,6],[7,7,8,7],[7,8,7,10],[8,2,8,4],[8,8,8,10],[9,1,9,4],[9,7,9,10],[9,12,9,15],[9,18,9,21],[12,3,13,3],[12,4,13,4],[12,9,13,9],[12,10,13,10],[12,1,12,2],[13,1,13,2],[12,7,12,8],[13,7,13,8],[12,12,12,13],[12,18,12,19],[13,12,13,13],[13,18,13,19],[17,0,18,0],[17,1,18,1],[17,2,17,4],[17,6,18,6],[17,7,18,7],[17,8,17,10],[18,2,18,4],[18,8,18,10],[14,18,15,19],[16,1,16,4],[16,7,16,10],[16,12,16,15],[16,18,16,21],[14,1,15,2],[14,4,15,4],[14,7,15,8],[14,10,15,10],[14,12,15,13],[14,15,15,15],[23,20,24,20],[23,21,24,21],[19,1,19,4],[19,7,19,10],[19,12,19,15],[19,18,19,21],[23,3,24,3],[23,4,24,4],[23,9,24,9],[23,10,24,10],[23,1,23,2],[24,1,24,2],[23,7,23,8],[24,7,24,8],[23,12,23,13],[23,18,23,19],[24,12,24,13],[24,18,24,19],[25,21,26,21],[27,1,27,4],[27,7,27,10],[27,12,27,15],[27,18,27,21],[25,1,26,2],[25,4,26,4],[25,7,26,8],[25,10,26,10],[25,12,26,13],[25,15,26,15],[25,18,26,19],[28,0,29,0],[28,1,29,1],[28,2,28,4],[28,6,29,6],[28,7,29,7],[28,8,28,10],[29,2,29,4],[29,8,29,10],[30,1,30,4],[30,7,30,10],[40,1,40,4],[40,7,40,10],[40,12,40,15],[40,18,40,21],[34,1,34,2],[34,7,34,8],[34,12,34,13],[34,18,34,19],[33,20,34,20],[33,21,34,21],[35,1,36,2],[35,4,36,4],[35,7,36,8],[35,10,36,10],[35,12,36,13],[35,15,36,15],[35,18,36,19],[35,21,36,21],[33,12,33,13],[33,14,34,14],[33,15,34,15],[38,11,39,11],[38,12,39,12],[38,13,38,15],[4,23,5,24],[4,26,5,26],[4,29,5,30],[4,32,5,32],[4,34,5,35],[4,37,5,37],[4,40,5,41],[4,43,5,43],[2,25,3,25],[2,26,3,26],[2,31,3,31],[2,32,3,32],[2,36,3,36],[2,37,3,37],[2,23,2,24],[2,29,2,30],[3,23,3,24],[3,29,3,30],[6,23,6,26],[6,29,6,32],[6,34,6,37],[6,40,6,43],[7,22,8,22],[7,23,8,23],[7,24,7,26],[7,28,8,28],[7,29,8,29],[7,30,7,32],[7,33,8,33],[7,34,8,34],[7,35,7,37],[7,39,8,39],[7,40,8,40],[7,41,7,43],[8,24,8,26],[8,30,8,32],[8,35,8,37],[8,41,8,43],[9,23,9,26],[9,29,9,32],[9,34,9,37],[9,40,9,43],[12,25,13,25],[12,26,13,26],[12,31,13,31],[12,32,13,32],[12,36,13,36],[12,37,13,37],[12,42,13,42],[12,43,13,43],[12,23,12,24],[12,29,12,30],[13,23,13,24],[13,29,13,30],[14,23,15,24],[14,26,15,26],[14,29,15,30],[14,32,15,32],[14,34,15,35],[14,37,15,37],[14,40,15,41],[14,43,15,43],[16,23,16,26],[16,29,16,32],[16,34,16,37],[16,40,16,43],[23,23,23,24],[23,29,23,30],[24,23,24,24],[24,29,24,30],[24,34,24,35],[17,22,18,22],[17,23,18,23],[17,24,17,26],[17,28,18,28],[17,29,18,29],[17,30,17,32],[17,33,18,33],[17,34,18,34],[17,35,17,37],[18,24,18,26],[18,30,18,32],[18,35,18,37],[28,22,29,22],[28,23,29,23],[28,24,28,26],[28,28,29,28],[28,29,29,29],[28,30,28,32],[28,33,29,33],[28,34,29,34],[28,35,28,37],[29,24,29,26],[29,30,29,32],[29,35,29,37],[34,34,34,35],[34,40,34,41],[33,34,33,35],[33,36,34,36],[33,37,34,37],[33,40,33,41],[33,42,34,42],[33,43,34,43],[27,23,27,26],[27,29,27,32],[27,34,27,37],[27,40,27,43],[28,39,29,39],[28,40,29,40],[28,41,28,43],[29,41,29,43],[33,23,33,24],[33,25,34,25],[33,26,34,26],[33,29,33,30],[33,31,34,31],[33,32,34,32],[34,23,34,24],[34,29,34,30],[30,23,30,26],[30,29,30,32],[30,34,30,37],[30,40,30,43],[19,23,19,26],[19,29,19,32],[19,34,19,37],[19,40,19,43],[23,42,24,42],[23,43,24,43],[25,23,26,24],[25,26,26,26],[25,29,26,30],[25,32,26,32],[25,34,26,35],[25,37,26,37],[25,40,26,41],[25,43,26,43],[23,25,24,25],[23,26,24,26],[23,31,24,31],[23,32,24,32],[23,36,24,36],[23,37,24,37],[6,45,6,48],[6,51,6,54],[6,56,6,59],[2,58,3,58],[2,59,3,59],[9,45,9,48],[9,51,9,54],[9,56,9,59],[16,45,16,48],[16,51,16,54],[16,56,16,59],[2,47,3,47],[2,48,3,48],[2,53,3,53],[2,54,3,54],[14,45,15,46],[14,48,15,48],[14,51,15,52],[14,54,15,54],[14,56,15,57],[14,59,15,59],[2,45,2,46],[2,51,2,52],[2,56,2,57],[2,86,3,86],[2,87,3,87],[4,45,5,46],[4,48,5,48],[4,51,5,52],[4,54,5,54],[4,56,5,57],[4,59,5,59],[4,62,5,63],[4,65,5,65],[4,67,5,68],[4,70,5,70],[4,73,5,74],[4,76,5,76],[4,78,5,79],[4,81,5,81],[4,84,5,85],[4,87,5,87],[2,64,3,64],[2,78,2,79],[2,84,2,85],[3,45,3,46],[3,51,3,52],[3,56,3,57],[6,62,6,65],[6,67,6,70],[6,73,6,76],[6,78,6,81],[6,84,6,87],[7,44,8,44],[7,45,8,45],[7,46,7,48],[7,50,8,50],[7,51,8,51],[7,52,7,54],[7,55,8,55],[7,56,8,56],[7,57,7,59],[7,61,8,61],[7,62,8,62],[7,63,7,65],[7,66,8,66],[7,67,8,67],[7,68,7,70],[7,72,8,72],[7,73,8,73],[7,74,7,76],[7,77,8,77],[7,78,8,78],[7,79,7,81],[7,83,8,83],[7,84,8,84],[7,85,7,87],[8,46,8,48],[8,52,8,54],[8,57,8,59],[8,63,8,65],[8,68,8,70],[8,74,8,76],[8,79,8,81],[8,85,8,87],[9,62,9,65],[9,67,9,70],[9,73,9,76],[9,78,9,81],[9,84,9,87],[12,47,13,47],[12,48,13,48],[12,53,13,53],[12,54,13,54],[12,58,13,58],[12,59,13,59],[12,64,13,64],[12,65,13,65],[12,69,13,69],[12,70,13,70],[12,75,13,75],[12,76,13,76],[12,80,13,80],[12,81,13,81],[12,86,13,86],[12,87,13,87],[12,78,12,79],[12,84,12,85],[13,62,13,63],[14,87,15,87],[12,62,12,63],[12,67,12,68],[12,73,12,74],[16,62,16,65],[16,67,16,70],[16,73,16,76],[16,78,16,81],[16,84,16,87],[14,62,15,63],[14,65,15,65],[14,67,15,68],[14,70,15,70],[14,73,15,74],[14,76,15,76],[14,78,15,79],[14,81,15,81],[14,84,15,85],[13,67,13,68],[13,73,13,74],[13,78,13,79],[13,84,13,85],[17,44,18,44],[17,45,18,45],[17,46,17,48],[17,50,18,50],[17,51,18,51],[17,52,17,54],[17,55,18,55],[17,56,18,56],[17,57,17,59],[17,77,18,77],[17,78,18,78],[17,79,17,81],[17,83,18,83],[17,84,18,84],[17,85,17,87],[18,46,18,48],[18,52,18,54],[18,57,18,59],[18,63,18,65],[18,68,18,70],[18,74,18,76],[18,79,18,81],[18,85,18,87],[17,61,18,61],[17,62,18,62],[17,63,17,65],[17,66,18,66],[17,67,18,67],[17,68,17,70],[17,72,18,72],[17,73,18,73],[17,74,17,76],[19,62,19,65],[19,67,19,70],[19,73,19,76],[19,78,19,81],[19,84,19,87],[23,47,24,47],[23,48,24,48],[23,53,24,53],[23,54,24,54],[23,58,24,58],[23,59,24,59],[23,64,24,64],[23,65,24,65],[23,69,24,69],[23,70,24,70],[23,75,24,75],[23,76,24,76],[23,80,24,80],[23,81,24,81],[23,86,24,86],[23,87,24,87],[19,45,19,48],[19,51,19,54],[19,56,19,59],[25,87,26,87],[23,62,23,63],[23,67,23,68],[23,73,23,74],[23,78,23,79],[23,84,23,85],[24,62,24,63],[24,67,24,68],[24,73,24,74],[24,78,24,79],[24,84,24,85],[25,62,26,63],[25,65,26,65],[25,67,26,68],[25,70,26,70],[25,73,26,74],[25,76,26,76],[25,78,26,79],[25,81,26,81],[25,84,26,85],[27,62,27,65],[27,67,27,70],[27,73,27,76],[27,78,27,81],[27,84,27,87],[28,44,29,44],[28,45,29,45],[28,46,28,48],[28,50,29,50],[28,51,29,51],[28,52,28,54],[28,55,29,55],[28,56,29,56],[28,57,28,59],[28,61,29,61],[28,62,29,62],[28,63,28,65],[28,66,29,66],[28,67,29,67],[28,68,28,70],[28,72,29,72],[28,73,29,73],[28,74,28,76],[28,77,29,77],[28,78,29,78],[28,79,28,81],[28,83,29,83],[28,84,29,84],[28,85,28,87],[29,46,29,48],[29,52,29,54],[29,57,29,59],[29,63,29,65],[29,68,29,70],[29,74,29,76],[29,79,29,81],[29,85,29,87],[30,45,30,48],[30,51,30,54],[30,56,30,59],[30,62,30,65],[30,67,30,70],[30,73,30,76],[30,78,30,81],[30,84,30,87],[33,64,34,64],[33,65,34,65],[33,69,34,69],[33,70,34,70],[33,75,34,75],[33,62,33,63],[33,67,33,68],[33,73,33,74],[33,78,33,79],[33,84,33,85],[34,62,34,63],[34,67,34,68],[34,73,34,74],[33,86,34,86],[33,87,34,87],[34,45,34,46],[35,78,36,79],[35,81,36,81],[35,84,36,85],[33,47,34,47],[33,48,34,48],[33,53,34,53],[33,54,34,54],[33,58,34,58],[33,59,34,59],[34,78,34,79],[34,84,34,85],[35,56,36,57],[33,76,34,76],[33,80,34,80],[33,81,34,81],[34,51,34,52],[34,56,34,57],[35,48,36,48],[35,51,36,52],[35,54,36,54],[2,1,2,2],[3,1,3,2],[33,1,33,2],[33,3,34,3],[33,4,34,4],[33,7,33,8],[33,9,34,9],[33,10,34,10],[33,18,33,19],[23,14,24,14],[23,15,24,15],[17,11,18,11],[17,12,18,12],[17,13,17,15],[17,17,18,17],[17,18,18,18],[17,19,17,21],[18,13,18,15],[18,19,18,21],[14,21,15,21],[12,14,13,14],[12,15,13,15],[12,20,13,20],[12,21,13,21],[35,23,36,24],[35,26,36,26],[35,29,36,30],[35,32,36,32],[35,34,36,35],[35,37,36,37],[35,40,36,41],[35,43,36,43],[35,45,36,46],[35,87,36,87],[37,1,37,4],[37,7,37,10],[37,12,37,15],[37,18,37,21],[37,23,37,26],[37,29,37,32],[37,34,37,37],[37,40,37,43],[37,45,37,48],[37,51,37,54],[37,56,37,59],[37,62,37,65],[37,67,37,70],[37,73,37,76],[37,78,37,81],[37,84,37,87],[35,59,36,59],[35,62,36,63],[35,65,36,65],[35,67,36,68],[35,70,36,70],[35,73,36,74],[35,76,36,76],[38,0,39,0],[38,1,39,1],[38,2,38,4],[38,6,39,6],[38,7,39,7],[38,8,38,10],[38,46,38,48],[38,50,39,50],[38,51,39,51],[39,2,39,4],[39,8,39,10],[39,13,39,15],[39,19,39,21],[38,17,39,17],[38,18,39,18],[38,19,38,21],[38,52,38,54],[38,22,39,22],[38,23,39,23],[38,24,38,26],[38,28,39,28],[38,29,39,29],[38,30,38,32],[38,33,39,33],[38,34,39,34],[38,35,38,37],[39,24,39,26],[39,30,39,32],[39,35,39,37],[39,41,39,43],[39,46,39,48],[39,52,39,54],[38,39,39,39],[38,40,39,40],[38,41,38,43],[38,44,39,44],[38,45,39,45],[40,23,40,26],[40,29,40,32],[40,34,40,37],[40,40,40,43],[40,45,40,48],[40,51,40,54],[40,56,40,59],[40,62,40,65],[40,67,40,70]]}
["様式２",null,null,null,null,null,null,null,null,null,null,"様式２",null,null,null,null,null,null,null,null,null,null,"様式２",null,null,null,null,null,null,null,null,null,null,"様式２",null,null,null,null,null,null,null,null,null,null,"様式２",null,null,null,null,null,null,null,null,null,null,"様式２",null,null,null,null,null,null,null,null,null,null,"様式２",null,null,null,null,null,null,null,null,null,null,"様式２"]
["※女子は朱書きのこと",null,null,null,null,null,"※女子は朱書きのこと",null,null,null,null,"※女子は朱書きのこと",null,null,null,null,null,"※女子は朱書きのこと",null,null,null,null,"※女子は朱書きのこと",null,null,null,null,null,"※女子は朱書きのこと",null,null,null,null,"※女子は朱書きのこと",null,null,null,null,null,"※女子は朱書きのこと",null,null,null,null,"※女子は朱書きのこと",null,null,null,null,null,"※女子は朱書きのこと",null,null,null,null,"※女子は朱書きのこと",null,null,null,null,null,"※女子は朱書きのこと",null,null,null,null,"※女子は朱書きのこと",null,null,null,null,null,"※女子は朱書きのこと",null,null,null,null,"※女子は朱書きのこと",null,null,null,null,null,"※女子は朱書きのこと"]
["（ふりがな）",{"$f":"IF(E50=\"\",\"\",VLOOKUP(E50,名簿男子!$A$2:$K$101,4))","v":0},{"$f":"IF(#REF!=\"\",\"\",VLOOKUP(#REF!,名簿男子!$A$2:$I$41,4))","v":{"$error":"#REF!"}},"性　　別","男　・　女",null,"（ふりがな）",{"$f":"IF(K50=\"\",\"\",VLOOKUP(K50,名簿男子!$A$2:$K$101,4))","v":0},{"$f":"IF(#REF!=\"\",\"\",VLOOKUP(#REF!,名簿男子!$A$2:$I$41,4))","v":{"$error":"#REF!"}},"性　　別","男　・　女","（ふりがな）",{"$f":"IF(P50=\"\",\"\",VLOOKUP(P50,名簿男子!$A$2:$K$101,4))","v":0},{"$f":"IF(#REF!=\"\",\"\",VLOOKUP(#REF!,名簿男子!$A$2:$I$41,4))","v":{"$error":"#REF!"}},"性　　別","男　・　女",null,"（ふりがな）",{"$f":"IF(V50=\"\",\"\",VLOOKUP(V50,名簿男子!$A$2:$K$101,4))","v":0},{"$f":"IF(#REF!=\"\",\"\",VLOOKUP(#REF!,名簿男子!$A$2:$I$41,4))","v":{"$error":"#REF!"}},"性　　別","男　・　女","（ふりがな）",{"$f":"IF(AA50=\"\",\"\",VLOOKUP(AA50,名簿男子!$A$2:$K$101,4))","v":0},{"$f":"IF(#REF!=\"\",\"\",VLOOKUP(#REF!,名簿男子!$A$2:$I$41,4))","v":{"$error":"#REF!"}},"性　　別","男　・　女",null,"（ふりがな）",{"$f":"IF(AG50=\"\",\"\",VLOOKUP(AG50,名簿男子!$A$2:$K$101,4))","v":{"$error":"#N/A"}},{"$f":"IF(#REF!=\"\",\"\",VLOOKUP(#REF!,名簿男子!$A$2:$I$41,4))","v":{"$error":"#REF!"}},"性　　別","男　・　女","（ふりがな）",{"$f":"IF(AL50=\"\",\"\",VLOOKUP(AL50,名簿男子!$A$2:$K$101,4))","v":{"$error":"#N/A"}},{"$f":"IF(#REF!=\"\",\"\",VLOOKUP(#REF!,名簿男子!$A$2:$I$41,4))","v":{"$error":"#REF!"}},"性　　別","男　・　女",null,"（ふりがな）",{"$f":"IF(AR50=\"\",\"\",VLOOKUP(AR50,名簿男子!$A$2:$K$101,4))","v":{"$error":"#N/A"}},{"$f":"IF(#REF!=\"\",\"\",VLOOKUP(#REF!,名簿男子!$A$2:$I$41,4))","v":{"$error":"#REF!"}},"性　　別","男　・　女","（ふりがな）",{"$f":"IF(AW50=\"\",\"\",VLOOKUP(AW50,名簿男子!$A$2:$K$101,4))","v":{"$error":"#N/A"}},{"$f":"IF(#REF!=\"\",\"\",VLOOKUP(#REF!,名簿男子!$A$2:$I$41,4))","v":{"$error":"#REF!"}},"性　　別","男　・　女",null,"（ふりがな）",{"$f":"IF(BC50=\"\",\"\",VLOOKUP(BC50,名簿男子!$A$2:$K$101,4))","v":{"$error":"#N/A"}},{"$f":"IF(#REF!=\"\",\"\",VLOOKUP(#REF!,名簿男子!$A$2:$I$41,4))","v":{"$error":"#REF!"}},"性　　別","男　・　女","（ふりがな）",{"$f":"IF(BH50=\"\",\"\",VLOOKUP(BH50,名簿男子!$A$2:$K$101,4))","v":{"$error":"#N/A"}},{"$f":"IF(#REF!=\"\",\"\",VLOOKUP(#REF!,名簿男子!$A$2:$I$41,4))","v":{"$error":"#REF!"}},"性　　別","男　・　女",null,"（ふりがな）",{"$f":"IF(BN50=\"\",\"\",VLOOKUP(BN50,名簿男子!$A$2:$K$101,4))","v":{"$error":"#N/A"}},{"$f":"IF(#REF!=\"\",\"\",VLOOKUP(#REF!,名簿男子!$A$2:$I$41,4))","v":{"$error":"#REF!"}},"性　　別","男　・　女","（ふりがな）",{"$f":"IF(BS50=\"\",\"\",VLOOKUP(BS50,名簿男子!$A$2:$K$101,4))","v":{"$error":"#N/A"}},{"$f":"IF(#REF!=\"\",\"\",VLOOKUP(#REF!,名簿男子!$A$2:$I$41,4))","v":{"$error":"#REF!"}},"性　　別","男　・　女",null,"（ふりがな）",{"$f":"IF(BY50=\"\",\"\",VLOOKUP(BY50,名簿男子!$A$2:$K$101,4))","v":{"$error":"#N/A"}},{"$f":"IF(#REF!=\"\",\"\",VLOOKUP(#REF!,名簿男子!$A$2:$I$41,4))","v":{"$error":"#REF!"}},"性　　別","男　・　女","（ふりがな）",{"$f":"IF(CD50=\"\",\"\",VLOOKUP(CD50,名簿男子!$A$2:$K$101,4))","v":{"$error":"#N/A"}},{"$f":"IF(#REF!=\"\",\"\",VLOOKUP(#REF!,名簿男子!$A$2:$I$41,4))","v":{"$error":"#REF!"}},"性　　別","男　・　女",null,"（ふりがな）",{"$f":"IF(CJ50=\"\",\"\",VLOOKUP(CJ50,名簿男子!$A$2:$K$101,4))","v":{"$error":"#N/A"}},{"$f":"IF(#REF!=\"\",\"\",VLOOKUP(#REF!,名簿男子!$A$2:$I$41,4))","v":{"$error":"#REF!"}},"性　　別","男　・　女"]
["氏　　　名",{"$f":"IF(E50=\"\",\"\",VLOOKUP(E50,名簿男子!$A$2:$K$101,3))","v":0},{"$f":"IF(#REF!=\"\",\"\",VLOOKUP(#REF!,名簿男子!$A$2:$I$41,3))","v":{"$error":"#REF!"}},null,null,null,"氏　　　名",{"$f":"IF(K50=\"\",\"\",VLOOKUP(K50,名簿男子!$A$2:$K$101,3))","v":0},{"$f":"IF(#REF!=\"\",\"\",VLOOKUP(#REF!,名簿男子!$A$2:$I$41,3))","v":{"$error":"#REF!"}},null,null,"氏　　　名",{"$f":"IF(P50=\"\",\"\",VLOOKUP(P50,名簿男子!$A$2:$K$101,3))","v":0},{"$f":"IF(#REF!=\"\",\"\",VLOOKUP(#REF!,名簿男子!$A$2:$I$41,3))","v":{"$error":"#REF!"}},null,null,null,"氏　　　名",{"$f":"IF(V50=\"\",\"\",VLOOKUP(V50,名簿男子!$A$2:$K$101,3))","v":0},{"$f":"IF(#REF!=\"\",\"\",VLOOKUP(#REF!,名簿男子!$A$2:$I$41,3))","v":{"$error":"#REF!"}},null,null,"氏　　　名",{"$f":"IF(AA50=\"\",\"\",VLOOKUP(AA50,名簿男子!$A$2:$K$101,3))","v":0},{"$f":"IF(#REF!=\"\",\"\",VLOOKUP(#REF!,名簿男子!$A$2:$I$41,3))","v":{"$error":"#REF!"}},null,null,null,"氏　　　名",{"$f":"IF(AG50=\"\",\"\",VLOOKUP(AG50,名簿男子!$A$2:$K$101,3))","v":{"$error":"#N/A"}},{"$f":"IF(#REF!=\"\",\"\",VLOOKUP(#REF!,名簿男子!$A$2:$I$41,3))","v":{"$error":"#REF!"}},null,null,"氏　　　名",{"$f":"IF(AL50=\"\",\"\",VLOOKUP(AL50,名簿男子!$A$2:$K$101,3))","v":{"$error":"#N/A"}},{"$f":"IF(#REF!=\"\",\"\",VLOOKUP(#REF!,名簿男子!$A$2:$I$41,3))","v":{"$error":"#REF!"}},null,null,null,"氏　　　名",{"$f":"IF(AR50=\"\",\"\",VLOOKUP(AR50,名簿男子!$A$2:$K$101,3))","v":{"$error":"#N/A"}},{"$f":"IF(#REF!=\"\",\"\",VLOOKUP(#REF!,名簿男子!$A$2:$I$41,3))","v":{"$error":"#REF!"}},null,null,"氏　　　名",{"$f":"IF(AW50=\"\",\"\",VLOOKUP(AW50,名簿男子!$A$2:$K$101,3))","v":{"$error":"#N/A"}},{"$f":"IF(#REF!=\"\",\"\",VLOOKUP(#REF!,名簿男子!$A$2:$I$41,3))","v":{"$error":"#REF!"}},null,null,null,"氏　　　名",{"$f":"IF(BC50=\"\",\"\",VLOOKUP(BC50,名簿男子!$A$2:$K$101,3))","v":{"$error":"#N/A"}},{"$f":"IF(#REF!=\"\",\"\",VLOOKUP(#REF!,名簿男子!$A$2:$I$41,3))","v":{"$error":"#REF!"}},null,null,"氏　　　名",{"$f":"IF(BH50=\"\",\"\",VLOOKUP(BH50,名簿男子!$A$2:$K$101,3))","v":{"$error":"#N/A"}},{"$f":"IF(#REF!=\"\",\"\",VLOOKUP(#REF!,名簿男子!$A$2:$I$41,3))","v":{"$error":"#REF!"}},null,null,null,"氏　　　名",{"$f":"IF(BN50=\"\",\"\",VLOOKUP(BN50,名簿男子!$A$2:$K$101,3))","v":{"$error":"#N/A"}},{"$f":"IF(#REF!=\"\",\"\",VLOOKUP(#REF!,名簿男子!$A$2:$I$41,3))","v":{"$error":"#REF!"}},null,null,"氏　　　名",{"$f":"IF(BS50=\"\",\"\",VLOOKUP(BS50,名簿男子!$A$2:$K$101,3))","v":{"$error":"#N/A"}},{"$f":"IF(#REF!=\"\",\"\",VLOOKUP(#REF!,名簿男子!$A$2:$I$41,3))","v":{"$error":"#REF!"}},null,null,null,"氏　　　名",{"$f":"IF(BY50=\"\",\"\",VLOOKUP(BY50,名簿男子!$A$2:$K$101,3))","v":{"$error":"#N/A"}},{"$f":"IF(#REF!=\"\",\"\",VLOOKUP(#REF!,名簿男子!$A$2:$I$41,3))","v":{"$error":"#REF!"}},null,null,"氏　　　名",{"$f":"IF(CD50=\"\",\"\",VLOOKUP(CD50,名簿男子!$A$2:$K$101,3))","v":{"$error":"#N/A"}},{"$f":"IF(#REF!=\"\",\"\",VLOOKUP(#REF!,名簿男子!$A$2:$I$41,3))","v":{"$error":"#REF!"}},null,null,null,"氏　　　名",{"$f":"IF(CJ50=\"\",\"\",VLOOKUP(CJ50,名簿男子!$A$2:$K$101,3))","v":{"$error":"#N/A"}},{"$f":"IF(#REF!=\"\",\"\",VLOOKUP(#REF!,名簿男子!$A$2:$I$41,3))","v":{"$error":"#REF!"}}]
["所　　　属",{"$f":"様式１男子!E4","v":0},null,"学　　年",{"$f":"IF(E50=\"\",\"\",VLOOKUP(E50,名簿男子!$A$2:$K$101,6))","v":0},null,"所　　　属",{"$f":"様式１男子!E4","v":0},null,"学　　年",{"$f":"IF(K50=\"\",\"\",VLOOKUP(K50,名簿男子!$A$2:$K$101,6))","v":0},"所　　　属",{"$f":"様式１男子!E4","v":0},null,"学　　年",{"$f":"IF(P50=\"\",\"\",VLOOKUP(P50,名簿男子!$A$2:$K$101,6))","v":0},null,"所　　　属",{"$f":"様式１男子!E4","v":0},null,"学　　年",{"$f":"IF(V50=\"\",\"\",VLOOKUP(V50,名簿男子!$A$2:$K$101,6))","v":0},"所　　　属",{"$f":"様式１男子!E4","v":0},null,"学　　年",{"$f":"IF(AA50=\"\",\"\",VLOOKUP(AA50,名簿男子!$A$2:$K$101,6))","v":0},null,"所　　　属",{"$f":"様式１男子!E4","v":0},null,"学　　年",{"$f":"IF(AG50=\"\",\"\",VLOOKUP(AG50,名簿男子!$A$2:$K$101,6))","v":{"$error":"#N/A"}},"所　　　属",{"$f":"様式１男子!E4","v":0},null,"学　　年",{"$f":"IF(AL50=\"\",\"\",VLOOKUP(AL50,名簿男子!$A$2:$K$101,6))","v":{"$error":"#N/A"}},null,"所　　　属",{"$f":"様式１男子!E4","v":0},null,"学　　年",{"$f":"IF(AR50=\"\",\"\",VLOOKUP(AR50,名簿男子!$A$2:$K$101,6))","v":{"$error":"#N/A"}},"所　　　属",{"$f":"様式１男子!E4","v":0},null,"学　　年",{"$f":"IF(AW50=\"\",\"\",VLOOKUP(AW50,名簿男子!$A$2:$K$101,6))","v":{"$error":"#N/A"}},null,"所　　　属",{"$f":"様式１男子!E4","v":0},null,"学　　年",{"$f":"IF(BC50=\"\",\"\",VLOOKUP(BC50,名簿男子!$A$2:$K$101,6))","v":{"$error":"#N/A"}},"所　　　属",{"$f":"様式１男子!E4","v":0},null,"学　　年",{"$f":"IF(BH50=\"\",\"\",VLOOKUP(BH50,名簿男子!$A$2:$K$101,6))","v":{"$error":"#N/A"}},null,"所　　　属",{"$f":"様式１男子!E4","v":0},null,"学　　年",{"$f":"IF(BN50=\"\",\"\",VLOOKUP(BN50,名簿男子!$A$2:$K$101,6))","v":{"$error":"#N/A"}},"所　　　属",{"$f":"様式１男子!E4","v":0},null,"学　　年",{"$f":"IF(BS50=\"\",\"\",VLOOKUP(BS50,名簿男子!$A$2:$K$101,6))","v":{"$error":"#N/A"}},null,"所　　　属",{"$f":"様式１男子!E4","v":0},null,"学　　年",{"$f":"IF(BY50=\"\",\"\",VLOOKUP(BY50,名簿男子!$A$2:$K$101,6))","v":{"$error":"#N/A"}},"所　　　属",{"$f":"様式１男子!E4","v":0},null,"学　　年",{"$f":"IF(CD50=\"\",\"\",VLOOKUP(CD50,名簿男子!$A$2:$K$101,6))","v":{"$error":"#N/A"}},null,"所　　　属",{"$f":"様式１男子!E4","v":0},null,"学　　年",{"$f":"IF(CJ50=\"\",\"\",VLOOKUP(CJ50,名簿男子!$A$2:$K$101,6))","v":{"$error":"#N/A"}}]
["学　　　校",null,null,"年　　齢",null,null,"学　　　校",null,null,"年　　齢",null,"学　　　校",null,null,"年　　齢",null,null,"学　　　校",null,null,"年　　齢",null,"学　　　校",null,null,"年　　齢",null,null,"学　　　校",null,null,"年　　齢",null,"学　　　校",null,null,"年　　齢",null,null,"学　　　校",null,null,"年　　齢",null,"学　　　校",null,null,"年　　齢",null,null,"学　　　校",null,null,"年　　齢",null,"学　　　校",null,null,"年　　齢",null,null,"学　　　校",null,null,"年　　齢",null,"学　　　校",null,null,"年　　齢",null,null,"学　　　校",null,null,"年　　齢",null,"学　　　校",null,null,"年　　齢",null,null,"学　　　校",null,null,"年　　齢"]
["種　　　目",{"$f":"IF(E50=\"\",\"\",VLOOKUP(E50,名簿男子!$A$2:$K$101,9))","v":0},null,null,null,null,"種　　　目",{"$f":"IF(K50=\"\",\"\",VLOOKUP(K50,名簿男子!$A$2:$K$101,9))","v":0},null,null,null,"種　　　目",{"$f":"IF(P50=\"\",\"\",VLOOKUP(P50,名簿男子!$A$2:$K$101,9))","v":0},null,null,null,null,"種　　　目",{"$f":"IF(V50=\"\",\"\",VLOOKUP(V50,名簿男子!$A$2:$K$101,9))","v":0},null,null,null,"種　　　目",{"$f":"IF(AA50=\"\",\"\",VLOOKUP(AA50,名簿男子!$A$2:$K$101,9))","v":0},null,null,null,null,"種　　　目",{"$f":"IF(AG50=\"\",\"\",VLOOKUP(AG50,名簿男子!$A$2:$K$101,9))","v":{"$error":"#N/A"}},null,null,null,"種　　　目",{"$f":"IF(AL50=\"\",\"\",VLOOKUP(AL50,名簿男子!$A$2:$K$101,9))","v":{"$error":"#N/A"}},null,null,null,null,"種　　　目",{"$f":"IF(AR50=\"\",\"\",VLOOKUP(AR50,名簿男子!$A$2:$K$101,9))","v":{"$error":"#N/A"}},null,null,null,"種　　　目",{"$f":"IF(AW50=\"\",\"\",VLOOKUP(AW50,名簿男子!$A$2:$K$101,9))","v":{"$error":"#N/A"}},null,null,null,null,"種　　　目",{"$f":"IF(BC50=\"\",\"\",VLOOKUP(BC50,名簿男子!$A$2:$K$101,9))","v":{"$error":"#N/A"}},null,null,null,"種　　　目",{"$f":"IF(BH50=\"\",\"\",VLOOKUP(BH50,名簿男子!$A$2:$K$101,9))","v":{"$error":"#N/A"}},null,null,null,null,"種　　　目",{"$f":"IF(BN50=\"\",\"\",VLOOKUP(BN50,名簿男子!$A$2:$K$101,9))","v":{"$error":"#N/A"}},null,null,null,"種　　　目",{"$f":"IF(BS50=\"\",\"\",VLOOKUP(BS50,名簿男子!$A$2:$K$101,9))","v":{"$error":"#N/A"}},null,null,null,null,"種　　　目",{"$f":"IF(BY50=\"\",\"\",VLOOKUP(BY50,名簿男子!$A$2:$K$101,9))","v":{"$error":"#N/A"}},null,null,null,"種　　　目",{"$f":"IF(CD50=\"\",\"\",VLOOKUP(CD50,名簿男子!$A$2:$K$101,9))","v":{"$error":"#N/A"}},null,null,null,null,"種　　　目",{"$f":"IF(CJ50=\"\",\"\",VLOOKUP(CJ50,名簿男子!$A$2:$K$101,9))","v":{"$error":"#N/A"}}]
["最高記録",{"$f":"IF(E50=\"\",\"\",VLOOKUP(E50,名簿男子!$A$2:$K$101,10))","v":0},"大　会　名　・　年　度",null,null,null,"最高記録",{"$f":"IF(K50=\"\",\"\",VLOOKUP(K50,名簿男子!$A$2:$K$101,10))","v":0},"大　会　名　・　年　度",null,null,"最高記録",{"$f":"IF(P50=\"\",\"\",VLOOKUP(P50,名簿男子!$A$2:$K$101,10))","v":0},"大　会　名　・　年　度",null,null,null,"最高記録",{"$f":"IF(V50=\"\",\"\",VLOOKUP(V50,名簿男子!$A$2:$K$101,10))","v":0},"大　会　名　・　年　度",null,null,"最高記録",{"$f":"IF(AA50=\"\",\"\",VLOOKUP(AA50,名簿男子!$A$2:$K$101,10))","v":0},"大　会　名　・　年　度",null,null,null,"最高記録",{"$f":"IF(AG50=\"\",\"\",VLOOKUP(AG50,名簿男子!$A$2:$K$101,10))","v":{"$error":"#N/A"}},"大　会　名　・　年　度",null,null,"最高記録",{"$f":"IF(AL50=\"\",\"\",VLOOKUP(AL50,名簿男子!$A$2:$K$101,10))","v":{"$error":"#N/A"}},"大　会　名　・　年　度",null,null,null,"最高記録",{"$f":"IF(AR50=\"\",\"\",VLOOKUP(AR50,名簿男子!$A$2:$K$101,10))","v":{"$error":"#N/A"}},"大　会　名　・　年　度",null,null,"最高記録",{"$f":"IF(AW50=\"\",\"\",VLOOKUP(AW50,名簿男子!$A$2:$K$101,10))","v":{"$error":"#N/A"}},"大　会　名　・　年　度",null,null,null,"最高記録",{"$f":"IF(BC50=\"\",\"\",VLOOKUP(BC50,名簿男子!$A$2:$K$101,10))","v":{"$error":"#N/A"}},"大　会　名　・　年　度",null,null,"最高記録",{"$f":"IF(BH50=\"\",\"\",VLOOKUP(BH50,名簿男子!$A$2:$K$101,10))","v":{"$error":"#N/A"}},"大　会　名　・　年　度",null,null,null,"最高記録",{"$f":"IF(BN50=\"\",\"\",VLOOKUP(BN50,名簿男子!$A$2:$K$101,10))","v":{"$error":"#N/A"}},"大　会　名　・　年　度",null,null,"最高記録",{"$f":"IF(BS50=\"\",\"\",VLOOKUP(BS50,名簿男子!$A$2:$K$101,10))","v":{"$error":"#N/A"}},"大　会　名　・　年　度",null,null,null,"最高記録",{"$f":"IF(BY50=\"\",\"\",VLOOKUP(BY50,名簿男子!$A$2:$K$101,10))","v":{"$error":"#N/A"}},"大　会　名　・　年　度",null,null,"最高記録",{"$f":"IF(CD50=\"\",\"\",VLOOKUP(CD50,名簿男子!$A$2:$K$101,10))","v":{"$error":"#N/A"}},"大　会　名　・　年　度",null,null,null,"最高記録",{"$f":"IF(CJ50=\"\",\"\",VLOOKUP(CJ50,名簿男子!$A$2:$K$101,10))","v":{"$error":"#N/A"}},"大　会　名　・　年　度"]
[null,null,{"$f":"IF(E50=\"\",\"\",VLOOKUP(E50,名簿男子!$A$2:$K$101,11))","v":0},null,null,null,null,null,{"$f":"IF(K50=\"\",\"\",VLOOKUP(K50,名簿男子!$A$2:$K$101,11))","v":0},null,null,null,null,{"$f":"IF(P50=\"\",\"\",VLOOKUP(P50,名簿男子!$A$2:$K$101,11))","v":0},null,null,null,null,null,{"$f":"IF(V50=\"\",\"\",VLOOKUP(V50,名簿男子!$A$2:$K$101,11))","v":0},null,null,null,null,{"$f":"IF(AA50=\"\",\"\",VLOOKUP(AA50,名簿男子!$A$2:$K$101,11))","v":0},null,null,null,null,null,{"$f":"IF(AG50=\"\",\"\",VLOOKUP(AG50,名簿男子!$A$2:$K$101,11))","v":{"$error":"#N/A"}},null,null,null,null,{"$f":"IF(AL50=\"\",\"\",VLOOKUP(AL50,名簿男子!$A$2:$K$101,11))","v":{"$error":"#N/A"}},null,null,null,null,null,{"$f":"IF(AR50=\"\",\"\",VLOOKUP(AR50,名簿男子!$A$2:$K$101,11))","v":{"$error":"#N/A"}},null,null,null,null,{"$f":"IF(AW50=\"\",\"\",VLOOKUP(AW50,名簿男子!$A$2:$K$101,11))","v":{"$error":"#N/A"}},null,null,null,null,null,{"$f":"IF(BC50=\"\",\"\",VLOOKUP(BC50,名簿男子!$A$2:$K$101,11))","v":{"$error":"#N/A"}},null,null,null,null,{"$f":"IF(BH50=\"\",\"\",VLOOKUP(BH50,名簿男子!$A$2:$K$101,11))","v":{"$error":"#N/A"}},null,null,null,null,null,{"$f":"IF(BN50=\"\",\"\",VLOOKUP(BN50,名簿男子!$A$2:$K$101,11))","v":{"$error":"#N/A"}},null,null,null,null,{"$f":"IF(BS50=\"\",\"\",VLOOKUP(BS50,名簿男子!$A$2:$K$101,11))","v":{"$error":"#N/A"}},null,null,null,null,null,{"$f":"IF(BY50=\"\",\"\",VLOOKUP(BY50,名簿男子!$A$2:$K$101,11))","v":{"$error":"#N/A"}},null,null,null,null,{"$f":"IF(CD50=\"\",\"\",VLOOKUP(CD50,名簿男子!$A$2:$K$101,11))","v":{"$error":"#N/A"}},null,null,null,null,null,{"$f":"IF(CJ50=\"\",\"\",VLOOKUP(CJ50,名簿男子!$A$2:$K$101,11))","v":{"$error":"#N/A"}}]
["ナンバー",{"$f":"IF(E50=\"\",\"\",VLOOKUP(E50,名簿男子!$A$2:$K$101,2))","v":0},null,null,null,null,"ナンバー",{"$f":"IF(K50=\"\",\"\",VLOOKUP(K50,名簿男子!$A$2:$K$101,2))","v":0},null,null,null,"ナンバー",{"$f":"IF(P50=\"\",\"\",VLOOKUP(P50,名簿男子!$A$2:$K$101,2))","v":0},null,null,null,null,"ナンバー",{"$f":"IF(V50=\"\",\"\",VLOOKUP(V50,名簿男子!$A$2:$K$101,2))","v":0},null,null,null,"ナンバー",{"$f":"IF(AA50=\"\",\"\",VLOOKUP(AA50,名簿男子!$A$2:$K$101,2))","v":0},null,null,null,null,"ナンバー",{"$f":"IF(AG50=\"\",\"\",VLOOKUP(AG50,名簿男子!$A$2:$K$101,2))","v":{"$error":"#N/A"}},null,null,null,"ナンバー",{"$f":"IF(AL50=\"\",\"\",VLOOKUP(AL50,名簿男子!$A$2:$K$101,2))","v":{"$error":"#N/A"}},null,null,null,null,"ナンバー",{"$f":"IF(AR50=\"\",\"\",VLOOKUP(AR50,名簿男子!$A$2:$K$101,2))","v":{"$error":"#N/A"}},null,null,null,"ナンバー",{"$f":"IF(AW50=\"\",\"\",VLOOKUP(AW50,名簿男子!$A$2:$K$101,2))","v":{"$error":"#N/A"}},null,null,null,null,"ナンバー",{"$f":"IF(BC50=\"\",\"\",VLOOKUP(BC50,名簿男子!$A$2:$K$101,2))","v":{"$error":"#N/A"}},null,null,null,"ナンバー",{"$f":"IF(BH50=\"\",\"\",VLOOKUP(BH50,名簿男子!$A$2:$K$101,2))","v":{"$error":"#N/A"}},null,null,null,null,"ナンバー",{"$f":"IF(BN50=\"\",\"\",VLOOKUP(BN50,名簿男子!$A$2:$K$101,2))","v":{"$error":"#N/A"}},null,null,null,"ナンバー",{"$f":"IF(BS50=\"\",\"\",VLOOKUP(BS50,名簿男子!$A$2:$K$101,2))","v":{"$error":"#N/A"}},null,null,null,null,"ナンバー",{"$f":"IF(BY50=\"\",\"\",VLOOKUP(BY50,名簿男子!$A$2:$K$101,2))","v":{"$error":"#N/A"}},null,null,null,"ナンバー",{"$f":"IF(CD50=\"\",\"\",VLOOKUP(CD50,名簿男子!$A$2:$K$101,2))","v":{"$error":"#N/A"}},null,null,null,null,"ナンバー",{"$f":"IF(CJ50=\"\",\"\",VLOOKUP(CJ50,名簿男子!$A$2:$K$101,2))","v":{"$error":"#N/A"}}]
[]
["※女子は朱書きのこと",null,null,null,null,null,"※女子は朱書きのこと",null,null,null,null,"※女子は朱書きのこと",null,null,null,null,null,"※女子は朱書きのこと",null,null,null,null,"※女子は朱書きのこと",null,null,null,null,null,"※女子は朱書きのこと",null,null,null,null,"※女子は朱書きのこと",null,null,null,null,null,"※女子は朱書きのこと",null,null,null,null,"※女子は朱書きのこと",null,null,null,null,null,"※女子は朱書きのこと",null,null,null,null,"※女子は朱書きのこと",null,null,null,null,null,"※女子は朱書きのこと",null,null,null,null,"※女子は朱書きのこと",null,null,null,null,null,"※女子は朱書きのこと",null,null,null,null,"※女子は朱書きのこと",null,null,null,null,null,"※女子は朱書きのこと"]
["（ふりがな）",{"$f":"IF(E51=\"\",\"\",VLOOKUP(E51,名簿男子!$A$2:$K$101,4))","v":0},{"$f":"IF(#REF!=\"\",\"\",VLOOKUP(#REF!,名簿男子!$A$2:$I$41,4))","v":{"$error":"#REF!"}},"性　　別","男　・　女",null,"（ふりがな）",{"$f":"IF(K51=\"\",\"\",VLOOKUP(K51,名簿男子!$A$2:$K$101,4))","v":0},{"$f":"IF(#REF!=\"\",\"\",VLOOKUP(#REF!,名簿男子!$A$2:$I$41,4))","v":{"$error":"#REF!"}},"性　　別","男　・　女","（ふりがな）",{"$f":"IF(P51=\"\",\"\",VLOOKUP(P51,名簿男子!$A$2:$K$101,4))","v":0},{"$f":"IF(#REF!=\"\",\"\",VLOOKUP(#REF!,名簿男子!$A$2:$I$41,4))","v":{"$error":"#REF!"}},"性　　別","男　・　女",null,"（ふりがな）",{"$f":"IF(V51=\"\",\"\",VLOOKUP(V51,名簿男子!$A$2:$K$101,4))","v":0},{"$f":"IF(#REF!=\"\",\"\",VLOOKUP(#REF!,名簿男子!$A$2:$I$41,4))","v":{"$error":"#REF!"}},"性　　別","男　・　女","（ふりがな）",{"$f":"IF(AA51=\"\",\"\",VLOOKUP(AA51,名簿男子!$A$2:$K$101,4))","v":0},{"$f":"IF(#REF!=\"\",\"\",VLOOKUP(#REF!,名簿男子!$A$2:$I$41,4))","v":{"$error":"#REF!"}},"性　　別","男　・　女",null,"（ふりがな）",{"$f":"IF(AG51=\"\",\"\",VLOOKUP(AG51,名簿男子!$A$2:$K$101,4))","v":{"$error":"#N/A"}},{"$f":"IF(#REF!=\"\",\"\",VLOOKUP(#REF!,名簿男子!$A$2:$I$41,4))","v":{"$error":"#REF!"}},"性　　別","男　・　女","（ふりがな）",{"$f":"IF(AL51=\"\",\"\",VLOOKUP(AL51,名簿男子!$A$2:$K$101,4))","v":{"$error":"#N/A"}},{"$f":"IF(#REF!=\"\",\"\",VLOOKUP(#REF!,名簿男子!$A$2:$I$41,4))","v":{"$error":"#REF!"}},"性　　別","男　・　女",null,"（ふりがな）",{"$f":"IF(AR51=\"\",\"\",VLOOKUP(AR51,名簿男子!$A$2:$K$101,4))","v":{"$error":"#N/A"}},{"$f":"IF(#REF!=\"\",\"\",VLOOKUP(#REF!,名簿男子!$A$2:$I$41,4))","v":{"$error":"#REF!"}},"性　　別","男　・　女","（ふりがな）",{"$f":"IF(AW51=\"\",\"\",VLOOKUP(AW51,名簿男子!$A$2:$K$101,4))","v":{"$error":"#N/A"}},{"$f":"IF(#REF!=\"\",\"\",VLOOKUP(#REF!,名簿男子!$A$2:$I$41,4))","v":{"$error":"#REF!"}},"性　　別","男　・　女",null,"（ふりがな）",{"$f":"IF(BC51=\"\",\"\",VLOOKUP(BC51,名簿男子!$A$2:$K$101,4))","v":{"$error":"#N/A"}},{"$f":"IF(#REF!=\"\",\"\",VLOOKUP(#REF!,名簿男子!$A$2:$I$41,4))","v":{"$error":"#REF!"}},"性　　別","男　・　女","（ふりがな）",{"$f":"IF(BH51=\"\",\"\",VLOOKUP(BH51,名簿男子!$A$2:$K$101,4))","v":{"$error":"#N/A"}},{"$f":"IF(#REF!=\"\",\"\",VLOOKUP(#REF!,名簿男子!$A$2:$I$41,4))","v":{"$error":"#REF!"}},"性　　別","男　・　女",null,"（ふりがな）",{"$f":"IF(BN51=\"\",\"\",VLOOKUP(BN51,名簿男子!$A$2:$K$101,4))","v":{"$error":"#N/A"}},{"$f":"IF(#REF!=\"\",\"\",VLOOKUP(#REF!,名簿男子!$A$2:$I$41,4))","v":{"$error":"#REF!"}},"性　　別","男　・　女","（ふりがな）",{"$f":"IF(BS51=\"\",\"\",VLOOKUP(BS51,名簿男子!$A$2:$K$101,4))","v":{"$error":"#N/A"}},{"$f":"IF(#REF!=\"\",\"\",VLOOKUP(#REF!,名簿男子!$A$2:$I$41,4))","v":{"$error":"#REF!"}},"性　　別","男　・　女",null,"（ふりがな）",{"$f":"IF(BY51=\"\",\"\",VLOOKUP(BY51,名簿男子!$A$2:$K$101,4))","v":{"$error":"#N/A"}},{"$f":"IF(#REF!=\"\",\"\",VLOOKUP(#REF!,名簿男子!$A$2:$I$41,4))","v":{"$error":"#REF!"}},"性　　別","男　・　女","（ふりがな）",{"$f":"IF(CD51=\"\",\"\",VLOOKUP(CD51,名簿男子!$A$2:$K$101,4))","v":{"$error":"#N/A"}},{"$f":"IF(#REF!=\"\",\"\",VLOOKUP(#REF!,名簿男子!$A$2:$I$41,4))","v":{"$error":"#REF!"}},"性　　別","男　・　女",null,"（ふりがな）",{"$f":"IF(CJ51=\"\",\"\",VLOOKUP(CJ51,名簿男子!$A$2:$K$101,4))","v":{"$error":"#N/A"}},{"$f":"IF(#REF!=\"\",\"\",VLOOKUP(#REF!,名簿男子!$A$2:$I$41,4))","v":{"$error":"#REF!"}},"性　　別","男　・　女"]
["氏　　　名",{"$f":"IF(E51=\"\",\"\",VLOOKUP(E51,名簿男子!$A$2:$K$101,3))","v":0},{"$f":"IF(#REF!=\"\",\"\",VLOOKUP(#REF!,名簿男子!$A$2:$I$41,3))","v":{"$error":"#REF!"}},null,null,null,"氏　　　名",{"$f":"IF(K51=\"\",\"\",VLOOKUP(K51,名簿男子!$A$2:$K$101,3))","v":0},{"$f":"IF(#REF!=\"\",\"\",VLOOKUP(#REF!,名簿男子!$A$2:$I$41,3))","v":{"$error":"#REF!"}},null,null,"氏　　　名",{"$f":"IF(P51=\"\",\"\",VLOOKUP(P51,名簿男子!$A$2:$K$101,3))","v":0},{"$f":"IF(#REF!=\"\",\"\",VLOOKUP(#REF!,名簿男子!$A$2:$I$41,3))","v":{"$error":"#REF!"}},null,null,null,"氏　　　名",{"$f":"IF(V51=\"\",\"\",VLOOKUP(V51,名簿男子!$A$2:$K$101,3))","v":0},{"$f":"IF(#REF!=\"\",\"\",VLOOKUP(#REF!,名簿男子!$A$2:$I$41,3))","v":{"$error":"#REF!"}},null,null,"氏　　　名",{"$f":"IF(AA51=\"\",\"\",VLOOKUP(AA51,名簿男子!$A$2:$K$101,3))","v":0},{"$f":"IF(#REF!=\"\",\"\",VLOOKUP(#REF!,名簿男子!$A$2:$I$41,3))","v":{"$error":"#REF!"}},null,null,null,"氏　　　名",{"$f":"IF(AG51=\"\",\"\",VLOOKUP(AG51,名簿男子!$A$2:$K$101,3))","v":{"$error":"#N/A"}},{"$f":"IF(#REF!=\"\",\"\",VLOOKUP(#REF!,名簿男子!$A$2:$I$41,3))","v":{"$error":"#REF!"}},null,null,"氏　　　名",{"$f":"IF(AL51=\"\",\"\",VLOOKUP(AL51,名簿男子!$A$2:$K$101,3))","v":{"$error":"#N/A"}},{"$f":"IF(#REF!=\"\",\"\",VLOOKUP(#REF!,名簿男子!$A$2:$I$41,3))","v":{"$error":"#REF!"}},null,null,null,"氏　　　名",{"$f":"IF(AR51=\"\",\"\",VLOOKUP(AR51,名簿男子!$A$2:$K$101,3))","v":{"$error":"#N/A"}},{"$f":"IF(#REF!=\"\",\"\",VLOOKUP(#REF!,名簿男子!$A$2:$I$41,3))","v":{"$error":"#REF!"}},null,null,"氏　　　名",{"$f":"IF(AW51=\"\",\"\",VLOOKUP(AW51,名簿男子!$A$2:$K$101,3))","v":{"$error":"#N/A"}},{"$f":"IF(#REF!=\"\",\"\",VLOOKUP(#REF!,名簿男子!$A$2:$I$41,3))","v":{"$error":"#REF!"}},null,null,null,"氏　　　名",{"$f":"IF(BC51=\"\",\"\",VLOOKUP(BC51,名簿男子!$A$2:$K$101,3))","v":{"$error":"#N/A"}},{"$f":"IF(#REF!=\"\",\"\",VLOOKUP(#REF!,名簿男子!$A$2:$I$41,3))","v":{"$error":"#REF!"}},null,null,"氏　　　名",{"$f":"IF(BH51=\"\",\"\",VLOOKUP(BH51,名簿男子!$A$2:$K$101,3))","v":{"$error":"#N/A"}},{"$f":"IF(#REF!=\"\",\"\",VLOOKUP(#REF!,名簿男子!$A$2:$I$41,3))","v":{"$error":"#REF!"}},null,null,null,"氏　　　名",{"$f":"IF(BN51=\"\",\"\",VLOOKUP(BN51,名簿男子!$A$2:$K$101,3))","v":{"$error":"#N/A"}},{"$f":"IF(#REF!=\"\",\"\",VLOOKUP(#REF!,名簿男子!$A$2:$I$41,3))","v":{"$error":"#REF!"}},null,null,"氏　　　名",{"$f":"IF(BS51=\"\",\"\",VLOOKUP(BS51,名簿男子!$A$2:$K$101,3))","v":{"$error":"#N/A"}},{"$f":"IF(#REF!=\"\",\"\",VLOOKUP(#REF!,名簿男子!$A$2:$I$41,3))","v":{"$error":"#REF!"}},null,null,null,"氏　　　名",{"$f":"IF(BY51=\"\",\"\",VLOOKUP(BY51,名簿男子!$A$2:$K$101,3))","v":{"$error":"#N/A"}},{"$f":"IF(#REF!=\"\",\"\",VLOOKUP(#REF!,名簿男子!$A$2:$I$41,3))","v":{"$error":"#REF!"}},null,null,"氏　　　名",{"$f":"IF(CD51=\"\",\"\",VLOOKUP(CD51,名簿男子!$A$2:$K$101,3))","v":{"$error":"#N/A"}},{"$f":"IF(#REF!=\"\",\"\",VLOOKUP(#REF!,名簿男子!$A$2:$I$41,3))","v":{"$error":"#REF!"}},null,null,null,"氏　　　名",{"$f":"IF(CJ51=\"\",\"\",VLOOKUP(CJ51,名簿男子!$A$2:$K$101,3))","v":{"$error":"#N/A"}},{"$f":"IF(#REF!=\"\",\"\",VLOOKUP(#REF!,名簿男子!$A$2:$I$41,3))","v":{"$error":"#REF!"}}]
["所　　　属",{"$f":"様式１男子!E4","v":0},null,"学　　年",{"$f":"IF(E51=\"\",\"\",VLOOKUP(E51,名簿男子!$A$2:$K$101,6))","v":0},null,"所　　　属",{"$f":"様式１男子!E4","v":0},null,"学　　年",{"$f":"IF(K51=\"\",\"\",VLOOKUP(K51,名簿男子!$A$2:$K$101,6))","v":0},"所　　　属",{"$f":"様式１男子!E4","v":0},null,"学　　年",{"$f":"IF(P51=\"\",\"\",VLOOKUP(P51,名簿男子!$A$2:$K$101,6))","v":0},null,"所　　　属",{"$f":"様式１男子!E4","v":0},null,"学　　年",{"$f":"IF(V51=\"\",\"\",VLOOKUP(V51,名簿男子!$A$2:$K$101,6))","v":0},"所　　　属",{"$f":"様式１男子!E4","v":0},null,"学　　年",{"$f":"IF(AA51=\"\",\"\",VLOOKUP(AA51,名簿男子!$A$2:$K$101,6))","v":0},null,"所　　　属",{"$f":"様式１男子!E4","v":0},null,"学　　年",{"$f":"IF(AG51=\"\",\"\",VLOOKUP(AG51,名簿男子!$A$2:$K$101,6))","v":{"$error":"#N/A"}},"所　　　属",{"$f":"様式１男子!E4","v":0},null,"学　　年",{"$f":"IF(AL51=\"\",\"\",VLOOKUP(AL51,名簿男子!$A$2:$K$101,6))","v":{"$error":"#N/A"}},null,"所　　　属",{"$f":"様式１男子!E4","v":0},null,"学　　年",{"$f":"IF(AR51=\"\",\"\",VLOOKUP(AR51,名簿男子!$A$2:$K$101,6))","v":{"$error":"#N/A"}},"所　　　属",{"$f":"様式１男子!E4","v":0},null,"学　　年",{"$f":"IF(AW51=\"\",\"\",VLOOKUP(AW51,名簿男子!$A$2:$K$101,6))","v":{"$error":"#N/A"}},null,"所　　　属",{"$f":"様式１男子!E4","v":0},null,"学　　年",{"$f":"IF(BC51=\"\",\"\",VLOOKUP(BC51,名簿男子!$A$2:$K$101,6))","v":{"$error":"#N/A"}},"所　　　属",{"$f":"様式１男子!E4","v":0},null,"学　　年",{"$f":"IF(BH51=\"\",\"\",VLOOKUP(BH51,名簿男子!$A$2:$K$101,6))","v":{"$error":"#N/A"}},null,"所　　　属",{"$f":"様式１男子!E4","v":0},null,"学　　年",{"$f":"IF(BN51=\"\",\"\",VLOOKUP(BN51,名簿男子!$A$2:$K$101,6))","v":{"$error":"#N/A"}},"所　　　属",{"$f":"様式１男子!E4","v":0},null,"学　　年",{"$f":"IF(BS51=\"\",\"\",VLOOKUP(BS51,名簿男子!$A$2:$K$101,6))","v":{"$error":"#N/A"}},null,"所　　　属",{"$f":"様式１男子!E4","v":0},null,"学　　年",{"$f":"IF(BY51=\"\",\"\",VLOOKUP(BY51,名簿男子!$A$2:$K$101,6))","v":{"$error":"#N/A"}},"所　　　属",{"$f":"様式１男子!E4","v":0},null,"学　　年",{"$f":"IF(CD51=\"\",\"\",VLOOKUP(CD51,名簿男子!$A$2:$K$101,6))","v":{"$error":"#N/A"}},null,"所　　　属",{"$f":"様式１男子!E4","v":0},null,"学　　年",{"$f":"IF(CJ51=\"\",\"\",VLOOKUP(CJ51,名簿男子!$A$2:$K$101,6))","v":{"$error":"#N/A"}}]
["学　　　校",null,null,"年　　齢",null,null,"学　　　校",null,null,"年　　齢",null,"学　　　校",null,null,"年　　齢",null,null,"学　　　校",null,null,"年　　齢",null,"学　　　校",null,null,"年　　齢",null,null,"学　　　校",null,null,"年　　齢",null,"学　　　校",null,null,"年　　齢",null,null,"学　　　校",null,null,"年　　齢",null,"学　　　校",null,null,"年　　齢",null,null,"学　　　校",null,null,"年　　齢",null,"学　　　校",null,null,"年　　齢",null,null,"学　　　校",null,null,"年　　齢",null,"学　　　校",null,null,"年　　齢",null,null,"学　　　校",null,null,"年　　齢",null,"学　　　校",null,null,"年　　齢",null,null,"学　　　校",null,null,"年　　齢"]
["種　　　目",{"$f":"IF(E51=\"\",\"\",VLOOKUP(E51,名簿男子!$A$2:$K$101,9))","v":0},null,null,null,null,"種　　　目",{"$f":"IF(K51=\"\",\"\",VLOOKUP(K51,名簿男子!$A$2:$K$101,9))","v":0},null,null,null,"種　　　目",{"$f":"IF(P51=\"\",\"\",VLOOKUP(P51,名簿男子!$A$2:$K$101,9))","v":0},null,null,null,null,"種　　　目",{"$f":"IF(V51=\"\",\"\",VLOOKUP(V51,名簿男子!$A$2:$K$101,9))","v":0},null,null,null,"種　　　目",{"$f":"IF(AA51=\"\",\"\",VLOOKUP(AA51,名簿男子!$A$2:$K$101,9))","v":0},null,null,null,null,"種　　　目",{"$f":"IF(AG51=\"\",\"\",VLOOKUP(AG51,名簿男子!$A$2:$K$101,9))","v":{"$error":"#N/A"}},null,null,null,"種　　　目",{"$f":"IF(AL51=\"\",\"\",VLOOKUP(AL51,名簿男子!$A$2:$K$101,9))","v":{"$error":"#N/A"}},null,null,null,null,"種　　　目",{"$f":"IF(AR51=\"\",\"\",VLOOKUP(AR51,名簿男子!$A$2:$K$101,9))","v":{"$error":"#N/A"}},null,null,null,"種　　　目",{"$f":"IF(AW51=\"\",\"\",VLOOKUP(AW51,名簿男子!$A$2:$K$101,9))","v":{"$error":"#N/A"}},null,null,null,null,"種　　　目",{"$f":"IF(BC51=\"\",\"\",VLOOKUP(BC51,名簿男子!$A$2:$K$101,9))","v":{"$error":"#N/A"}},null,null,null,"種　　　目",{"$f":"IF(BH51=\"\",\"\",VLOOKUP(BH51,名簿男子!$A$2:$K$101,9))","v":{"$error":"#N/A"}},null,null,null,null,"種　　　目",{"$f":"IF(BN51=\"\",\"\",VLOOKUP(BN51,名簿男子!$A$2:$K$101,9))","v":{"$error":"#N/A"}},null,null,null,"種　　　目",{"$f":"IF(BS51=\"\",\"\",VLOOKUP(BS51,名簿男子!$A$2:$K$101,9))","v":{"$error":"#N/A"}},null,null,null,null,"種　　　目",{"$f":"IF(BY51=\"\",\"\",VLOOKUP(BY51,名簿男子!$A$2:$K$101,9))","v":{"$error":"#N/A"}},null,null,null,"種　　　目",{"$f":"IF(CD51=\"\",\"\",VLOOKUP(CD51,名簿男子!$A$2:$K$101,9))","v":{"$error":"#N/A"}},null,null,null,null,"種　　　目",{"$f":"IF(CJ51=\"\",\"\",VLOOKUP(CJ51,名簿男子!$A$2:$K$101,9))","v":{"$error":"#N/A"}}]
["最高記録",{"$f":"IF(E51=\"\",\"\",VLOOKUP(E51,名簿男子!$A$2:$K$101,10))","v":0},"大　会　名　・　年　度",null,null,null,"最高記録",{"$f":"IF(K51=\"\",\"\",VLOOKUP(K51,名簿男子!$A$2:$K$101,10))","v":0},"大　会　名　・　年　度",null,null,"最高記録",{"$f":"IF(P51=\"\",\"\",VLOOKUP(P51,名簿男子!$A$2:$K$101,10))","v":0},"大　会　名　・　年　度",null,null,null,"最高記録",{"$f":"IF(V51=\"\",\"\",VLOOKUP(V51,名簿男子!$A$2:$K$101,10))","v":0},"大　会　名　・　年　度",null,null,"最高記録",{"$f":"IF(AA51=\"\",\"\",VLOOKUP(AA51,名簿男子!$A$2:$K$101,10))","v":0},"大　会　名　・　年　度",null,null,null,"最高記録",{"$f":"IF(AG51=\"\",\"\",VLOOKUP(AG51,名簿男子!$A$2:$K$101,10))","v":{"$error":"#N/A"}},"大　会　名　・　年　度",null,null,"最高記録",{"$f":"IF(AL51=\"\",\"\",VLOOKUP(AL51,名簿男子!$A$2:$K$101,10))","v":{"$error":"#N/A"}},"大　会　名　・　年　度",null,null,null,"最高記録",{"$f":"IF(AR51=\"\",\"\",VLOOKUP(AR51,名簿男子!$A$2:$K$101,10))","v":{"$error":"#N/A"}},"大　会　名　・　年　度",null,null,"最高記録",{"$f":"IF(AW51=\"\",\"\",VLOOKUP(AW51,名簿男子!$A$2:$K$101,10))","v":{"$error":"#N/A"}},"大　会　名　・　年　度",null,null,null,"最高記録",{"$f":"IF(BC51=\"\",\"\",VLOOKUP(BC51,名簿男子!$A$2:$K$101,10))","v":{"$error":"#N/A"}},"大　会　名　・　年　度",null,null,"最高記録",{"$f":"IF(BH51=\"\",\"\",VLOOKUP(BH51,名簿男子!$A$2:$K$101,10))","v":{"$error":"#N/A"}},"大　会　名　・　年　度",null,null,null,"最高記録",{"$f":"IF(BN51=\"\",\"\",VLOOKUP(BN51,名簿男子!$A$2:$K$101,10))","v":{"$error":"#N/A"}},"大　会　名　・　年　度",null,null,"最高記録",{"$f":"IF(BS51=\"\",\"\",VLOOKUP(BS51,名簿男子!$A$2:$K$101,10))","v":{"$error":"#N/A"}},"大　会　名　・　年　度",null,null,null,"最高記録",{"$f":"IF(BY51=\"\",\"\",VLOOKUP(BY51,名簿男子!$A$2:$K$101,10))","v":{"$error":"#N/A"}},"大　会　名　・　年　度",null,null,"最高記録",{"$f":"IF(CD51=\"\",\"\",VLOOKUP(CD51,名簿男子!$A$2:$K$101,10))","v":{"$error":"#N/A"}},"大　会　名　・　年　度",null,null,null,"最高記録",{"$f":"IF(CJ51=\"\",\"\",VLOOKUP(CJ51,名簿男子!$A$2:$K$101,10))","v":{"$error":"#N/A"}},"大　会　名　・　年　度"]
[null,null,{"$f":"IF(E51=\"\",\"\",VLOOKUP(E51,名簿男子!$A$2:$K$101,11))","v":0},null,null,null,null,null,{"$f":"IF(K51=\"\",\"\",VLOOKUP(K51,名簿男子!$A$2:$K$101,11))","v":0},null,null,null,null,{"$f":"IF(P51=\"\",\"\",VLOOKUP(P51,名簿男子!$A$2:$K$101,11))","v":0},null,null,null,null,null,{"$f":"IF(V51=\"\",\"\",VLOOKUP(V51,名簿男子!$A$2:$K$101,11))","v":0},null,null,null,null,{"$f":"IF(AA51=\"\",\"\",VLOOKUP(AA51,名簿男子!$A$2:$K$101,11))","v":0},null,null,null,null,null,{"$f":"IF(AG51=\"\",\"\",VLOOKUP(AG51,名簿男子!$A$2:$K$101,11))","v":{"$error":"#N/A"}},null,null,null,null,{"$f":"IF(AL51=\"\",\"\",VLOOKUP(AL51,名簿男子!$A$2:$K$101,11))","v":{"$error":"#N/A"}},null,null,null,null,null,{"$f":"IF(AR51=\"\",\"\",VLOOKUP(AR51,名簿男子!$A$2:$K$101,11))","v":{"$error":"#N/A"}},null,null,null,null,{"$f":"IF(AW51=\"\",\"\",VLOOKUP(AW51,名簿男子!$A$2:$K$101,11))","v":{"$error":"#N/A"}},null,null,null,null,null,{"$f":"IF(BC51=\"\",\"\",VLOOKUP(BC51,名簿男子!$A$2:$K$101,11))","v":{"$error":"#N/A"}},null,null,null,null,{"$f":"IF(BH51=\"\",\"\",VLOOKUP(BH51,名簿男子!$A$2:$K$101,11))","v":{"$error":"#N/A"}},null,null,null,null,null,{"$f":"IF(BN51=\"\",\"\",VLOOKUP(BN51,名簿男子!$A$2:$K$101,11))","v":{"$error":"#N/A"}},null,null,null,null,{"$f":"IF(BS51=\"\",\"\",VLOOKUP(BS51,名簿男子!$A$2:$K$101,11))","v":{"$error":"#N/A"}},null,null,null,null,null,{"$f":"IF(BY51=\"\",\"\",VLOOKUP(BY51,名簿男子!$A$2:$K$101,11))","v":{"$error":"#N/A"}},null,null,null,null,{"$f":"IF(CD51=\"\",\"\",VLOOKUP(CD51,名簿男子!$A$2:$K$101,11))","v":{"$error":"#N/A"}},null,null,null,null,null,{"$f":"IF(CJ51=\"\",\"\",VLOOKUP(CJ51,名簿男子!$A$2:$K$101,11))","v":{"$error":"#N/A"}}]
["ナンバー",{"$f":"IF(E51=\"\",\"\",VLOOKUP(E51,名簿男子!$A$2:$K$101,2))","v":0},null,null,null,null,"ナンバー",{"$f":"IF(K51=\"\",\"\",VLOOKUP(K51,名簿男子!$A$2:$K$101,2))","v":0},null,null,null,"ナンバー",{"$f":"IF(P51=\"\",\"\",VLOOKUP(P51,名簿男子!$A$2:$K$101,2))","v":0},null,null,null,null,"ナンバー",{"$f":"IF(V51=\"\",\"\",VLOOKUP(V51,名簿男子!$A$2:$K$101,2))","v":0},null,null,null,"ナンバー",{"$f":"IF(AA51=\"\",\"\",VLOOKUP(AA51,名簿男子!$A$2:$K$101,2))","v":0},null,null,null,null,"ナンバー",{"$f":"IF(AG51=\"\",\"\",VLOOKUP(AG51,名簿男子!$A$2:$K$101,2))","v":{"$error":"#N/A"}},null,null,null,"ナンバー",{"$f":"IF(AL51=\"\",\"\",VLOOKUP(AL51,名簿男子!$A$2:$K$101,2))","v":{"$error":"#N/A"}},null,null,null,null,"ナンバー",{"$f":"IF(AR51=\"\",\"\",VLOOKUP(AR51,名簿男子!$A$2:$K$101,2))","v":{"$error":"#N/A"}},null,null,null,"ナンバー",{"$f":"IF(AW51=\"\",\"\",VLOOKUP(AW51,名簿男子!$A$2:$K$101,2))","v":{"$error":"#N/A"}},null,null,null,null,"ナンバー",{"$f":"IF(BC51=\"\",\"\",VLOOKUP(BC51,名簿男子!$A$2:$K$101,2))","v":{"$error":"#N/A"}},null,null,null,"ナンバー",{"$f":"IF(BH51=\"\",\"\",VLOOKUP(BH51,名簿男子!$A$2:$K$101,2))","v":{"$error":"#N/A"}},null,null,null,null,"ナンバー",{"$f":"IF(BN51=\"\",\"\",VLOOKUP(BN51,名簿男子!$A$2:$K$101,2))","v":{"$error":"#N/A"}},null,null,null,"ナンバー",{"$f":"IF(BS51=\"\",\"\",VLOOKUP(BS51,名簿男子!$A$2:$K$101,2))","v":{"$error":"#N/A"}},null,null,null,null,"ナンバー",{"$f":"IF(BY51=\"\",\"\",VLOOKUP(BY51,名簿男子!$A$2:$K$101,2))","v":{"$error":"#N/A"}},null,null,null,"ナンバー",{"$f":"IF(CD51=\"\",\"\",VLOOKUP(CD51,名簿男子!$A$2:$K$101,2))","v":{"$error":"#N/A"}},null,null,null,null,"ナンバー",{"$f":"IF(CJ51=\"\",\"\",VLOOKUP(CJ51,名簿男子!$A$2:$K$101,2))","v":{"$error":"#N/A"}}]
[]
[]
["※女子は朱書きのこと",null,null,null,null,null,"※女子は朱書きのこと",null,null,null,null,"※女子は朱書きのこと",null,null,null,null,null,"※女子は朱書きのこと",null,null,null,null,"※女子は朱書きのこと",null,null,null,null,null,"※女子は朱書きのこと",null,null,null,null,"※女子は朱書きのこと",null,null,null,null,null,"※女子は朱書きのこと",null,null,null,null,"※女子は朱書きのこと",null,null,null,null,null,"※女子は朱書きのこと",null,null,null,null,"※女子は朱書きのこと",null,null,null,null,null,"※女子は朱書きのこと",null,null,null,null,"※女子は朱書きのこと",null,null,null,null,null,"※女子は朱書きのこと",null,null,null,null,"※女子は朱書きのこと",null,null,null,null,null,"※女子は朱書きのこと"]
["（ふりがな）",{"$f":"IF(E52=\"\",\"\",VLOOKUP(E52,名簿男子!$A$2:$K$101,4))","v":0},{"$f":"IF(#REF!=\"\",\"\",VLOOKUP(#REF!,名簿男子!$A$2:$I$41,4))","v":{"$error":"#REF!"}},"性　　別","男　・　女",null,"（ふりがな）",{"$f":"IF(K52=\"\",\"\",VLOOKUP(K52,名簿男子!$A$2:$K$101,4))","v":0},{"$f":"IF(#REF!=\"\",\"\",VLOOKUP(#REF!,名簿男子!$A$2:$I$41,4))","v":{"$error":"#REF!"}},"性　　別","男　・　女","（ふりがな）",{"$f":"IF(P52=\"\",\"\",VLOOKUP(P52,名簿男子!$A$2:$K$101,4))","v":0},{"$f":"IF(#REF!=\"\",\"\",VLOOKUP(#REF!,名簿男子!$A$2:$I$41,4))","v":{"$error":"#REF!"}},"性　　別","男　・　女",null,"（ふりがな）",{"$f":"IF(V52=\"\",\"\",VLOOKUP(V52,名簿男子!$A$2:$K$101,4))","v":0},{"$f":"IF(#REF!=\"\",\"\",VLOOKUP(#REF!,名簿男子!$A$2:$I$41,4))","v":{"$error":"#REF!"}},"性　　別","男　・　女","（ふりがな）",{"$f":"IF(AA52=\"\",\"\",VLOOKUP(AA52,名簿男子!$A$2:$K$101,4))","v":0},{"$f":"IF(#REF!=\"\",\"\",VLOOKUP(#REF!,名簿男子!$A$2:$I$41,4))","v":{"$error":"#REF!"}},"性　　別","男　・　女",null,"（ふりがな）",{"$f":"IF(AG52=\"\",\"\",VLOOKUP(AG52,名簿男子!$A$2:$K$101,4))","v":{"$error":"#N/A"}},{"$f":"IF(#REF!=\"\",\"\",VLOOKUP(#REF!,名簿男子!$A$2:$I$41,4))","v":{"$error":"#REF!"}},"性　　別","男　・　女","（ふりがな）",{"$f":"IF(AL52=\"\",\"\",VLOOKUP(AL52,名簿男子!$A$2:$K$101,4))","v":{"$error":"#N/A"}},{"$f":"IF(#REF!=\"\",\"\",VLOOKUP(#REF!,名簿男子!$A$2:$I$41,4))","v":{"$error":"#REF!"}},"性　　別","男　・　女",null,"（ふりがな）",{"$f":"IF(AR52=\"\",\"\",VLOOKUP(AR52,名簿男子!$A$2:$K$101,4))","v":{"$error":"#N/A"}},{"$f":"IF(#REF!=\"\",\"\",VLOOKUP(#REF!,名簿男子!$A$2:$I$41,4))","v":{"$error":"#REF!"}},"性　　別","男　・　女","（ふりがな）",{"$f":"IF(AW52=\"\",\"\",VLOOKUP(AW52,名簿男子!$A$2:$K$101,4))","v":{"$error":"#N/A"}},{"$f":"IF(#REF!=\"\",\"\",VLOOKUP(#REF!,名簿男子!$A$2:$I$41,4))","v":{"$error":"#REF!"}},"性　　別","男　・　女",null,"（ふりがな）",{"$f":"IF(BC52=\"\",\"\",VLOOKUP(BC52,名簿男子!$A$2:$K$101,4))","v":{"$error":"#N/A"}},{"$f":"IF(#REF!=\"\",\"\",VLOOKUP(#REF!,名簿男子!$A$2:$I$41,4))","v":{"$error":"#REF!"}},"性　　別","男　・　女","（ふりがな）",{"$f":"IF(BH52=\"\",\"\",VLOOKUP(BH52,名簿男子!$A$2:$K$101,4))","v":{"$error":"#N/A"}},{"$f":"IF(#REF!=\"\",\"\",VLOOKUP(#REF!,名簿男子!$A$2:$I$41,4))","v":{"$error":"#REF!"}},"性　　別","男　・　女",null,"（ふりがな）",{"$f":"IF(BN52=\"\",\"\",VLOOKUP(BN52,名簿男子!$A$2:$K$101,4))","v":{"$error":"#N/A"}},{"$f":"IF(#REF!=\"\",\"\",VLOOKUP(#REF!,名簿男子!$A$2:$I$41,4))","v":{"$error":"#REF!"}},"性　　別","男　・　女","（ふりがな）",{"$f":"IF(BS52=\"\",\"\",VLOOKUP(BS52,名簿男子!$A$2:$K$101,4))","v":{"$error":"#N/A"}},{"$f":"IF(#REF!=\"\",\"\",VLOOKUP(#REF!,名簿男子!$A$2:$I$41,4))","v":{"$error":"#REF!"}},"性　　別","男　・　女",null,"（ふりがな）",{"$f":"IF(BY52=\"\",\"\",VLOOKUP(BY52,名簿男子!$A$2:$K$101,4))","v":{"$error":"#N/A"}},{"$f":"IF(#REF!=\"\",\"\",VLOOKUP(#REF!,名簿男子!$A$2:$I$41,4))","v":{"$error":"#REF!"}},"性　　別","男　・　女","（ふりがな）",{"$f":"IF(CD52=\"\",\"\",VLOOKUP(CD52,名簿男子!$A$2:$K$101,4))","v":{"$error":"#N/A"}},{"$f":"IF(#REF!=\"\",\"\",VLOOKUP(#REF!,名簿男子!$A$2:$I$41,4))","v":{"$error":"#REF!"}},"性　　別","男　・　女",null,"（ふりがな）",{"$f":"IF(CJ52=\"\",\"\",VLOOKUP(CJ52,名簿男子!$A$2:$K$101,4))","v":{"$error":"#N/A"}},{"$f":"IF(#REF!=\"\",\"\",VLOOKUP(#REF!,名簿男子!$A$2:$I$41,4))","v":{"$error":"#REF!"}},"性　　別","男　・　女"]
["氏　　　名",{"$f":"IF(E52=\"\",\"\",VLOOKUP(E52,名簿男子!$A$2:$K$101,3))","v":0},{"$f":"IF(#REF!=\"\",\"\",VLOOKUP(#REF!,名簿男子!$A$2:$I$41,3))","v":{"$error":"#REF!"}},null,null,null,"氏　　　名",{"$f":"IF(K52=\"\",\"\",VLOOKUP(K52,名簿男子!$A$2:$K$101,3))","v":0},{"$f":"IF(#REF!=\"\",\"\",VLOOKUP(#REF!,名簿男子!$A$2:$I$41,3))","v":{"$error":"#REF!"}},null,null,"氏　　　名",{"$f":"IF(P52=\"\",\"\",VLOOKUP(P52,名簿男子!$A$2:$K$101,3))","v":0},{"$f":"IF(#REF!=\"\",\"\",VLOOKUP(#REF!,名簿男子!$A$2:$I$41,3))","v":{"$error":"#REF!"}},null,null,null,"氏　　　名",{"$f":"IF(V52=\"\",\"\",VLOOKUP(V52,名簿男子!$A$2:$K$101,3))","v":0},{"$f":"IF(#REF!=\"\",\"\",VLOOKUP(#REF!,名簿男子!$A$2:$I$41,3))","v":{"$error":"#REF!"}},null,null,"氏　　　名",{"$f":"IF(AA52=\"\",\"\",VLOOKUP(AA52,名簿男子!$A$2:$K$101,3))","v":0},{"$f":"IF(#REF!=\"\",\"\",VLOOKUP(#REF!,名簿男子!$A$2:$I$41,3))","v":{"$error":"#REF!"}},null,null,null,"氏　　　名",{"$f":"IF(AG52=\"\",\"\",VLOOKUP(AG52,名簿男子!$A$2:$K$101,3))","v":{"$error":"#N/A"}},{"$f":"IF(#REF!=\"\",\"\",VLOOKUP(#REF!,名簿男子!$A$2:$I$41,3))","v":{"$error":"#REF!"}},null,null,"氏　　　名",{"$f":"IF(AL52=\"\",\"\",VLOOKUP(AL52,名簿男子!$A$2:$K$101,3))","v":{"$error":"#N/A"}},{"$f":"IF(#REF!=\"\",\"\",VLOOKUP(#REF!,名簿男子!$A$2:$I$41,3))","v":{"$error":"#REF!"}},null,null,null,"氏　　　名",{"$f":"IF(AR52=\"\",\"\",VLOOKUP(AR52,名簿男子!$A$2:$K$101,3))","v":{"$error":"#N/A"}},{"$f":"IF(#REF!=\"\",\"\",VLOOKUP(#REF!,名簿男子!$A$2:$I$41,3))","v":{"$error":"#REF!"}},null,null,"氏　　　名",{"$f":"IF(AW52=\"\",\"\",VLOOKUP(AW52,名簿男子!$A$2:$K$101,3))","v":{"$error":"#N/A"}},{"$f":"IF(#REF!=\"\",\"\",VLOOKUP(#REF!,名簿男子!$A$2:$I$41,3))","v":{"$error":"#REF!"}},null,null,null,"氏　　　名",{"$f":"IF(BC52=\"\",\"\",VLOOKUP(BC52,名簿男子!$A$2:$K$101,3))","v":{"$error":"#N/A"}},{"$f":"IF(#REF!=\"\",\"\",VLOOKUP(#REF!,名簿男子!$A$2:$I$41,3))","v":{"$error":"#REF!"}},null,null,"氏　　　名",{"$f":"IF(BH52=\"\",\"\",VLOOKUP(BH52,名簿男子!$A$2:$K$101,3))","v":{"$error":"#N/A"}},{"$f":"IF(#REF!=\"\",\"\",VLOOKUP(#REF!,名簿男子!$A$2:$I$41,3))","v":{"$error":"#REF!"}},null,null,null,"氏　　　名",{"$f":"IF(BN52=\"\",\"\",VLOOKUP(BN52,名簿男子!$A$2:$K$101,3))","v":{"$error":"#N/A"}},{"$f":"IF(#REF!=\"\",\"\",VLOOKUP(#REF!,名簿男子!$A$2:$I$41,3))","v":{"$error":"#REF!"}},null,null,"氏　　　名",{"$f":"IF(BS52=\"\",\"\",VLOOKUP(BS52,名簿男子!$A$2:$K$101,3))","v":{"$error":"#N/A"}},{"$f":"IF(#REF!=\"\",\"\",VLOOKUP(#REF!,名簿男子!$A$2:$I$41,3))","v":{"$error":"#REF!"}},null,null,null,"氏　　　名",{"$f":"IF(BY52=\"\",\"\",VLOOKUP(BY52,名簿男子!$A$2:$K$101,3))","v":{"$error":"#N/A"}},{"$f":"IF(#REF!=\"\",\"\",VLOOKUP(#REF!,名簿男子!$A$2:$I$41,3))","v":{"$error":"#REF!"}},null,null,"氏　　　名",{"$f":"IF(CD52=\"\",\"\",VLOOKUP(CD52,名簿男子!$A$2:$K$101,3))","v":{"$error":"#N/A"}},{"$f":"IF(#REF!=\"\",\"\",VLOOKUP(#REF!,名簿男子!$A$2:$I$41,3))","v":{"$error":"#REF!"}},null,null,null,"氏　　　名",{"$f":"IF(CJ52=\"\",\"\",VLOOKUP(CJ52,名簿男子!$A$2:$K$101,3))","v":{"$error":"#N/A"}},{"$f":"IF(#REF!=\"\",\"\",VLOOKUP(#REF!,名簿男子!$A$2:$I$41,3))","v":{"$error":"#REF!"}}]
["所　　　属",{"$f":"様式１男子!E4","v":0},null,"学　　年",{"$f":"IF(E52=\"\",\"\",VLOOKUP(E52,名簿男子!$A$2:$K$101,6))","v":0},null,"所　　　属",{"$f":"様式１男子!E4","v":0},null,"学　　年",{"$f":"IF(K52=\"\",\"\",VLOOKUP(K52,名簿男子!$A$2:$K$101,6))","v":0},"所　　　属",{"$f":"様式１男子!E4","v":0},null,"学　　年",{"$f":"IF(P52=\"\",\"\",VLOOKUP(P52,名簿男子!$A$2:$K$101,6))","v":0},null,"所　　　属",{"$f":"様式１男子!E4","v":0},null,"学　　年",{"$f":"IF(V52=\"\",\"\",VLOOKUP(V52,名簿男子!$A$2:$K$101,6))","v":0},"所　　　属",{"$f":"様式１男子!E4","v":0},null,"学　　年",{"$f":"IF(AA52=\"\",\"\",VLOOKUP(AA52,名簿男子!$A$2:$K$101,6))","v":0},null,"所　　　属",{"$f":"様式１男子!E4","v":0},null,"学　　年",{"$f":"IF(AG52=\"\",\"\",VLOOKUP(AG52,名簿男子!$A$2:$K$101,6))","v":{"$error":"#N/A"}},"所　　　属",{"$f":"様式１男子!E4","v":0},null,"学　　年",{"$f":"IF(AL52=\"\",\"\",VLOOKUP(AL52,名簿男子!$A$2:$K$101,6))","v":{"$error":"#N/A"}},null,"所　　　属",{"$f":"様式１男子!E4","v":0},null,"学　　年",{"$f":"IF(AR52=\"\",\"\",VLOOKUP(AR52,名簿男子!$A$2:$K$101,6))","v":{"$error":"#N/A"}},"所　　　属",{"$f":"様式１男子!E4","v":0},null,"学　　年",{"$f":"IF(AW52=\"\",\"\",VLOOKUP(AW52,名簿男子!$A$2:$K$101,6))","v":{"$error":"#N/A"}},null,"所　　　属",{"$f":"様式１男子!E4","v":0},null,"学　　年",{"$f":"IF(BC52=\"\",\"\",VLOOKUP(BC52,名簿男子!$A$2:$K$101,6))","v":{"$error":"#N/A"}},"所　　　属",{"$f":"様式１男子!E4","v":0},null,"学　　年",{"$f":"IF(BH52=\"\",\"\",VLOOKUP(BH52,名簿男子!$A$2:$K$101,6))","v":{"$error":"#N/A"}},null,"所　　　属",{"$f":"様式１男子!E4","v":0},null,"学　　年",{"$f":"IF(BN52=\"\",\"\",VLOOKUP(BN52,名簿男子!$A$2:$K$101,6))","v":{"$error":"#N/A"}},"所　　　属",{"$f":"様式１男子!E4","v":0},null,"学　　年",{"$f":"IF(BS52=\"\",\"\",VLOOKUP(BS52,名簿男子!$A$2:$K$101,6))","v":{"$error":"#N/A"}},null,"所　　　属",{"$f":"様式１男子!E4","v":0},null,"学　　年",{"$f":"IF(BY52=\"\",\"\",VLOOKUP(BY52,名簿男子!$A$2:$K$101,6))","v":{"$error":"#N/A"}},"所　　　属",{"$f":"様式１男子!E4","v":0},null,"学　　年",{"$f":"IF(CD52=\"\",\"\",VLOOKUP(CD52,名簿男子!$A$2:$K$101,6))","v":{"$error":"#N/A"}},null,"所　　　属",{"$f":"様式１男子!E4","v":0},null,"学　　年",{"$f":"IF(CJ52=\"\",\"\",VLOOKUP(CJ52,名簿男子!$A$2:$K$101,6))","v":{"$error":"#N/A"}}]
["学　　　校",null,null,"年　　齢",null,null,"学　　　校",null,null,"年　　齢",null,"学　　　校",null,null,"年　　齢",null,null,"学　　　校",null,null,"年　　齢",null,"学　　　校",null,null,"年　　齢",null,null,"学　　　校",null,null,"年　　齢",null,"学　　　校",null,null,"年　　齢",null,null,"学　　　校",null,null,"年　　齢",null,"学　　　校",null,null,"年　　齢",null,null,"学　　　校",null,null,"年　　齢",null,"学　　　校",null,null,"年　　齢",null,null,"学　　　校",null,null,"年　　齢",null,"学　　　校",null,null,"年　　齢",null,null,"学　　　校",null,null,"年　　齢",null,"学　　　校",null,null,"年　　齢",null,null,"学　　　校",null,null,"年　　齢"]
["種　　　目",{"$f":"IF(E52=\"\",\"\",VLOOKUP(E52,名簿男子!$A$2:$K$101,9))","v":0},null,null,null,null,"種　　　目",{"$f":"IF(K52=\"\",\"\",VLOOKUP(K52,名簿男子!$A$2:$K$101,9))","v":0},null,null,null,"種　　　目",{"$f":"IF(P52=\"\",\"\",VLOOKUP(P52,名簿男子!$A$2:$K$101,9))","v":0},null,null,null,null,"種　　　目",{"$f":"IF(V52=\"\",\"\",VLOOKUP(V52,名簿男子!$A$2:$K$101,9))","v":0},null,null,null,"種　　　目",{"$f":"IF(AA52=\"\",\"\",VLOOKUP(AA52,名簿男子!$A$2:$K$101,9))","v":0},null,null,null,null,"種　　　目",{"$f":"IF(AG52=\"\",\"\",VLOOKUP(AG52,名簿男子!$A$2:$K$101,9))","v":{"$error":"#N/A"}},null,null,null,"種　　　目",{"$f":"IF(AL52=\"\",\"\",VLOOKUP(AL52,名簿男子!$A$2:$K$101,9))","v":{"$error":"#N/A"}},null,null,null,null,"種　　　目",{"$f":"IF(AR52=\"\",\"\",VLOOKUP(AR52,名簿男子!$A$2:$K$101,9))","v":{"$error":"#N/A"}},null,null,null,"種　　　目",{"$f":"IF(AW52=\"\",\"\",VLOOKUP(AW52,名簿男子!$A$2:$K$101,9))","v":{"$error":"#N/A"}},null,null,null,null,"種　　　目",{"$f":"IF(BC52=\"\",\"\",VLOOKUP(BC52,名簿男子!$A$2:$K$101,9))","v":{"$error":"#N/A"}},null,null,null,"種　　　目",{"$f":"IF(BH52=\"\",\"\",VLOOKUP(BH52,名簿男子!$A$2:$K$101,9))","v":{"$error":"#N/A"}},null,null,null,null,"種　　　目",{"$f":"IF(BN52=\"\",\"\",VLOOKUP(BN52,名簿男子!$A$2:$K$101,9))","v":{"$error":"#N/A"}},null,null,null,"種　　　目",{"$f":"IF(BS52=\"\",\"\",VLOOKUP(BS52,名簿男子!$A$2:$K$101,9))","v":{"$error":"#N/A"}},null,null,null,null,"種　　　目",{"$f":"IF(BY52=\"\",\"\",VLOOKUP(BY52,名簿男子!$A$2:$K$101,9))","v":{"$error":"#N/A"}},null,null,null,"種　　　目",{"$f":"IF(CD52=\"\",\"\",VLOOKUP(CD52,名簿男子!$A$2:$K$101,9))","v":{"$error":"#N/A"}},null,null,null,null,"種　　　目",{"$f":"IF(CJ52=\"\",\"\",VLOOKUP(CJ52,名簿男子!$A$2:$K$101,9))","v":{"$error":"#N/A"}}]
["最高記録",{"$f":"IF(E52=\"\",\"\",VLOOKUP(E52,名簿男子!$A$2:$K$101,10))","v":0},"大　会　名　・　年　度",null,null,null,"最高記録",{"$f":"IF(K52=\"\",\"\",VLOOKUP(K52,名簿男子!$A$2:$K$101,10))","v":0},"大　会　名　・　年　度",null,null,"最高記録",{"$f":"IF(P52=\"\",\"\",VLOOKUP(P52,名簿男子!$A$2:$K$101,10))","v":0},"大　会　名　・　年　度",null,null,null,"最高記録",{"$f":"IF(V52=\"\",\"\",VLOOKUP(V52,名簿男子!$A$2:$K$101,10))","v":0},"大　会　名　・　年　度",null,null,"最高記録",{"$f":"IF(AA52=\"\",\"\",VLOOKUP(AA52,名簿男子!$A$2:$K$101,10))","v":0},"大　会　名　・　年　度",null,null,null,"最高記録",{"$f":"IF(AG52=\"\",\"\",VLOOKUP(AG52,名簿男子!$A$2:$K$101,10))","v":{"$error":"#N/A"}},"大　会　名　・　年　度",null,null,"最高記録",{"$f":"IF(AL52=\"\",\"\",VLOOKUP(AL52,名簿男子!$A$2:$K$101,10))","v":{"$error":"#N/A"}},"大　会　名　・　年　度",null,null,null,"最高記録",{"$f":"IF(AR52=\"\",\"\",VLOOKUP(AR52,名簿男子!$A$2:$K$101,10))","v":{"$error":"#N/A"}},"大　会　名　・　年　度",null,null,"最高記録",{"$f":"IF(AW52=\"\",\"\",VLOOKUP(AW52,名簿男子!$A$2:$K$101,10))","v":{"$error":"#N/A"}},"大　会　名　・　年　度",null,null,null,"最高記録",{"$f":"IF(BC52=\"\",\"\",VLOOKUP(BC52,名簿男子!$A$2:$K$101,10))","v":{"$error":"#N/A"}},"大　会　名　・　年　度",null,null,"最高記録",{"$f":"IF(BH52=\"\",\"\",VLOOKUP(BH52,名簿男子!$A$2:$K$101,10))","v":{"$error":"#N/A"}},"大　会　名　・　年　度",null,null,null,"最高記録",{"$f":"IF(BN52=\"\",\"\",VLOOKUP(BN52,名簿男子!$A$2:$K$101,10))","v":{"$error":"#N/A"}},"大　会　名　・　年　度",null,null,"最高記録",{"$f":"IF(BS52=\"\",\"\",VLOOKUP(BS52,名簿男子!$A$2:$K$101,10))","v":{"$error":"#N/A"}},"大　会　名　・　年　度",null,null,null,"最高記録",{"$f":"IF(BY52=\"\",\"\",VLOOKUP(BY52,名簿男子!$A$2:$K$101,10))","v":{"$error":"#N/A"}},"大　会　名　・　年　度",null,null,"最高記録",{"$f":"IF(CD52=\"\",\"\",VLOOKUP(CD52,名簿男子!$A$2:$K$101,10))","v":{"$error":"#N/A"}},"大　会　名　・　年　度",null,null,null,"最高記録",{"$f":"IF(CJ52=\"\",\"\",VLOOKUP(CJ52,名簿男子!$A$2:$K$101,10))","v":{"$error":"#N/A"}},"大　会　名　・　年　度"]
[null,null,{"$f":"IF(E52=\"\",\"\",VLOOKUP(E52,名簿男子!$A$2:$K$101,11))","v":0},null,null,null,null,null,{"$f":"IF(K52=\"\",\"\",VLOOKUP(K52,名簿男子!$A$2:$K$101,11))","v":0},null,null,null,null,{"$f":"IF(P52=\"\",\"\",VLOOKUP(P52,名簿男子!$A$2:$K$101,11))","v":0},null,null,null,null,null,{"$f":"IF(V52=\"\",\"\",VLOOKUP(V52,名簿男子!$A$2:$K$101,11))","v":0},null,null,null,null,{"$f":"IF(AA52=\"\",\"\",VLOOKUP(AA52,名簿男子!$A$2:$K$101,11))","v":0},null,null,null,null,null,{"$f":"IF(AG52=\"\",\"\",VLOOKUP(AG52,名簿男子!$A$2:$K$101,11))","v":{"$error":"#N/A"}},null,null,null,null,{"$f":"IF(AL52=\"\",\"\",VLOOKUP(AL52,名簿男子!$A$2:$K$101,11))","v":{"$error":"#N/A"}},null,null,null,null,null,{"$f":"IF(AR52=\"\",\"\",VLOOKUP(AR52,名簿男子!$A$2:$K$101,11))","v":{"$error":"#N/A"}},null,null,null,null,{"$f":"IF(AW52=\"\",\"\",VLOOKUP(AW52,名簿男子!$A$2:$K$101,11))","v":{"$error":"#N/A"}},null,null,null,null,null,{"$f":"IF(BC52=\"\",\"\",VLOOKUP(BC52,名簿男子!$A$2:$K$101,11))","v":{"$error":"#N/A"}},null,null,null,null,{"$f":"IF(BH52=\"\",\"\",VLOOKUP(BH52,名簿男子!$A$2:$K$101,11))","v":{"$error":"#N/A"}},null,null,null,null,null,{"$f":"IF(BN52=\"\",\"\",VLOOKUP(BN52,名簿男子!$A$2:$K$101,11))","v":{"$error":"#N/A"}},null,null,null,null,{"$f":"IF(BS52=\"\",\"\",VLOOKUP(BS52,名簿男子!$A$2:$K$101,11))","v":{"$error":"#N/A"}},null,null,null,null,null,{"$f":"IF(BY52=\"\",\"\",VLOOKUP(BY52,名簿男子!$A$2:$K$101,11))","v":{"$error":"#N/A"}},null,null,null,null,{"$f":"IF(CD52=\"\",\"\",VLOOKUP(CD52,名簿男子!$A$2:$K$101,11))","v":{"$error":"#N/A"}},null,null,null,null,null,{"$f":"IF(CJ52=\"\",\"\",VLOOKUP(CJ52,名簿男子!$A$2:$K$101,11))","v":{"$error":"#N/A"}}]
["ナンバー",{"$f":"IF(E52=\"\",\"\",VLOOKUP(E52,名簿男子!$A$2:$K$101,2))","v":0},null,null,null,null,"ナンバー",{"$f":"IF(K52=\"\",\"\",VLOOKUP(K52,名簿男子!$A$2:$K$101,2))","v":0},null,null,null,"ナンバー",{"$f":"IF(P52=\"\",\"\",VLOOKUP(P52,名簿男子!$A$2:$K$101,2))","v":0},null,null,null,null,"ナンバー",{"$f":"IF(V52=\"\",\"\",VLOOKUP(V52,名簿男子!$A$2:$K$101,2))","v":0},null,null,null,"ナンバー",{"$f":"IF(AA52=\"\",\"\",VLOOKUP(AA52,名簿男子!$A$2:$K$101,2))","v":0},null,null,null,null,"ナンバー",{"$f":"IF(AG52=\"\",\"\",VLOOKUP(AG52,名簿男子!$A$2:$K$101,2))","v":{"$error":"#N/A"}},null,null,null,"ナンバー",{"$f":"IF(AL52=\"\",\"\",VLOOKUP(AL52,名簿男子!$A$2:$K$101,2))","v":{"$error":"#N/A"}},null,null,null,null,"ナンバー",{"$f":"IF(AR52=\"\",\"\",VLOOKUP(AR52,名簿男子!$A$2:$K$101,2))","v":{"$error":"#N/A"}},null,null,null,"ナンバー",{"$f":"IF(AW52=\"\",\"\",VLOOKUP(AW52,名簿男子!$A$2:$K$101,2))","v":{"$error":"#N/A"}},null,null,null,null,"ナンバー",{"$f":"IF(BC52=\"\",\"\",VLOOKUP(BC52,名簿男子!$A$2:$K$101,2))","v":{"$error":"#N/A"}},null,null,null,"ナンバー",{"$f":"IF(BH52=\"\",\"\",VLOOKUP(BH52,名簿男子!$A$2:$K$101,2))","v":{"$error":"#N/A"}},null,null,null,null,"ナンバー",{"$f":"IF(BN52=\"\",\"\",VLOOKUP(BN52,名簿男子!$A$2:$K$101,2))","v":{"$error":"#N/A"}},null,null,null,"ナンバー",{"$f":"IF(BS52=\"\",\"\",VLOOKUP(BS52,名簿男子!$A$2:$K$101,2))","v":{"$error":"#N/A"}},null,null,null,null,"ナンバー",{"$f":"IF(BY52=\"\",\"\",VLOOKUP(BY52,名簿男子!$A$2:$K$101,2))","v":{"$error":"#N/A"}},null,null,null,"ナンバー",{"$f":"IF(CD52=\"\",\"\",VLOOKUP(CD52,名簿男子!$A$2:$K$101,2))","v":{"$error":"#N/A"}},null,null,null,null,"ナンバー",{"$f":"IF(CJ52=\"\",\"\",VLOOKUP(CJ52,名簿男子!$A$2:$K$101,2))","v":{"$error":"#N/A"}}]
[]
["※女子は朱書きのこと",null,null,null,null,null,"※女子は朱書きのこと",null,null,null,null,"※女子は朱書きのこと",null,null,null,null,null,"※女子は朱書きのこと",null,null,null,null,"※女子は朱書きのこと",null,null,null,null,null,"※女子は朱書きのこと",null,null,null,null,"※女子は朱書きのこと",null,null,null,null,null,"※女子は朱書きのこと",null,null,null,null,"※女子は朱書きのこと",null,null,null,null,null,"※女子は朱書きのこと",null,null,null,null,"※女子は朱書きのこと",null,null,null,null,null,"※女子は朱書きのこと",null,null,null,null,"※女子は朱書きのこと",null,null,null,null,null,"※女子は朱書きのこと",null,null,null,null,"※女子は朱書きのこと",null,null,null,null,null,"※女子は朱書きのこと"]
["（ふりがな）",{"$f":"IF(E53=\"\",\"\",VLOOKUP(E53,名簿男子!$A$2:$K$101,4))","v":0},{"$f":"IF(#REF!=\"\",\"\",VLOOKUP(#REF!,名簿男子!$A$2:$I$41,4))","v":{"$error":"#REF!"}},"性　　別","男　・　女",null,"（ふりがな）",{"$f":"IF(K53=\"\",\"\",VLOOKUP(K53,名簿男子!$A$2:$K$101,4))","v":0},{"$f":"IF(#REF!=\"\",\"\",VLOOKUP(#REF!,名簿男子!$A$2:$I$41,4))","v":{"$error":"#REF!"}},"性　　別","男　・　女","（ふりがな）",{"$f":"IF(P53=\"\",\"\",VLOOKUP(P53,名簿男子!$A$2:$K$101,4))","v":0},{"$f":"IF(#REF!=\"\",\"\",VLOOKUP(#REF!,名簿男子!$A$2:$I$41,4))","v":{"$error":"#REF!"}},"性　　別","男　・　女",null,"（ふりがな）",{"$f":"IF(V53=\"\",\"\",VLOOKUP(V53,名簿男子!$A$2:$K$101,4))","v":0},{"$f":"IF(#REF!=\"\",\"\",VLOOKUP(#REF!,名簿男子!$A$2:$I$41,4))","v":{"$error":"#REF!"}},"性　　別","男　・　女","（ふりがな）",{"$f":"IF(AA53=\"\",\"\",VLOOKUP(AA53,名簿男子!$A$2:$K$101,4))","v":0},{"$f":"IF(#REF!=\"\",\"\",VLOOKUP(#REF!,名簿男子!$A$2:$I$41,4))","v":{"$error":"#REF!"}},"性　　別","男　・　女",null,"（ふりがな）",{"$f":"IF(AG53=\"\",\"\",VLOOKUP(AG53,名簿男子!$A$2:$K$101,4))","v":{"$error":"#N/A"}},{"$f":"IF(#REF!=\"\",\"\",VLOOKUP(#REF!,名簿男子!$A$2:$I$41,4))","v":{"$error":"#REF!"}},"性　　別","男　・　女","（ふりがな）",{"$f":"IF(AL53=\"\",\"\",VLOOKUP(AL53,名簿男子!$A$2:$K$101,4))","v":{"$error":"#N/A"}},{"$f":"IF(#REF!=\"\",\"\",VLOOKUP(#REF!,名簿男子!$A$2:$I$41,4))","v":{"$error":"#REF!"}},"性　　別","男　・　女",null,"（ふりがな）",{"$f":"IF(AR53=\"\",\"\",VLOOKUP(AR53,名簿男子!$A$2:$K$101,4))","v":{"$error":"#N/A"}},{"$f":"IF(#REF!=\"\",\"\",VLOOKUP(#REF!,名簿男子!$A$2:$I$41,4))","v":{"$error":"#REF!"}},"性　　別","男　・　女","（ふりがな）",{"$f":"IF(AW53=\"\",\"\",VLOOKUP(AW53,名簿男子!$A$2:$K$101,4))","v":{"$error":"#N/A"}},{"$f":"IF(#REF!=\"\",\"\",VLOOKUP(#REF!,名簿男子!$A$2:$I$41,4))","v":{"$error":"#REF!"}},"性　　別","男　・　女",null,"（ふりがな）",{"$f":"IF(BC53=\"\",\"\",VLOOKUP(BC53,名簿男子!$A$2:$K$101,4))","v":{"$error":"#N/A"}},{"$f":"IF(#REF!=\"\",\"\",VLOOKUP(#REF!,名簿男子!$A$2:$I$41,4))","v":{"$error":"#REF!"}},"性　　別","男　・　女","（ふりがな）",{"$f":"IF(BH53=\"\",\"\",VLOOKUP(BH53,名簿男子!$A$2:$K$101,4))","v":{"$error":"#N/A"}},{"$f":"IF(#REF!=\"\",\"\",VLOOKUP(#REF!,名簿男子!$A$2:$I$41,4))","v":{"$error":"#REF!"}},"性　　別","男　・　女",null,"（ふりがな）",{"$f":"IF(BN53=\"\",\"\",VLOOKUP(BN53,名簿男子!$A$2:$K$101,4))","v":{"$error":"#N/A"}},{"$f":"IF(#REF!=\"\",\"\",VLOOKUP(#REF!,名簿男子!$A$2:$I$41,4))","v":{"$error":"#REF!"}},"性　　別","男　・　女","（ふりがな）",{"$f":"IF(BS53=\"\",\"\",VLOOKUP(BS53,名簿男子!$A$2:$K$101,4))","v":{"$error":"#N/A"}},{"$f":"IF(#REF!=\"\",\"\",VLOOKUP(#REF!,名簿男子!$A$2:$I$41,4))","v":{"$error":"#REF!"}},"性　　別","男　・　女",null,"（ふりがな）",{"$f":"IF(BY53=\"\",\"\",VLOOKUP(BY53,名簿男子!$A$2:$K$101,4))","v":{"$error":"#N/A"}},{"$f":"IF(#REF!=\"\",\"\",VLOOKUP(#REF!,名簿男子!$A$2:$I$41,4))","v":{"$error":"#REF!"}},"性　　別","男　・　女","（ふりがな）",{"$f":"IF(CD53=\"\",\"\",VLOOKUP(CD53,名簿男子!$A$2:$K$101,4))","v":{"$error":"#N/A"}},{"$f":"IF(#REF!=\"\",\"\",VLOOKUP(#REF!,名簿男子!$A$2:$I$41,4))","v":{"$error":"#REF!"}},"性　　別","男　・　女",null,"（ふりがな）",{"$f":"IF(CJ53=\"\",\"\",VLOOKUP(CJ53,名簿男子!$A$2:$K$101,4))","v":{"$error":"#N/A"}},{"$f":"IF(#REF!=\"\",\"\",VLOOKUP(#REF!,名簿男子!$A$2:$I$41,4))","v":{"$error":"#REF!"}},"性　　別","男　・　女"]
["氏　　　名",{"$f":"IF(E53=\"\",\"\",VLOOKUP(E53,名簿男子!$A$2:$K$101,3))","v":0},{"$f":"IF(#REF!=\"\",\"\",VLOOKUP(#REF!,名簿男子!$A$2:$I$41,3))","v":{"$error":"#REF!"}},null,null,null,"氏　　　名",{"$f":"IF(K53=\"\",\"\",VLOOKUP(K53,名簿男子!$A$2:$K$101,3))","v":0},{"$f":"IF(#REF!=\"\",\"\",VLOOKUP(#REF!,名簿男子!$A$2:$I$41,3))","v":{"$error":"#REF!"}},null,null,"氏　　　名",{"$f":"IF(P53=\"\",\"\",VLOOKUP(P53,名簿男子!$A$2:$K$101,3))","v":0},{"$f":"IF(#REF!=\"\",\"\",VLOOKUP(#REF!,名簿男子!$A$2:$I$41,3))","v":{"$error":"#REF!"}},null,null,null,"氏　　　名",{"$f":"IF(V53=\"\",\"\",VLOOKUP(V53,名簿男子!$A$2:$K$101,3))","v":0},{"$f":"IF(#REF!=\"\",\"\",VLOOKUP(#REF!,名簿男子!$A$2:$I$41,3))","v":{"$error":"#REF!"}},null,null,"氏　　　名",{"$f":"IF(AA53=\"\",\"\",VLOOKUP(AA53,名簿男子!$A$2:$K$101,3))","v":0},{"$f":"IF(#REF!=\"\",\"\",VLOOKUP(#REF!,名簿男子!$A$2:$I$41,3))","v":{"$error":"#REF!"}},null,null,null,"氏　　　名",{"$f":"IF(AG53=\"\",\"\",VLOOKUP(AG53,名簿男子!$A$2:$K$101,3))","v":{"$error":"#N/A"}},{"$f":"IF(#REF!=\"\",\"\",VLOOKUP(#REF!,名簿男子!$A$2:$I$41,3))","v":{"$error":"#REF!"}},null,null,"氏　　　名",{"$f":"IF(AL53=\"\",\"\",VLOOKUP(AL53,名簿男子!$A$2:$K$101,3))","v":{"$error":"#N/A"}},{"$f":"IF(#REF!=\"\",\"\",VLOOKUP(#REF!,名簿男子!$A$2:$I$41,3))","v":{"$error":"#REF!"}},null,null,null,"氏　　　名",{"$f":"IF(AR53=\"\",\"\",VLOOKUP(AR53,名簿男子!$A$2:$K$101,3))","v":{"$error":"#N/A"}},{"$f":"IF(#REF!=\"\",\"\",VLOOKUP(#REF!,名簿男子!$A$2:$I$41,3))","v":{"$error":"#REF!"}},null,null,"氏　　　名",{"$f":"IF(AW53=\"\",\"\",VLOOKUP(AW53,名簿男子!$A$2:$K$101,3))","v":{"$error":"#N/A"}},{"$f":"IF(#REF!=\"\",\"\",VLOOKUP(#REF!,名簿男子!$A$2:$I$41,3))","v":{"$error":"#REF!"}},null,null,null,"氏　　　名",{"$f":"IF(BC53=\"\",\"\",VLOOKUP(BC53,名簿男子!$A$2:$K$101,3))","v":{"$error":"#N/A"}},{"$f":"IF(#REF!=\"\",\"\",VLOOKUP(#REF!,名簿男子!$A$2:$I$41,3))","v":{"$error":"#REF!"}},null,null,"氏　　　名",{"$f":"IF(BH53=\"\",\"\",VLOOKUP(BH53,名簿男子!$A$2:$K$101,3))","v":{"$error":"#N/A"}},{"$f":"IF(#REF!=\"\",\"\",VLOOKUP(#REF!,名簿男子!$A$2:$I$41,3))","v":{"$error":"#REF!"}},null,null,null,"氏　　　名",{"$f":"IF(BN53=\"\",\"\",VLOOKUP(BN53,名簿男子!$A$2:$K$101,3))","v":{"$error":"#N/A"}},{"$f":"IF(#REF!=\"\",\"\",VLOOKUP(#REF!,名簿男子!$A$2:$I$41,3))","v":{"$error":"#REF!"}},null,null,"氏　　　名",{"$f":"IF(BS53=\"\",\"\",VLOOKUP(BS53,名簿男子!$A$2:$K$101,3))","v":{"$error":"#N/A"}},{"$f":"IF(#REF!=\"\",\"\",VLOOKUP(#REF!,名簿男子!$A$2:$I$41,3))","v":{"$error":"#REF!"}},null,null,null,"氏　　　名",{"$f":"IF(BY53=\"\",\"\",VLOOKUP(BY53,名簿男子!$A$2:$K$101,3))","v":{"$error":"#N/A"}},{"$f":"IF(#REF!=\"\",\"\",VLOOKUP(#REF!,名簿男子!$A$2:$I$41,3))","v":{"$error":"#REF!"}},null,null,"氏　　　名",{"$f":"IF(CD53=\"\",\"\",VLOOKUP(CD53,名簿男子!$A$2:$K$101,3))","v":{"$error":"#N/A"}},{"$f":"IF(#REF!=\"\",\"\",VLOOKUP(#REF!,名簿男子!$A$2:$I$41,3))","v":{"$error":"#REF!"}},null,null,null,"氏　　　名",{"$f":"IF(CJ53=\"\",\"\",VLOOKUP(CJ53,名簿男子!$A$2:$K$101,3))","v":{"$error":"#N/A"}},{"$f":"IF(#REF!=\"\",\"\",VLOOKUP(#REF!,名簿男子!$A$2:$I$41,3))","v":{"$error":"#REF!"}}]
["所　　　属",{"$f":"様式１男子!E4","v":0},null,"学　　年",{"$f":"IF(E53=\"\",\"\",VLOOKUP(E53,名簿男子!$A$2:$K$101,6))","v":0},null,"所　　　属",{"$f":"様式１男子!E4","v":0},null,"学　　年",{"$f":"IF(K53=\"\",\"\",VLOOKUP(K53,名簿男子!$A$2:$K$101,6))","v":0},"所　　　属",{"$f":"様式１男子!E4","v":0},null,"学　　年",{"$f":"IF(P53=\"\",\"\",VLOOKUP(P53,名簿男子!$A$2:$K$101,6))","v":0},null,"所　　　属",{"$f":"様式１男子!E4","v":0},null,"学　　年",{"$f":"IF(V53=\"\",\"\",VLOOKUP(V53,名簿男子!$A$2:$K$101,6))","v":0},"所　　　属",{"$f":"様式１男子!E4","v":0},null,"学　　年",{"$f":"IF(AA53=\"\",\"\",VLOOKUP(AA53,名簿男子!$A$2:$K$101,6))","v":0},null,"所　　　属",{"$f":"様式１男子!E4","v":0},null,"学　　年",{"$f":"IF(AG53=\"\",\"\",VLOOKUP(AG53,名簿男子!$A$2:$K$101,6))","v":{"$error":"#N/A"}},"所　　　属",{"$f":"様式１男子!E4","v":0},null,"学　　年",{"$f":"IF(AL53=\"\",\"\",VLOOKUP(AL53,名簿男子!$A$2:$K$101,6))","v":{"$error":"#N/A"}},null,"所　　　属",{"$f":"様式１男子!E4","v":0},null,"学　　年",{"$f":"IF(AR53=\"\",\"\",VLOOKUP(AR53,名簿男子!$A$2:$K$101,6))","v":{"$error":"#N/A"}},"所　　　属",{"$f":"様式１男子!E4","v":0},null,"学　　年",{"$f":"IF(AW53=\"\",\"\",VLOOKUP(AW53,名簿男子!$A$2:$K$101,6))","v":{"$error":"#N/A"}},null,"所　　　属",{"$f":"様式１男子!E4","v":0},null,"学　　年",{"$f":"IF(BC53=\"\",\"\",VLOOKUP(BC53,名簿男子!$A$2:$K$101,6))","v":{"$error":"#N/A"}},"所　　　属",{"$f":"様式１男子!E4","v":0},null,"学　　年",{"$f":"IF(BH53=\"\",\"\",VLOOKUP(BH53,名簿男子!$A$2:$K$101,6))","v":{"$error":"#N/A"}},null,"所　　　属",{"$f":"様式１男子!E4","v":0},null,"学　　年",{"$f":"IF(BN53=\"\",\"\",VLOOKUP(BN53,名簿男子!$A$2:$K$101,6))","v":{"$error":"#N/A"}},"所　　　属",{"$f":"様式１男子!E4","v":0},null,"学　　年",{"$f":"IF(BS53=\"\",\"\",VLOOKUP(BS53,名簿男子!$A$2:$K$101,6))","v":{"$error":"#N/A"}},null,"所　　　属",{"$f":"様式１男子!E4","v":0},null,"学　　年",{"$f":"IF(BY53=\"\",\"\",VLOOKUP(BY53,名簿男子!$A$2:$K$101,6))","v":{"$error":"#N/A"}},"所　　　属",{"$f":"様式１男子!E4","v":0},null,"学　　年",{"$f":"IF(CD53=\"\",\"\",VLOOKUP(CD53,名簿男子!$A$2:$K$101,6))","v":{"$error":"#N/A"}},null,"所　　　属",{"$f":"様式１男子!E4","v":0},null,"学　　年",{"$f":"IF(CJ53=\"\",\"\",VLOOKUP(CJ53,名簿男子!$A$2:$K$101,6))","v":{"$error":"#N/A"}}]
["学　　　校",null,null,"年　　齢",null,null,"学　　　校",null,null,"年　　齢",null,"学　　　校",null,null,"年　　齢",null,null,"学　　　校",null,null,"年　　齢",null,"学　　　校",null,null,"年　　齢",null,null,"学　　　校",null,null,"年　　齢",null,"学　　　校",null,null,"年　　齢",null,null,"学　　　校",null,null,"年　　齢",null,"学　　　校",null,null,"年　　齢",null,null,"学　　　校",null,null,"年　　齢",null,"学　　　校",null,null,"年　　齢",null,null,"学　　　校",null,null,"年　　齢",null,"学　　　校",null,null,"年　　齢",null,null,"学　　　校",null,null,"年　　齢",null,"学　　　校",null,null,"年　　齢",null,null,"学　　　校",null,null,"年　　齢"]
["種　　　目",{"$f":"IF(E53=\"\",\"\",VLOOKUP(E53,名簿男子!$A$2:$K$101,9))","v":0},null,null,null,null,"種　　　目",{"$f":"IF(K53=\"\",\"\",VLOOKUP(K53,名簿男子!$A$2:$K$101,9))","v":0},null,null,null,"種　　　目",{"$f":"IF(P53=\"\",\"\",VLOOKUP(P53,名簿男子!$A$2:$K$101,9))","v":0},null,null,null,null,"種　　　目",{"$f":"IF(V53=\"\",\"\",VLOOKUP(V53,名簿男子!$A$2:$K$101,9))","v":0},null,null,null,"種　　　目",{"$f":"IF(AA53=\"\",\"\",VLOOKUP(AA53,名簿男子!$A$2:$K$101,9))","v":0},null,null,null,null,"種　　　目",{"$f":"IF(AG53=\"\",\"\",VLOOKUP(AG53,名簿男子!$A$2:$K$101,9))","v":{"$error":"#N/A"}},null,null,null,"種　　　目",{"$f":"IF(AL53=\"\",\"\",VLOOKUP(AL53,名簿男子!$A$2:$K$101,9))","v":{"$error":"#N/A"}},null,null,null,null,"種　　　目",{"$f":"IF(AR53=\"\",\"\",VLOOKUP(AR53,名簿男子!$A$2:$K$101,9))","v":{"$error":"#N/A"}},null,null,null,"種　　　目",{"$f":"IF(AW53=\"\",\"\",VLOOKUP(AW53,名簿男子!$A$2:$K$101,9))","v":{"$error":"#N/A"}},null,null,null,null,"種　　　目",{"$f":"IF(BC53=\"\",\"\",VLOOKUP(BC53,名簿男子!$A$2:$K$101,9))","v":{"$error":"#N/A"}},null,null,null,"種　　　目",{"$f":"IF(BH53=\"\",\"\",VLOOKUP(BH53,名簿男子!$A$2:$K$101,9))","v":{"$error":"#N/A"}},null,null,null,null,"種　　　目",{"$f":"IF(BN53=\"\",\"\",VLOOKUP(BN53,名簿男子!$A$2:$K$101,9))","v":{"$error":"#N/A"}},null,null,null,"種　　　目",{"$f":"IF(BS53=\"\",\"\",VLOOKUP(BS53,名簿男子!$A$2:$K$101,9))","v":{"$error":"#N/A"}},null,null,null,null,"種　　　目",{"$f":"IF(BY53=\"\",\"\",VLOOKUP(BY53,名簿男子!$A$2:$K$101,9))","v":{"$error":"#N/A"}},null,null,null,"種　　　目",{"$f":"IF(CD53=\"\",\"\",VLOOKUP(CD53,名簿男子!$A$2:$K$101,9))","v":{"$error":"#N/A"}},null,null,null,null,"種　　　目",{"$f":"IF(CJ53=\"\",\"\",VLOOKUP(CJ53,名簿男子!$A$2:$K$101,9))","v":{"$error":"#N/A"}}]
["最高記録",{"$f":"IF(E53=\"\",\"\",VLOOKUP(E53,名簿男子!$A$2:$K$101,10))","v":0},"大　会　名　・　年　度",null,null,null,"最高記録",{"$f":"IF(K53=\"\",\"\",VLOOKUP(K53,名簿男子!$A$2:$K$101,10))","v":0},"大　会　名　・　年　度",null,null,"最高記録",{"$f":"IF(P53=\"\",\"\",VLOOKUP(P53,名簿男子!$A$2:$K$101,10))","v":0},"大　会　名　・　年　度",null,null,null,"最高記録",{"$f":"IF(V53=\"\",\"\",VLOOKUP(V53,名簿男子!$A$2:$K$101,10))","v":0},"大　会　名　・　年　度",null,null,"最高記録",{"$f":"IF(AA53=\"\",\"\",VLOOKUP(AA53,名簿男子!$A$2:$K$101,10))","v":0},"大　会　名　・　年　度",null,null,null,"最高記録",{"$f":"IF(AG53=\"\",\"\",VLOOKUP(AG53,名簿男子!$A$2:$K$101,10))","v":{"$error":"#N/A"}},"大　会　名　・　年　度",null,null,"最高記録",{"$f":"IF(AL53=\"\",\"\",VLOOKUP(AL53,名簿男子!$A$2:$K$101,10))","v":{"$error":"#N/A"}},"大　会　名　・　年　度",null,null,null,"最高記録",{"$f":"IF(AR53=\"\",\"\",VLOOKUP(AR53,名簿男子!$A$2:$K$101,10))","v":{"$error":"#N/A"}},"大　会　名　・　年　度",null,null,"最高記録",{"$f":"IF(AW53=\"\",\"\",VLOOKUP(AW53,名簿男子!$A$2:$K$101,10))","v":{"$error":"#N/A"}},"大　会　名　・　年　度",null,null,null,"最高記録",{"$f":"IF(BC53=\"\",\"\",VLOOKUP(BC53,名簿男子!$A$2:$K$101,10))","v":{"$error":"#N/A"}},"大　会　名　・　年　度",null,null,"最高記録",{"$f":"IF(BH53=\"\",\"\",VLOOKUP(BH53,名簿男子!$A$2:$K$101,10))","v":{"$error":"#N/A"}},"大　会　名　・　年　度",null,null,null,"最高記録",{"$f":"IF(BN53=\"\",\"\",VLOOKUP(BN53,名簿男子!$A$2:$K$101,10))","v":{"$error":"#N/A"}},"大　会　名　・　年　度",null,null,"最高記録",{"$f":"IF(BS53=\"\",\"\",VLOOKUP(BS53,名簿男子!$A$2:$K$101,10))","v":{"$error":"#N/A"}},"大　会　名　・　年　度",null,null,null,"最高記録",{"$f":"IF(BY53=\"\",\"\",VLOOKUP(BY53,名簿男子!$A$2:$K$101,10))","v":{"$error":"#N/A"}},"大　会　名　・　年　度",null,null,"最高記録",{"$f":"IF(CD53=\"\",\"\",VLOOKUP(CD53,名簿男子!$A$2:$K$101,10))","v":{"$error":"#N/A"}},"大　会　名　・　年　度",null,null,null,"最高記録",{"$f":"IF(CJ53=\"\",\"\",VLOOKUP(CJ53,名簿男子!$A$2:$K$101,10))","v":{"$error":"#N/A"}},"大　会　名　・　年　度"]
[null,null,{"$f":"IF(E53=\"\",\"\",VLOOKUP(E53,名簿男子!$A$2:$K$101,11))","v":0},null,null,null,null,null,{"$f":"IF(K53=\"\",\"\",VLOOKUP(K53,名簿男子!$A$2:$K$101,11))","v":0},null,null,null,null,{"$f":"IF(P53=\"\",\"\",VLOOKUP(P53,名簿男子!$A$2:$K$101,11))","v":0},null,null,null,null,null,{"$f":"IF(V53=\"\",\"\",VLOOKUP(V53,名簿男子!$A$2:$K$101,11))","v":0},null,null,null,null,{"$f":"IF(AA53=\"\",\"\",VLOOKUP(AA53,名簿男子!$A$2:$K$101,11))","v":0},null,null,null,null,null,{"$f":"IF(AG53=\"\",\"\",VLOOKUP(AG53,名簿男子!$A$2:$K$101,11))","v":{"$error":"#N/A"}},null,null,null,null,{"$f":"IF(AL53=\"\",\"\",VLOOKUP(AL53,名簿男子!$A$2:$K$101,11))","v":{"$error":"#N/A"}},null,null,null,null,null,{"$f":"IF(AR53=\"\",\"\",VLOOKUP(AR53,名簿男子!$A$2:$K$101,11))","v":{"$error":"#N/A"}},null,null,null,null,{"$f":"IF(AW53=\"\",\"\",VLOOKUP(AW53,名簿男子!$A$2:$K$101,11))","v":{"$error":"#N/A"}},null,null,null,null,null,{"$f":"IF(BC53=\"\",\"\",VLOOKUP(BC53,名簿男子!$A$2:$K$101,11))","v":{"$error":"#N/A"}},null,null,null,null,{"$f":"IF(BH53=\"\",\"\",VLOOKUP(BH53,名簿男子!$A$2:$K$101,11))","v":{"$error":"#N/A"}},null,null,null,null,null,{"$f":"IF(BN53=\"\",\"\",VLOOKUP(BN53,名簿男子!$A$2:$K$101,11))","v":{"$error":"#N/A"}},null,null,null,null,{"$f":"IF(BS53=\"\",\"\",VLOOKUP(BS53,名簿男子!$A$2:$K$101,11))","v":{"$error":"#N/A"}},null,null,null,null,null,{"$f":"IF(BY53=\"\",\"\",VLOOKUP(BY53,名簿男子!$A$2:$K$101,11))","v":{"$error":"#N/A"}},null,null,null,null,{"$f":"IF(CD53=\"\",\"\",VLOOKUP(CD53,名簿男子!$A$2:$K$101,11))","v":{"$error":"#N/A"}},null,null,null,null,null,{"$f":"IF(CJ53=\"\",\"\",VLOOKUP(CJ53,名簿男子!$A$2:$K$101,11))","v":{"$error":"#N/A"}}]
["ナンバー",{"$f":"IF(E53=\"\",\"\",VLOOKUP(E53,名簿男子!$A$2:$K$101,2))","v":0},null,null,null,null,"ナンバー",{"$f":"IF(K53=\"\",\"\",VLOOKUP(K53,名簿男子!$A$2:$K$101,2))","v":0},null,null,null,"ナンバー",{"$f":"IF(P53=\"\",\"\",VLOOKUP(P53,名簿男子!$A$2:$K$101,2))","v":0},null,null,null,null,"ナンバー",{"$f":"IF(V53=\"\",\"\",VLOOKUP(V53,名簿男子!$A$2:$K$101,2))","v":0},null,null,null,"ナンバー",{"$f":"IF(AA53=\"\",\"\",VLOOKUP(AA53,名簿男子!$A$2:$K$101,2))","v":0},null,null,null,null,"ナンバー",{"$f":"IF(AG53=\"\",\"\",VLOOKUP(AG53,名簿男子!$A$2:$K$101,2))","v":{"$error":"#N/A"}},null,null,null,"ナンバー",{"$f":"IF(AL53=\"\",\"\",VLOOKUP(AL53,名簿男子!$A$2:$K$101,2))","v":{"$error":"#N/A"}},null,null,null,null,"ナンバー",{"$f":"IF(AR53=\"\",\"\",VLOOKUP(AR53,名簿男子!$A$2:$K$101,2))","v":{"$error":"#N/A"}},null,null,null,"ナンバー",{"$f":"IF(AW53=\"\",\"\",VLOOKUP(AW53,名簿男子!$A$2:$K$101,2))","v":{"$error":"#N/A"}},null,null,null,null,"ナンバー",{"$f":"IF(BC53=\"\",\"\",VLOOKUP(BC53,名簿男子!$A$2:$K$101,2))","v":{"$error":"#N/A"}},null,null,null,"ナンバー",{"$f":"IF(BH53=\"\",\"\",VLOOKUP(BH53,名簿男子!$A$2:$K$101,2))","v":{"$error":"#N/A"}},null,null,null,null,"ナンバー",{"$f":"IF(BN53=\"\",\"\",VLOOKUP(BN53,名簿男子!$A$2:$K$101,2))","v":{"$error":"#N/A"}},null,null,null,"ナンバー",{"$f":"IF(BS53=\"\",\"\",VLOOKUP(BS53,名簿男子!$A$2:$K$101,2))","v":{"$error":"#N/A"}},null,null,null,null,"ナンバー",{"$f":"IF(BY53=\"\",\"\",VLOOKUP(BY53,名簿男子!$A$2:$K$101,2))","v":{"$error":"#N/A"}},null,null,null,"ナンバー",{"$f":"IF(CD53=\"\",\"\",VLOOKUP(CD53,名簿男子!$A$2:$K$101,2))","v":{"$error":"#N/A"}},null,null,null,null,"ナンバー",{"$f":"IF(CJ53=\"\",\"\",VLOOKUP(CJ53,名簿男子!$A$2:$K$101,2))","v":{"$error":"#N/A"}}]
[]
[]
[]
[]
[]
[]
[]
[]
[1,1,1,null,{"$f":"C50","v":1},null,null,null,null,null,{"$f":"C54","v":14},null,null,null,null,{"$f":"C58","v":24},null,null,null,null,null,{"$f":"C62","v":3},null,null,null,null,{"$f":"C66","v":20},null,null,null,null,null,{"$f":"C70","v":0},null,null,null,null,{"$f":"C74","v":0},null,null,null,null,null,{"$f":"C78","v":0},null,null,null,null,{"$f":"C82","v":0},null,null,null,null,null,{"$f":"C86","v":0},null,null,null,null,{"$f":"C90","v":0},null,null,null,null,null,{"$f":"C94","v":0},null,null,null,null,{"$f":"C98","v":0},null,null,null,null,null,{"$f":"C102","v":0},null,null,null,null,{"$f":"C106","v":0},null,null,null,null,null,{"$f":"C110","v":0}]
[null,2,2,null,{"$f":"C51","v":2},null,null,null,null,null,{"$f":"C55","v":17},null,null,null,null,{"$f":"C59","v":27},null,null,null,null,null,{"$f":"C63","v":6},null,null,null,null,{"$f":"C67","v":23},null,null,null,null,null,{"$f":"C71","v":0},null,null,null,null,{"$f":"C75","v":0},null,null,null,null,null,{"$f":"C79","v":0},null,null,null,null,{"$f":"C83","v":0},null,null,null,null,null,{"$f":"C87","v":0},null,null,null,null,{"$f":"C91","v":0},null,null,null,null,null,{"$f":"C95","v":0},null,null,null,null,{"$f":"C99","v":0},null,null,null,null,null,{"$f":"C103","v":0},null,null,null,null,{"$f":"C107","v":0},null,null,null,null,null,{"$f":"C111","v":0}]
[2,5,5,null,5,null,null,null,null,null,19,null,null,null,null,28,null,null,null,null,null,12,null,null,null,null,25,null,null,null,null,null,0,null,null,null,null,0,null,null,null,null,null,0,null,null,null,null,0,null,null,null,null,null,0,null,null,null,null,0,null,null,null,null,null,0,null,null,null,null,0,null,null,null,null,null,0,null,null,null,null,0,null,null,null,null,null,0]
[null,10,10,null,10,null,null,null,null,null,22,null,null,null,null,30,null,null,null,null,null,18,null,null,null,null,29,null,null,null,null,null,0,null,null,null,null,0,null,null,null,null,null,0,null,null,null,null,0,null,null,null,null,null,0,null,null,null,null,0,null,null,null,null,null,0,null,null,null,null,0,null,null,null,null,null,0,null,null,null,null,0,null,null,null,null,null,0]
[5,14,14]
[null,17,17]
[10,19,19]
[null,22,22]
[14,24,24]
[null,27,27]
[17,28,28]
[null,30,30]
[19,3,3]
[null,6,6]
[22,12,12]
[null,18,18]
[24,20,20]
[null,23,23]
[27,25,25]
[null,29,29]
[28]
[]
[30]
[]
[]
[]
[]
[]
[]
[]
[]
[]
[]
[]
[]
[]
[]
[]
[]
[]
[]
[]
[]
[]
[]
[]
[]
[]
[]
[]
[]
[]
[3]
[]
[6]
[]
[12]
[]
[]
[]
[18]
[]
[20]
[]
[23]
[]
[25]
[]
[]
[]
[29]

{"sheet":"東山・名和ｼｽﾃﾑ用選手ﾃﾞｰﾀ男子","index":4,"n_rows":27,"n_cols":8,"rows_kept":27,"cut":false,"hidden":false,"merged":[[0,0,0,1],[0,2,0,6],[0,7,5,9]]}
["入力方法をよく読んで\n入力すること",null,"選手出場データ男子（必須）",null,null,null,null,"※黄色いセルに必要事項を入力する。\n\n※選手データ提出ファイルに、値のみ貼り付けをする。"]
["ナンバー\n（半角数字）","競技者名(外字不可)\n(姓と名の間に半角ｽﾍﾟｰｽ)","氏名ﾌﾘｶﾞﾅ\n(半角ｶﾅ)\n姓名間半角ｽﾍﾟｰｽ","学年\n(半角)","学校名・所属名\n(○○小･○○中･○○高)\n(ｱﾙﾌｧﾍﾞｯﾄ・ｶﾀｶﾅは半角)","学校名・所属名\nﾌﾘｶﾞﾅ(半角ｶﾅ)","都道\n府県"]
[{"$f":"様式１男子!A9","v":""},{"$f":"VLOOKUP($A3,名簿男子!$B$2:$H$101,2,0)","v":{"$error":"#N/A"}},{"$f":"VLOOKUP($A3,名簿男子!$B$2:$H$101,4,0)","v":{"$error":"#N/A"}},{"$f":"VLOOKUP($A3,名簿男子!$B$2:$H$101,5,0)","v":{"$error":"#N/A"}},null,null,"鳥取"]
[{"$f":"様式１男子!A11","v":""},{"$f":"VLOOKUP($A4,名簿男子!$B$2:$H$101,2,0)","v":{"$error":"#N/A"}},{"$f":"VLOOKUP($A4,名簿男子!$B$2:$H$101,4,0)","v":{"$error":"#N/A"}},{"$f":"VLOOKUP($A4,名簿男子!$B$2:$H$101,5,0)","v":{"$error":"#N/A"}},{"$f":"$E$3","v":0},{"$f":"$F$3","v":0},{"$f":"$G$3","v":"鳥取"}]
[{"$f":"様式１男子!A13","v":""},{"$f":"VLOOKUP($A5,名簿男子!$B$2:$H$101,2,0)","v":{"$error":"#N/A"}},{"$f":"VLOOKUP($A5,名簿男子!$B$2:$H$101,4,0)","v":{"$error":"#N/A"}},{"$f":"VLOOKUP($A5,名簿男子!$B$2:$H$101,5,0)","v":{"$error":"#N/A"}},{"$f":"$E$3","v":0},{"$f":"$F$3","v":0},{"$f":"$G$3","v":"鳥取"}]
[{"$f":"様式１男子!A15","v":""},{"$f":"VLOOKUP($A6,名簿男子!$B$2:$H$101,2,0)","v":{"$error":"#N/A"}},{"$f":"VLOOKUP($A6,名簿男子!$B$2:$H$101,4,0)","v":{"$error":"#N/A"}},{"$f":"VLOOKUP($A6,名簿男子!$B$2:$H$101,5,0)","v":{"$error":"#N/A"}},0,0,"鳥取"]
[{"$f":"様式１男子!A17","v":""},{"$f":"VLOOKUP($A7,名簿男子!$B$2:$H$101,2,0)","v":{"$error":"#N/A"}},{"$f":"VLOOKUP($A7,名簿男子!$B$2:$H$101,4,0)","v":{"$error":"#N/A"}},{"$f":"VLOOKUP($A7,名簿男子!$B$2:$H$101,5,0)","v":{"$error":"#N/A"}},0,0,"鳥取"]
[{"$f":"様式１男子!A19","v":""},{"$f":"VLOOKUP($A8,名簿男子!$B$2:$H$101,2,0)","v":{"$error":"#N/A"}},{"$f":"VLOOKUP($A8,名簿男子!$B$2:$H$101,4,0)","v":{"$error":"#N/A"}},{"$f":"VLOOKUP($A8,名簿男子!$B$2:$H$101,5,0)","v":{"$error":"#N/A"}},0,0,"鳥取"]
[{"$f":"様式１男子!A21","v":""},{"$f":"VLOOKUP($A9,名簿男子!$B$2:$H$101,2,0)","v":{"$error":"#N/A"}},{"$f":"VLOOKUP($A9,名簿男子!$B$2:$H$101,4,0)","v":{"$error":"#N/A"}},{"$f":"VLOOKUP($A9,名簿男子!$B$2:$H$101,5,0)","v":{"$error":"#N/A"}},0,0,"鳥取"]
[{"$f":"様式１男子!A23","v":""},{"$f":"VLOOKUP($A10,名簿男子!$B$2:$H$101,2,0)","v":{"$error":"#N/A"}},{"$f":"VLOOKUP($A10,名簿男子!$B$2:$H$101,4,0)","v":{"$error":"#N/A"}},{"$f":"VLOOKUP($A10,名簿男子!$B$2:$H$101,5,0)","v":{"$error":"#N/A"}},0,0,"鳥取"]
[{"$f":"様式１男子!A25","v":""},{"$f":"VLOOKUP($A11,名簿男子!$B$2:$H$101,2,0)","v":{"$error":"#N/A"}},{"$f":"VLOOKUP($A11,名簿男子!$B$2:$H$101,4,0)","v":{"$error":"#N/A"}},{"$f":"VLOOKUP($A11,名簿男子!$B$2:$H$101,5,0)","v":{"$error":"#N/A"}},0,0,"鳥取"]
[{"$f":"様式１男子!A27","v":""},{"$f":"VLOOKUP($A12,名簿男子!$B$2:$H$101,2,0)","v":{"$error":"#N/A"}},{"$f":"VLOOKUP($A12,名簿男子!$B$2:$H$101,4,0)","v":{"$error":"#N/A"}},{"$f":"VLOOKUP($A12,名簿男子!$B$2:$H$101,5,0)","v":{"$error":"#N/A"}},0,0,"鳥取"]
[{"$f":"様式１男子!A29","v":""},{"$f":"VLOOKUP($A13,名簿男子!$B$2:$H$101,2,0)","v":{"$error":"#N/A"}},{"$f":"VLOOKUP($A13,名簿男子!$B$2:$H$101,4,0)","v":{"$error":"#N/A"}},{"$f":"VLOOKUP($A13,名簿男子!$B$2:$H$101,5,0)","v":{"$error":"#N/A"}},0,0,"鳥取"]
[{"$f":"様式１男子!A31","v":""},{"$f":"VLOOKUP($A14,名簿男子!$B$2:$H$101,2,0)","v":{"$error":"#N/A"}},{"$f":"VLOOKUP($A14,名簿男子!$B$2:$H$101,4,0)","v":{"$error":"#N/A"}},{"$f":"VLOOKUP($A14,名簿男子!$B$2:$H$101,5,0)","v":{"$error":"#N/A"}},0,0,"鳥取"]
[{"$f":"様式１男子!A33","v":""},{"$f":"VLOOKUP($A15,名簿男子!$B$2:$H$101,2,0)","v":{"$error":"#N/A"}},{"$f":"VLOOKUP($A15,名簿男子!$B$2:$H$101,4,0)","v":{"$error":"#N/A"}},{"$f":"VLOOKUP($A15,名簿男子!$B$2:$H$101,5,0)","v":{"$error":"#N/A"}},0,0,"鳥取"]
[{"$f":"様式１男子!A35","v":""},{"$f":"VLOOKUP($A16,名簿男子!$B$2:$H$101,2,0)","v":{"$error":"#N/A"}},{"$f":"VLOOKUP($A16,名簿男子!$B$2:$H$101,4,0)","v":{"$error":"#N/A"}},{"$f":"VLOOKUP($A16,名簿男子!$B$2:$H$101,5,0)","v":{"$error":"#N/A"}},0,0,"鳥取"]
[{"$f":"様式１男子!A37","v":""},{"$f":"VLOOKUP($A17,名簿男子!$B$2:$H$101,2,0)","v":{"$error":"#N/A"}},{"$f":"VLOOKUP($A17,名簿男子!$B$2:$H$101,4,0)","v":{"$error":"#N/A"}},{"$f":"VLOOKUP($A17,名簿男子!$B$2:$H$101,5,0)","v":{"$error":"#N/A"}},0,0,"鳥取"]
[{"$f":"様式１男子!A39","v":""},{"$f":"VLOOKUP($A18,名簿男子!$B$2:$H$101,2,0)","v":{"$error":"#N/A"}},{"$f":"VLOOKUP($A18,名簿男子!$B$2:$H$101,4,0)","v":{"$error":"#N/A"}},{"$f":"VLOOKUP($A18,名簿男子!$B$2:$H$101,5,0)","v":{"$error":"#N/A"}},0,0,"鳥取"]
[{"$f":"様式１男子!A41","v":""},{"$f":"VLOOKUP($A19,名簿男子!$B$2:$H$101,2,0)","v":{"$error":"#N/A"}},{"$f":"VLOOKUP($A19,名簿男子!$B$2:$H$101,4,0)","v":{"$error":"#N/A"}},{"$f":"VLOOKUP($A19,名簿男子!$B$2:$H$101,5,0)","v":{"$error":"#N/A"}},0,0,"鳥取"]
[{"$f":"様式１男子!A43","v":""},{"$f":"VLOOKUP($A20,名簿男子!$B$2:$H$101,2,0)","v":{"$error":"#N/A"}},{"$f":"VLOOKUP($A20,名簿男子!$B$2:$H$101,4,0)","v":{"$error":"#N/A"}},{"$f":"VLOOKUP($A20,名簿男子!$B$2:$H$101,5,0)","v":{"$error":"#N/A"}},0,0,"鳥取"]
[{"$f":"様式１男子!A45","v":""},{"$f":"VLOOKUP($A21,名簿男子!$B$2:$H$101,2,0)","v":{"$error":"#N/A"}},{"$f":"VLOOKUP($A21,名簿男子!$B$2:$H$101,4,0)","v":{"$error":"#N/A"}},{"$f":"VLOOKUP($A21,名簿男子!$B$2:$H$101,5,0)","v":{"$error":"#N/A"}},0,0,"鳥取"]
[{"$f":"様式１男子!A47","v":""},{"$f":"VLOOKUP($A22,名簿男子!$B$2:$H$101,2,0)","v":{"$error":"#N/A"}},{"$f":"VLOOKUP($A22,名簿男子!$B$2:$H$101,4,0)","v":{"$error":"#N/A"}},{"$f":"VLOOKUP($A22,名簿男子!$B$2:$H$101,5,0)","v":{"$error":"#N/A"}},0,0,"鳥取"]
[{"$f":"様式１男子!A49","v":""},{"$f":"VLOOKUP($A23,名簿男子!$B$2:$H$101,2,0)","v":{"$error":"#N/A"}},{"$f":"VLOOKUP($A23,名簿男子!$B$2:$H$101,4,0)","v":{"$error":"#N/A"}},{"$f":"VLOOKUP($A23,名簿男子!$B$2:$H$101,5,0)","v":{"$error":"#N/A"}},0,0,"鳥取"]
[{"$f":"様式１男子!A51","v":""},{"$f":"VLOOKUP($A24,名簿男子!$B$2:$H$101,2,0)","v":{"$error":"#N/A"}},{"$f":"VLOOKUP($A24,名簿男子!$B$2:$H$101,4,0)","v":{"$error":"#N/A"}},{"$f":"VLOOKUP($A24,名簿男子!$B$2:$H$101,5,0)","v":{"$error":"#N/A"}},0,0,"鳥取"]
[{"$f":"様式１男子!A53","v":""},{"$f":"VLOOKUP($A25,名簿男子!$B$2:$H$101,2,0)","v":{"$error":"#N/A"}},{"$f":"VLOOKUP($A25,名簿男子!$B$2:$H$101,4,0)","v":{"$error":"#N/A"}},{"$f":"VLOOKUP($A25,名簿男子!$B$2:$H$101,5,0)","v":{"$error":"#N/A"}},0,0,"鳥取"]
[{"$f":"様式１男子!A55","v":""},{"$f":"VLOOKUP($A26,名簿男子!$B$2:$H$101,2,0)","v":{"$error":"#N/A"}},{"$f":"VLOOKUP($A26,名簿男子!$B$2:$H$101,4,0)","v":{"$error":"#N/A"}},{"$f":"VLOOKUP($A26,名簿男子!$B$2:$H$101,5,0)","v":{"$error":"#N/A"}},0,0,"鳥取"]
[{"$f":"様式１男子!A57","v":""},{"$f":"VLOOKUP($A27,名簿男子!$B$2:$H$101,2,0)","v":{"$error":"#N/A"}},{"$f":"VLOOKUP($A27,名簿男子!$B$2:$H$101,4,0)","v":{"$error":"#N/A"}},{"$f":"VLOOKUP($A27,名簿男子!$B$2:$H$101,5,0)","v":{"$error":"#N/A"}},0,0,"鳥取"]

{"sheet":"名簿女子","index":5,"n_rows":101,"n_cols":13,"rows_kept":101,"cut":false,"hidden":false,"merged":[]}
["入力\n番号","ナンバー","名　前\n氏名間半角ｽﾍﾟｰｽ","ふりがな\n氏名間半角ｽﾍﾟｰｽ","ﾌﾘｶﾞﾅ\n氏名間半角ｽﾍﾟｰｽ","学年\n半角","生年月日\n2020/07/24","性別","種目","記録","大会名",null,"種目リスト"]
[1,null,null,null,null,null,null,"女",null,null,null,null,"小1年50m"]
[2,null,null,null,null,null,null,"女",null,null,null,null,"小2年50m"]
[3,null,null,null,null,null,null,"女",null,null,null,null,"小3年100m"]
[4,null,null,null,null,null,null,"女",null,null,null,null,"小4年100m"]
[5,null,null,null,null,null,null,"女",null,null,null,null,"小5年100m"]
[6,null,null,null,null,null,null,"女",null,null,null,null,"小6年100m"]
[7,null,null,null,null,null,null,"女",null,null,null,null,"1年100m"]
[8,null,null,null,null,null,null,"女",null,null,null,null,"2年100m"]
[9,null,null,null,null,null,null,"女",null,null,null,null,"3年100m"]
[10,null,null,null,null,null,null,"女",null,null,null,null,"2･3年100m"]
[11,null,null,null,null,null,null,"女",null,null,null,null,"200m"]
[12,null,null,null,null,null,null,"女",null,null,null,null,"400m"]
[13,null,null,null,null,null,null,"女",null,null,null,null,"800m"]
[14,null,null,null,null,null,null,"女",null,null,null,null,"1500m"]
[15,null,null,null,null,null,null,"女",null,null,null,null,"1年1500m"]
[16,null,null,null,null,null,null,"女",null,null,null,null,"2年1500m"]
[17,null,null,null,null,null,null,"女",null,null,null,null,"3年1500m"]
[18,null,null,null,null,null,null,"女",null,null,null,null,"2･3年1500m"]
[19,null,null,null,null,null,null,"女",null,null,null,null,"3000m"]
[20,null,null,null,null,null,null,"女",null,null,null,null,"100mH"]
[21,null,null,null,null,null,null,"女",null,null,null,null,"110mH"]
[22,null,null,null,null,null,null,"女",null,null,null,null,"走高跳"]
[23,null,null,null,null,null,null,"女",null,null,null,null,"棒高跳"]
[24,null,null,null,null,null,null,"女",null,null,null,null,"走幅跳"]
[25,null,null,null,null,null,null,"女",null,null,null,null,"砲丸投"]
[26,null,null,null,null,null,null,"女",null,null,null,null,"円盤投"]
[27,null,null,null,null,null,null,"女",null,null,null,null,"ｼﾞｬﾍﾞﾘｯｸｽﾛｰ"]
[28,null,null,null,null,null,null,"女"]
[29,null,null,null,null,null,null,"女"]
[30,null,null,null,null,null,null,"女"]
[31,null,null,null,null,null,null,"女"]
[32,null,null,null,null,null,null,"女"]
[33,null,null,null,null,null,null,"女"]
[34,null,null,null,null,null,null,"女"]
[35,null,null,null,null,null,null,"女"]
[36,null,null,null,null,null,null,"女"]
[37,null,null,null,null,null,null,"女"]
[38,null,null,null,null,null,null,"女"]
[39,null,null,null,null,null,null,"女"]
[40,null,null,null,null,null,null,"女"]
[41,null,null,null,null,null,null,"女"]
[42,null,null,null,null,null,null,"女"]
[43,null,null,null,null,null,null,"女"]
[44,null,null,null,null,null,null,"女"]
[45,null,null,null,null,null,null,"女"]
[46,null,null,null,null,null,null,"女"]
[47,null,null,null,null,null,null,"女"]
[48,null,null,null,null,null,null,"女"]
[49,null,null,null,null,null,null,"女"]
[50,null,null,null,null,null,null,"女"]
[51,null,null,null,null,null,null,"女"]
[52,null,null,null,null,null,null,"女"]
[53,null,null,null,null,null,null,"女"]
[54,null,null,null,null,null,null,"女"]
[55,null,null,null,null,null,null,"女"]
[56,null,null,null,null,null,null,"女"]
[57,null,null,null,null,null,null,"女"]
[58,null,null,null,null,null,null,"女"]
[59,null,null,null,null,null,null,"女"]
[60,null,null,null,null,null,null,"女"]
[61,null,null,null,null,null,null,"女"]
[62,null,null,null,null,null,null,"女"]
[63,null,null,null,null,null,null,"女"]
[64,null,null,null,null,null,null,"女"]
[65,null,null,null,null,null,null,"女"]
[66,null,null,null,null,null,null,"女"]
[67,null,null,null,null,null,null,"女"]
[68,null,null,null,null,null,null,"女"]
[69,null,null,null,null,null,null,"女"]
[70,null,null,null,null,null,null,"女"]
[71,null,null,null,null,null,null,"女"]
[72,null,null,null,null,null,null,"女"]
[73,null,null,null,null,null,null,"女"]
[74,null,null,null,null,null,null,"女"]
[75,null,null,null,null,null,null,"女"]
[76,null,null,null,null,null,null,"女"]
[77,null,null,null,null,null,null,"女"]
[78,null,null,null,null,null,null,"女"]
[79,null,null,null,null,null,null,"女"]
[80,null,null,null,null,null,null,"女"]
[81,null,null,null,null,null,null,"女"]
[82,null,null,null,null,null,null,"女"]
[83,null,null,null,null,null,null,"女"]
[84,null,null,null,null,null,null,"女"]
[85,null,null,null,null,null,null,"女"]
[86,null,null,null,null,null,null,"女"]
[87,null,null,null,null,null,null,"女"]
[88,null,null,null,null,null,null,"女"]
[89,null,null,null,null,null,null,"女"]
[90,null,null,null,null,null,null,"女"]
[91,null,null,null,null,null,null,"女"]
[92,null,null,null,null,null,null,"女"]
[93,null,null,null,null,null,null,"女"]
[94,null,null,null,null,null,null,"女"]
[95,null,null,null,null,null,null,"女"]
[96,null,null,null,null,null,null,"女"]
[97,null,null,null,null,null,null,"女"]
[98,null,null,null,null,null,null,"女"]
[99,null,null,null,null,null,null,"女"]
[100,null,null,null,null,null,null,"女"]

{"sheet":"様式１女子","index":6,"n_rows":58,"n_cols":28,"rows_kept":58,"cut":false,"hidden":false,"merged":[[1,11,1,15],[2,11,4,15],[6,5,7,7],[2,0,2,2],[2,3,2,9],[3,0,5,2],[3,3,4,3],[3,4,4,7],[3,8,3,9],[4,8,4,9],[5,4,5,6],[5,8,5,9],[6,19,7,19],[6,20,7,20],[6,21,7,21],[8,0,9,0],[8,2,9,2],[8,3,9,3],[8,4,9,4],[8,5,9,5],[8,6,9,6],[8,7,9,7],[8,8,9,8],[8,9,9,9],[8,11,9,11],[8,12,9,12],[8,13,9,13],[8,14,9,14],[6,11,7,11],[6,12,7,14],[6,16,7,16],[6,17,7,17],[6,18,7,18],[6,0,7,0],[6,3,7,3],[6,4,7,4],[8,21,9,21],[10,0,11,0],[10,2,11,2],[10,3,11,3],[10,4,11,4],[10,5,11,5],[10,6,11,6],[10,7,11,7],[10,8,11,8],[10,9,11,9],[10,11,11,11],[10,12,11,12],[10,13,11,13],[10,14,11,14],[10,16,11,16],[10,17,11,17],[8,16,9,16],[8,17,9,17],[8,18,9,18],[8,19,9,19],[8,20,9,20],[12,18,13,18],[12,19,13,19],[10,18,11,18],[10,19,11,19],[10,20,11,20],[10,21,11,21],[12,0,13,0],[12,2,13,2],[12,3,13,3],[12,4,13,4],[12,5,13,5],[12,6,13,6],[12,7,13,7],[12,8,13,8],[12,9,13,9],[12,11,13,11],[12,12,13,12],[12,13,13,13],[14,17,15,17],[14,18,15,18],[14,19,15,19],[14,20,15,20],[14,21,15,21],[12,20,13,20],[12,21,13,21],[14,0,15,0],[14,2,15,2],[14,3,15,3],[14,4,15,4],[14,5,15,5],[14,6,15,6],[14,7,15,7],[14,8,15,8],[14,9,15,9],[14,11,15,11],[14,12,15,12],[14,13,15,13],[14,14,15,14],[14,16,15,16],[12,14,13,14],[12,16,13,16],[12,17,13,17],[16,7,17,7],[16,8,17,8],[16,9,17,9],[16,11,17,11],[16,0,17,0],[16,2,17,2],[16,3,17,3],[16,4,17,4],[16,5,17,5],[18,18,19,18],[18,19,19,19],[16,18,17,18],[16,19,17,19],[16,20,17,20],[16,21,17,21],[18,0,19,0],[18,2,19,2],[18,3,19,3],[18,4,19,4],[18,5,19,5],[18,6,19,6],[18,7,19,7],[18,8,19,8],[18,9,19,9],[18,11,19,11],[18,12,19,12],[18,13,19,13],[16,12,17,12],[16,13,17,13],[16,14,17,14],[16,16,17,16],[16,17,17,17],[16,6,17,6],[20,17,21,17],[20,18,21,18],[20,19,21,19],[20,20,21,20],[20,21,21,21],[18,20,19,20],[18,21,19,21],[20,0,21,0],[20,2,21,2],[20,3,21,3],[20,4,21,4],[20,5,21,5],[20,6,21,6],[20,7,21,7],[20,8,21,8],[20,9,21,9],[20,11,21,11],[20,12,21,12],[20,13,21,13],[20,14,21,14],[20,16,21,16],[18,14,19,14],[18,16,19,16],[18,17,19,17],[22,7,23,7],[22,8,23,8],[22,9,23,9],[22,11,23,11],[22,0,23,0],[22,2,23,2],[22,3,23,3],[22,4,23,4],[22,5,23,5],[24,18,25,18],[24,19,25,19],[22,18,23,18],[22,19,23,19],[22,20,23,20],[22,21,23,21],[24,0,25,0],[24,2,25,2],[24,3,25,3],[24,4,25,4],[24,5,25,5],[24,6,25,6],[24,7,25,7],[24,8,25,8],[24,9,25,9],[24,11,25,11],[24,12,25,12],[24,13,25,13],[22,12,23,12],[22,13,23,13],[22,14,23,14],[22,16,23,16],[22,17,23,17],[22,6,23,6],[26,17,27,17],[26,18,27,18],[26,19,27,19],[26,20,27,20],[26,21,27,21],[24,20,25,20],[24,21,25,21],[26,0,27,0],[26,2,27,2],[26,3,27,3],[26,4,27,4],[26,5,27,5],[26,6,27,6],[26,7,27,7],[26,8,27,8],[26,9,27,9],[26,11,27,11],[26,12,27,12],[26,13,27,13],[26,14,27,14],[26,16,27,16],[24,14,25,14],[24,16,25,16],[24,17,25,17],[28,7,29,7],[28,8,29,8],[28,9,29,9],[28,11,29,11],[28,0,29,0],[28,2,29,2],[28,3,29,3],[28,4,29,4],[28,5,29,5],[30,18,31,18],[30,19,31,19],[28,18,29,18],[28,19,29,19],[28,20,29,20],[28,21,29,21],[30,0,31,0],[30,2,31,2],[30,3,31,3],[30,4,31,4],[30,5,31,5],[30,6,31,6],[30,7,31,7],[30,8,31,8],[30,9,31,9],[30,11,31,11],[30,12,31,12],[30,13,31,13],[28,12,29,12],[28,13,29,13],[28,14,29,14],[28,16,29,16],[28,17,29,17],[28,6,29,6],[32,17,33,17],[32,18,33,18],[32,19,33,19],[32,20,33,20],[32,21,33,21],[30,20,31,20],[30,21,31,21],[32,0,33,0],[32,2,33,2],[32,3,33,3],[32,4,33,4],[32,5,33,5],[32,6,33,6],[32,7,33,7],[32,8,33,8],[32,9,33,9],[32,11,33,11],[32,12,33,12],[32,13,33,13],[32,14,33,14],[32,16,33,16],[30,14,31,14],[30,16,31,16],[30,17,31,17],[34,7,35,7],[34,8,35,8],[34,9,35,9],[34,11,35,11],[34,0,35,0],[34,2,35,2],[34,3,35,3],[34,4,35,4],[34,5,35,5],[36,18,37,18],[36,19,37,19],[34,18,35,18],[34,19,35,19],[34,20,35,20],[34,21,35,21],[36,0,37,0],[36,2,37,2],[36,3,37,3],[36,4,37,4],[36,5,37,5],[36,6,37,6],[36,7,37,7],[36,8,37,8],[36,9,37,9],[36,11,37,11],[36,12,37,12],[36,13,37,13],[34,12,35,12],[34,13,35,13],[34,14,35,14],[34,16,35,16],[34,17,35,17],[34,6,35,6],[38,17,39,17],[38,18,39,18],[38,19,39,19],[38,20,39,20],[38,21,39,21],[36,20,37,20],[36,21,37,21],[38,0,39,0],[38,2,39,2],[38,3,39,3],[38,4,39,4],[38,5,39,5],[38,6,39,6],[38,7,39,7],[38,8,39,8],[38,9,39,9],[38,11,39,11],[38,12,39,12],[38,13,39,13],[38,14,39,14],[38,16,39,16],[36,14,37,14],[36,16,37,16],[36,17,37,17],[40,7,41,7],[40,8,41,8],[40,9,41,9],[40,11,41,11],[40,0,41,0],[40,2,41,2],[40,3,41,3],[40,4,41,4],[40,5,41,5],[42,18,43,18],[42,19,43,19],[40,18,41,18],[40,19,41,19],[40,20,41,20],[40,21,41,21],[42,0,43,0],[42,2,43,2],[42,3,43,3],[42,4,43,4],[42,5,43,5],[42,6,43,6],[42,7,43,7],[42,8,43,8],[42,9,43,9],[42,11,43,11],[42,12,43,12],[42,13,43,13],[40,12,41,12],[40,13,41,13],[40,14,41,14],[40,16,41,16],[40,17,41,17],[40,6,41,6],[44,17,45,17],[44,18,45,18],[44,19,45,19],[44,20,45,20],[44,21,45,21],[42,20,43,20],[42,21,43,21],[44,0,45,0],[44,2,45,2],[44,3,45,3],[44,4,45,4],[44,5,45,5],[44,6,45,6],[44,7,45,7],[44,8,45,8],[44,9,45,9],[44,11,45,11],[44,12,45,12],[44,13,45,13],[44,14,45,14],[44,16,45,16],[42,14,43,14],[42,16,43,16],[42,17,43,17],[46,7,47,7],[46,8,47,8],[46,9,47,9],[46,11,47,11],[46,0,47,0],[46,2,47,2],[46,3,47,3],[46,4,47,4],[46,5,47,5],[48,18,49,18],[48,19,49,19],[46,18,47,18],[46,19,47,19],[46,20,47,20],[46,21,47,21],[48,0,49,0],[48,2,49,2],[48,3,49,3],[48,4,49,4],[48,5,49,5],[48,6,49,6],[48,7,49,7],[48,8,49,8],[48,9,49,9],[48,11,49,11],[48,12,49,12],[48,13,49,13],[46,12,47,12],[46,13,47,13],[46,14,47,14],[46,16,47,16],[46,17,47,17],[46,6,47,6],[50,17,51,17],[50,18,51,18],[50,19,51,19],[50,20,51,20],[50,21,51,21],[48,20,49,20],[48,21,49,21],[50,0,51,0],[50,2,51,2],[50,3,51,3],[50,4,51,4],[50,5,51,5],[50,6,51,6],[50,7,51,7],[50,8,51,8],[50,9,51,9],[50,11,51,11],[50,12,51,12],[50,13,51,13],[50,14,51,14],[50,16,51,16],[48,14,49,14],[48,16,49,16],[48,17,49,17],[52,7,53,7],[52,8,53,8],[52,9,53,9],[52,11,53,11],[52,0,53,0],[52,2,53,2],[52,3,53,3],[52,4,53,4],[52,5,53,5],[54,18,55,18],[54,19,55,19],[52,18,53,18],[52,19,53,19],[52,20,53,20],[52,21,53,21],[54,0,55,0],[54,2,55,2],[54,3,55,3],[54,4,55,4],[54,5,55,5],[54,6,55,6],[54,7,55,7],[54,8,55,8],[54,9,55,9],[54,11,55,11],[54,12,55,12],[54,13,55,13],[52,12,53,12],[52,13,53,13],[52,14,53,14],[52,16,53,16],[52,17,53,17],[52,6,53,6],[56,17,57,17],[56,18,57,18],[56,19,57,19],[56,20,57,20],[56,21,57,21],[54,20,55,20],[54,21,55,21],[56,0,57,0],[56,2,57,2],[56,3,57,3],[56,4,57,4],[56,5,57,5],[56,6,57,6],[56,7,57,7],[56,8,57,8],[56,9,57,9],[56,11,57,11],[56,12,57,12],[56,13,57,13],[56,14,57,14],[56,16,57,16],[54,14,55,14],[54,16,55,16],[54,17,55,17],[6,22,7,22],[6,23,7,23],[6,24,7,24],[6,25,7,25],[6,26,7,26],[6,27,7,27],[8,22,9,22],[8,23,9,23],[8,24,9,24],[8,25,9,25],[8,26,9,26],[8,27,9,27],[10,22,11,22],[10,23,11,23],[10,24,11,24],[10,25,11,25],[10,26,11,26],[10,27,11,27],[12,22,13,22],[12,23,13,23],[12,24,13,24],[12,25,13,25],[12,26,13,26],[12,27,13,27],[14,22,15,22],[14,23,15,23],[14,24,15,24],[14,25,15,25],[14,26,15,26],[14,27,15,27],[16,22,17,22],[16,23,17,23],[16,24,17,24],[16,25,17,25],[16,26,17,26],[16,27,17,27],[18,22,19,22],[18,23,19,23],[18,24,19,24],[18,25,19,25],[18,26,19,26],[18,27,19,27],[20,22,21,22],[20,23,21,23],[20,24,21,24],[20,25,21,25],[20,26,21,26],[20,27,21,27],[22,22,23,22],[22,23,23,23],[22,24,23,24],[22,25,23,25],[22,26,23,26],[22,27,23,27],[24,22,25,22],[24,23,25,23],[24,24,25,24],[24,25,25,25],[24,26,25,26],[24,27,25,27],[26,22,27,22],[26,23,27,23],[26,24,27,24],[26,25,27,25],[26,26,27,26],[26,27,27,27],[28,22,29,22],[28,23,29,23],[28,24,29,24],[28,25,29,25],[28,26,29,26],[28,27,29,27],[30,22,31,22],[30,23,31,23],[30,24,31,24],[30,25,31,25],[30,26,31,26],[30,27,31,27],[32,22,33,22],[32,23,33,23],[32,24,33,24],[32,25,33,25],[32,26,33,26],[32,27,33,27],[34,22,35,22],[34,23,35,23],[34,24,35,24],[34,25,35,25],[34,26,35,26],[34,27,35,27],[36,22,37,22],[36,23,37,23],[36,24,37,24],[36,25,37,25],[36,26,37,26],[36,27,37,27],[38,22,39,22],[38,23,39,23],[38,24,39,24],[38,25,39,25],[38,26,39,26],[38,27,39,27],[40,22,41,22],[40,23,41,23],[40,24,41,24],[40,25,41,25],[40,26,41,26],[40,27,41,27],[42,22,43,22],[42,23,43,23],[42,24,43,24],[42,25,43,25],[42,26,43,26],[42,27,43,27],[44,22,45,22],[44,23,45,23],[44,24,45,24],[44,25,45,25],[44,26,45,26],[44,27,45,27],[46,22,47,22],[46,23,47,23],[46,24,47,24],[46,25,47,25],[46,26,47,26],[46,27,47,27],[48,22,49,22],[48,23,49,23],[48,24,49,24],[48,25,49,25],[48,26,49,26],[48,27,49,27],[50,22,51,22],[50,23,51,23],[50,24,51,24],[50,25,51,25],[50,26,51,26],[50,27,51,27],[52,22,53,22],[52,23,53,23],[52,24,53,24],[52,25,53,25],[52,26,53,26],[52,27,53,27],[54,22,55,22],[54,23,55,23],[54,24,55,24],[54,25,55,25],[54,26,55,26],[54,27,55,27],[56,22,57,22],[56,23,57,23],[56,24,57,24],[56,25,57,25],[56,26,57,26],[56,27,57,27]]}
["様式１"]
["※女子は朱書のこと",null,null,null,null,null,null,null,null,null,null,"上の項目は男子シートから自動でコピーされる。"]
[{"$f":"様式１男子!A3","v":"（　201西部地区総体　）大会　　　　　　　　　　　　　"},null,null,"※（所属の異なる選手は、同一の用紙に記入しないこと）",null,null,null,null,null,null,null,"右の一覧の番号を出場種目番号に入れると、\n自動で様式１が作成される。\n入力後、様式２作成ボタンをクリックする。"]
["出 場 選 手 一 覧 表",null,null,"学校名\n所属名",{"$f":"様式１男子!E4","v":0},null,null,null,"携帯・自宅等連絡先明記のこと"]
[null,null,null,null,null,null,null,null,{"$f":"様式１男子!I5","v":"℡0859-99-9999　学校"}]
[null,null,null,"責任者名",{"$f":"様式１男子!E6","v":0},null,null,"印",{"$f":"様式１男子!I6","v":"℡090-9999-9999 携帯"},null,null,"個人ｴﾝﾄﾘｰ数",{"$f":"COUNTA($M$9:$O$58)","v":0}]
["ナンバー","（ふ　り　が　な）","学年","生年月日","性別","出　 場　 種　 目（全部書く）",null,null,"４×１００m","４×４００m",null,"名　前","出場種目番号",null,null,null,"番号","名前","種目","番号","名前","種目","番号","名前","種目","番号","名前","種目"]
[null,"選　　　手　　　名","（年齢）",null,null,null,null,null,"リレー","リレー"]
[{"$f":"IF(M9=\"\",\"\",VLOOKUP(M9,名簿女子!$A$2:$I$101,2))","v":""},{"$f":"IF(M9=\"\",\"\",VLOOKUP(M9,名簿女子!$A$2:$I$101,4))","v":""},{"$f":"IF(M9=\"\",\"\",VLOOKUP(M9,名簿女子!$A$2:$I$101,6))","v":""},{"$f":"IF(M9=\"\",\"\",VLOOKUP(M9,名簿女子!$A$2:$I$101,7))","v":""},{"$f":"IF(M9=\"\",\"\",VLOOKUP(M9,名簿女子!$A$2:$I$101,8))","v":""},{"$f":"IF(M9=\"\",\"\",VLOOKUP(M9,名簿女子!$A$2:$I$101,9))","v":""},{"$f":"IF(N9=\"\",\"\",VLOOKUP(N9,名簿女子!$A$2:$I$101,9))","v":""},{"$f":"IF(O9=\"\",\"\",VLOOKUP(O9,名簿女子!$A$2:$I$101,9))","v":""},null,null,null,{"$f":"IF(M9=\"\",\"\",VLOOKUP(M9,名簿女子!$A$2:$I$101,3))","v":""},null,null,null,null,1,{"$f":"IF(Q9=\"\",\"\",VLOOKUP(Q9,名簿女子!$A$2:$I$101,3))","v":0},{"$f":"IF(Q9=\"\",\"\",VLOOKUP(Q9,名簿女子!$A$2:$I$101,9))","v":0},26,{"$f":"IF(T9=\"\",\"\",VLOOKUP(T9,名簿女子!$A$2:$I$101,3))","v":0},{"$f":"IF(T9=\"\",\"\",VLOOKUP(T9,名簿女子!$A$2:$I$101,9))","v":0},51,{"$f":"IF(W9=\"\",\"\",VLOOKUP(W9,名簿女子!$A$2:$I$101,3))","v":0},{"$f":"IF(W9=\"\",\"\",VLOOKUP(W9,名簿女子!$A$2:$I$101,9))","v":0},76,{"$f":"IF(Z9=\"\",\"\",VLOOKUP(Z9,名簿女子!$A$2:$I$101,3))","v":0},{"$f":"IF(Z9=\"\",\"\",VLOOKUP(Z9,名簿女子!$A$2:$I$101,9))","v":0}]
[null,{"$f":"IF(M9=\"\",\"\",VLOOKUP(M9,名簿女子!$A$2:$I$101,3))","v":""},null,null,null,null,null,null,null,null,null,null,null,null,null,null,null,{"$f":"IF(AC10=\"\",\"\",VLOOKUP(AC10,名簿男子!$A$2:$I$41,4))","v":""},{"$f":"IF(AD10=\"\",\"\",VLOOKUP(AD10,名簿男子!$A$2:$I$41,4))","v":""},null,{"$f":"IF(AF10=\"\",\"\",VLOOKUP(AF10,名簿男子!$A$2:$I$41,4))","v":""},{"$f":"IF(AG10=\"\",\"\",VLOOKUP(AG10,名簿男子!$A$2:$I$41,4))","v":""},null,{"$f":"IF(AI10=\"\",\"\",VLOOKUP(AI10,名簿男子!$A$2:$I$41,4))","v":""},{"$f":"IF(AJ10=\"\",\"\",VLOOKUP(AJ10,名簿男子!$A$2:$I$41,4))","v":""},null,{"$f":"IF(AL10=\"\",\"\",VLOOKUP(AL10,名簿男子!$A$2:$I$41,4))","v":""},{"$f":"IF(AM10=\"\",\"\",VLOOKUP(AM10,名簿男子!$A$2:$I$41,4))","v":""}]
[{"$f":"IF(M11=\"\",\"\",VLOOKUP(M11,名簿女子!$A$2:$I$101,2))","v":""},{"$f":"IF(M11=\"\",\"\",VLOOKUP(M11,名簿女子!$A$2:$I$101,4))","v":""},{"$f":"IF(M11=\"\",\"\",VLOOKUP(M11,名簿女子!$A$2:$I$101,6))","v":""},{"$f":"IF(M11=\"\",\"\",VLOOKUP(M11,名簿女子!$A$2:$I$101,7))","v":""},{"$f":"IF(M11=\"\",\"\",VLOOKUP(M11,名簿女子!$A$2:$I$101,8))","v":""},{"$f":"IF(M11=\"\",\"\",VLOOKUP(M11,名簿女子!$A$2:$I$101,9))","v":""},{"$f":"IF(N11=\"\",\"\",VLOOKUP(N11,名簿女子!$A$2:$I$101,9))","v":""},{"$f":"IF(O11=\"\",\"\",VLOOKUP(O11,名簿女子!$A$2:$I$101,9))","v":""},null,null,null,{"$f":"IF(M11=\"\",\"\",VLOOKUP(M11,名簿女子!$A$2:$I$101,3))","v":""},null,null,null,null,2,{"$f":"IF(Q11=\"\",\"\",VLOOKUP(Q11,名簿女子!$A$2:$I$101,3))","v":0},{"$f":"IF(Q11=\"\",\"\",VLOOKUP(Q11,名簿女子!$A$2:$I$101,9))","v":0},27,{"$f":"IF(T11=\"\",\"\",VLOOKUP(T11,名簿女子!$A$2:$I$101,3))","v":0},{"$f":"IF(T11=\"\",\"\",VLOOKUP(T11,名簿女子!$A$2:$I$101,9))","v":0},52,{"$f":"IF(W11=\"\",\"\",VLOOKUP(W11,名簿女子!$A$2:$I$101,3))","v":0},{"$f":"IF(W11=\"\",\"\",VLOOKUP(W11,名簿女子!$A$2:$I$101,9))","v":0},77,{"$f":"IF(Z11=\"\",\"\",VLOOKUP(Z11,名簿女子!$A$2:$I$101,3))","v":0},{"$f":"IF(Z11=\"\",\"\",VLOOKUP(Z11,名簿女子!$A$2:$I$101,9))","v":0}]
[null,{"$f":"IF(M11=\"\",\"\",VLOOKUP(M11,名簿女子!$A$2:$I$101,3))","v":""},null,null,null,null,null,null,null,null,null,null,null,null,null,null,null,{"$f":"IF(AC12=\"\",\"\",VLOOKUP(AC12,名簿男子!$A$2:$I$41,4))","v":""},{"$f":"IF(AD12=\"\",\"\",VLOOKUP(AD12,名簿男子!$A$2:$I$41,4))","v":""},null,{"$f":"IF(AF12=\"\",\"\",VLOOKUP(AF12,名簿男子!$A$2:$I$41,4))","v":""},{"$f":"IF(AG12=\"\",\"\",VLOOKUP(AG12,名簿男子!$A$2:$I$41,4))","v":""},null,{"$f":"IF(AI12=\"\",\"\",VLOOKUP(AI12,名簿男子!$A$2:$I$41,4))","v":""},{"$f":"IF(AJ12=\"\",\"\",VLOOKUP(AJ12,名簿男子!$A$2:$I$41,4))","v":""},null,{"$f":"IF(AL12=\"\",\"\",VLOOKUP(AL12,名簿男子!$A$2:$I$41,4))","v":""},{"$f":"IF(AM12=\"\",\"\",VLOOKUP(AM12,名簿男子!$A$2:$I$41,4))","v":""}]
[{"$f":"IF(M13=\"\",\"\",VLOOKUP(M13,名簿女子!$A$2:$I$101,2))","v":""},{"$f":"IF(M13=\"\",\"\",VLOOKUP(M13,名簿女子!$A$2:$I$101,4))","v":""},{"$f":"IF(M13=\"\",\"\",VLOOKUP(M13,名簿女子!$A$2:$I$101,6))","v":""},{"$f":"IF(M13=\"\",\"\",VLOOKUP(M13,名簿女子!$A$2:$I$101,7))","v":""},{"$f":"IF(M13=\"\",\"\",VLOOKUP(M13,名簿女子!$A$2:$I$101,8))","v":""},{"$f":"IF(M13=\"\",\"\",VLOOKUP(M13,名簿女子!$A$2:$I$101,9))","v":""},{"$f":"IF(N13=\"\",\"\",VLOOKUP(N13,名簿女子!$A$2:$I$101,9))","v":""},{"$f":"IF(O13=\"\",\"\",VLOOKUP(O13,名簿女子!$A$2:$I$101,9))","v":""},null,null,null,{"$f":"IF(M13=\"\",\"\",VLOOKUP(M13,名簿女子!$A$2:$I$101,3))","v":""},null,null,null,null,3,{"$f":"IF(Q13=\"\",\"\",VLOOKUP(Q13,名簿女子!$A$2:$I$101,3))","v":0},{"$f":"IF(Q13=\"\",\"\",VLOOKUP(Q13,名簿女子!$A$2:$I$101,9))","v":0},28,{"$f":"IF(T13=\"\",\"\",VLOOKUP(T13,名簿女子!$A$2:$I$101,3))","v":0},{"$f":"IF(T13=\"\",\"\",VLOOKUP(T13,名簿女子!$A$2:$I$101,9))","v":0},53,{"$f":"IF(W13=\"\",\"\",VLOOKUP(W13,名簿女子!$A$2:$I$101,3))","v":0},{"$f":"IF(W13=\"\",\"\",VLOOKUP(W13,名簿女子!$A$2:$I$101,9))","v":0},78,{"$f":"IF(Z13=\"\",\"\",VLOOKUP(Z13,名簿女子!$A$2:$I$101,3))","v":0},{"$f":"IF(Z13=\"\",\"\",VLOOKUP(Z13,名簿女子!$A$2:$I$101,9))","v":0}]
[null,{"$f":"IF(M13=\"\",\"\",VLOOKUP(M13,名簿女子!$A$2:$I$101,3))","v":""},null,null,null,null,null,null,null,null,null,null,null,null,null,null,null,{"$f":"IF(AC14=\"\",\"\",VLOOKUP(AC14,名簿男子!$A$2:$I$41,4))","v":""},{"$f":"IF(AD14=\"\",\"\",VLOOKUP(AD14,名簿男子!$A$2:$I$41,4))","v":""},null,{"$f":"IF(AF14=\"\",\"\",VLOOKUP(AF14,名簿男子!$A$2:$I$41,4))","v":""},{"$f":"IF(AG14=\"\",\"\",VLOOKUP(AG14,名簿男子!$A$2:$I$41,4))","v":""},null,{"$f":"IF(AI14=\"\",\"\",VLOOKUP(AI14,名簿男子!$A$2:$I$41,4))","v":""},{"$f":"IF(AJ14=\"\",\"\",VLOOKUP(AJ14,名簿男子!$A$2:$I$41,4))","v":""},null,{"$f":"IF(AL14=\"\",\"\",VLOOKUP(AL14,名簿男子!$A$2:$I$41,4))","v":""},{"$f":"IF(AM14=\"\",\"\",VLOOKUP(AM14,名簿男子!$A$2:$I$41,4))","v":""}]
[{"$f":"IF(M15=\"\",\"\",VLOOKUP(M15,名簿女子!$A$2:$I$101,2))","v":""},{"$f":"IF(M15=\"\",\"\",VLOOKUP(M15,名簿女子!$A$2:$I$101,4))","v":""},{"$f":"IF(M15=\"\",\"\",VLOOKUP(M15,名簿女子!$A$2:$I$101,6))","v":""},{"$f":"IF(M15=\"\",\"\",VLOOKUP(M15,名簿女子!$A$2:$I$101,7))","v":""},{"$f":"IF(M15=\"\",\"\",VLOOKUP(M15,名簿女子!$A$2:$I$101,8))","v":""},{"$f":"IF(M15=\"\",\"\",VLOOKUP(M15,名簿女子!$A$2:$I$101,9))","v":""},{"$f":"IF(N15=\"\",\"\",VLOOKUP(N15,名簿女子!$A$2:$I$101,9))","v":""},{"$f":"IF(O15=\"\",\"\",VLOOKUP(O15,名簿女子!$A$2:$I$101,9))","v":""},null,null,null,{"$f":"IF(M15=\"\",\"\",VLOOKUP(M15,名簿女子!$A$2:$I$101,3))","v":""},null,null,null,null,4,{"$f":"IF(Q15=\"\",\"\",VLOOKUP(Q15,名簿女子!$A$2:$I$101,3))","v":0},{"$f":"IF(Q15=\"\",\"\",VLOOKUP(Q15,名簿女子!$A$2:$I$101,9))","v":0},29,{"$f":"IF(T15=\"\",\"\",VLOOKUP(T15,名簿女子!$A$2:$I$101,3))","v":0},{"$f":"IF(T15=\"\",\"\",VLOOKUP(T15,名簿女子!$A$2:$I$101,9))","v":0},54,{"$f":"IF(W15=\"\",\"\",VLOOKUP(W15,名簿女子!$A$2:$I$101,3))","v":0},{"$f":"IF(W15=\"\",\"\",VLOOKUP(W15,名簿女子!$A$2:$I$101,9))","v":0},79,{"$f":"IF(Z15=\"\",\"\",VLOOKUP(Z15,名簿女子!$A$2:$I$101,3))","v":0},{"$f":"IF(Z15=\"\",\"\",VLOOKUP(Z15,名簿女子!$A$2:$I$101,9))","v":0}]
[null,{"$f":"IF(M15=\"\",\"\",VLOOKUP(M15,名簿女子!$A$2:$I$101,3))","v":""},null,null,null,null,null,null,null,null,null,null,null,null,null,null,null,{"$f":"IF(AC16=\"\",\"\",VLOOKUP(AC16,名簿男子!$A$2:$I$41,4))","v":""},{"$f":"IF(AD16=\"\",\"\",VLOOKUP(AD16,名簿男子!$A$2:$I$41,4))","v":""},null,{"$f":"IF(AF16=\"\",\"\",VLOOKUP(AF16,名簿男子!$A$2:$I$41,4))","v":""},{"$f":"IF(AG16=\"\",\"\",VLOOKUP(AG16,名簿男子!$A$2:$I$41,4))","v":""},null,{"$f":"IF(AI16=\"\",\"\",VLOOKUP(AI16,名簿男子!$A$2:$I$41,4))","v":""},{"$f":"IF(AJ16=\"\",\"\",VLOOKUP(AJ16,名簿男子!$A$2:$I$41,4))","v":""},null,{"$f":"IF(AL16=\"\",\"\",VLOOKUP(AL16,名簿男子!$A$2:$I$41,4))","v":""},{"$f":"IF(AM16=\"\",\"\",VLOOKUP(AM16,名簿男子!$A$2:$I$41,4))","v":""}]
[{"$f":"IF(M17=\"\",\"\",VLOOKUP(M17,名簿女子!$A$2:$I$101,2))","v":""},{"$f":"IF(M17=\"\",\"\",VLOOKUP(M17,名簿女子!$A$2:$I$101,4))","v":""},{"$f":"IF(M17=\"\",\"\",VLOOKUP(M17,名簿女子!$A$2:$I$101,6))","v":""},{"$f":"IF(M17=\"\",\"\",VLOOKUP(M17,名簿女子!$A$2:$I$101,7))","v":""},{"$f":"IF(M17=\"\",\"\",VLOOKUP(M17,名簿女子!$A$2:$I$101,8))","v":""},{"$f":"IF(M17=\"\",\"\",VLOOKUP(M17,名簿女子!$A$2:$I$101,9))","v":""},{"$f":"IF(N17=\"\",\"\",VLOOKUP(N17,名簿女子!$A$2:$I$101,9))","v":""},{"$f":"IF(O17=\"\",\"\",VLOOKUP(O17,名簿女子!$A$2:$I$101,9))","v":""},null,null,null,{"$f":"IF(M17=\"\",\"\",VLOOKUP(M17,名簿女子!$A$2:$I$101,3))","v":""},null,null,null,null,5,{"$f":"IF(Q17=\"\",\"\",VLOOKUP(Q17,名簿女子!$A$2:$I$101,3))","v":0},{"$f":"IF(Q17=\"\",\"\",VLOOKUP(Q17,名簿女子!$A$2:$I$101,9))","v":0},30,{"$f":"IF(T17=\"\",\"\",VLOOKUP(T17,名簿女子!$A$2:$I$101,3))","v":0},{"$f":"IF(T17=\"\",\"\",VLOOKUP(T17,名簿女子!$A$2:$I$101,9))","v":0},55,{"$f":"IF(W17=\"\",\"\",VLOOKUP(W17,名簿女子!$A$2:$I$101,3))","v":0},{"$f":"IF(W17=\"\",\"\",VLOOKUP(W17,名簿女子!$A$2:$I$101,9))","v":0},80,{"$f":"IF(Z17=\"\",\"\",VLOOKUP(Z17,名簿女子!$A$2:$I$101,3))","v":0},{"$f":"IF(Z17=\"\",\"\",VLOOKUP(Z17,名簿女子!$A$2:$I$101,9))","v":0}]
[null,{"$f":"IF(M17=\"\",\"\",VLOOKUP(M17,名簿女子!$A$2:$I$101,3))","v":""},null,null,null,null,null,null,null,null,null,null,null,null,null,null,null,{"$f":"IF(AC18=\"\",\"\",VLOOKUP(AC18,名簿男子!$A$2:$I$41,4))","v":""},{"$f":"IF(AD18=\"\",\"\",VLOOKUP(AD18,名簿男子!$A$2:$I$41,4))","v":""},null,{"$f":"IF(AF18=\"\",\"\",VLOOKUP(AF18,名簿男子!$A$2:$I$41,4))","v":""},{"$f":"IF(AG18=\"\",\"\",VLOOKUP(AG18,名簿男子!$A$2:$I$41,4))","v":""},null,{"$f":"IF(AI18=\"\",\"\",VLOOKUP(AI18,名簿男子!$A$2:$I$41,4))","v":""},{"$f":"IF(AJ18=\"\",\"\",VLOOKUP(AJ18,名簿男子!$A$2:$I$41,4))","v":""},null,{"$f":"IF(AL18=\"\",\"\",VLOOKUP(AL18,名簿男子!$A$2:$I$41,4))","v":""},{"$f":"IF(AM18=\"\",\"\",VLOOKUP(AM18,名簿男子!$A$2:$I$41,4))","v":""}]
[{"$f":"IF(M19=\"\",\"\",VLOOKUP(M19,名簿女子!$A$2:$I$101,2))","v":""},{"$f":"IF(M19=\"\",\"\",VLOOKUP(M19,名簿女子!$A$2:$I$101,4))","v":""},{"$f":"IF(M19=\"\",\"\",VLOOKUP(M19,名簿女子!$A$2:$I$101,6))","v":""},{"$f":"IF(M19=\"\",\"\",VLOOKUP(M19,名簿女子!$A$2:$I$101,7))","v":""},{"$f":"IF(M19=\"\",\"\",VLOOKUP(M19,名簿女子!$A$2:$I$101,8))","v":""},{"$f":"IF(M19=\"\",\"\",VLOOKUP(M19,名簿女子!$A$2:$I$101,9))","v":""},{"$f":"IF(N19=\"\",\"\",VLOOKUP(N19,名簿女子!$A$2:$I$101,9))","v":""},{"$f":"IF(O19=\"\",\"\",VLOOKUP(O19,名簿女子!$A$2:$I$101,9))","v":""},null,null,null,{"$f":"IF(M19=\"\",\"\",VLOOKUP(M19,名簿女子!$A$2:$I$101,3))","v":""},null,null,null,null,6,{"$f":"IF(Q19=\"\",\"\",VLOOKUP(Q19,名簿女子!$A$2:$I$101,3))","v":0},{"$f":"IF(Q19=\"\",\"\",VLOOKUP(Q19,名簿女子!$A$2:$I$101,9))","v":0},31,{"$f":"IF(T19=\"\",\"\",VLOOKUP(T19,名簿女子!$A$2:$I$101,3))","v":0},{"$f":"IF(T19=\"\",\"\",VLOOKUP(T19,名簿女子!$A$2:$I$101,9))","v":0},56,{"$f":"IF(W19=\"\",\"\",VLOOKUP(W19,名簿女子!$A$2:$I$101,3))","v":0},{"$f":"IF(W19=\"\",\"\",VLOOKUP(W19,名簿女子!$A$2:$I$101,9))","v":0},81,{"$f":"IF(Z19=\"\",\"\",VLOOKUP(Z19,名簿女子!$A$2:$I$101,3))","v":0},{"$f":"IF(Z19=\"\",\"\",VLOOKUP(Z19,名簿女子!$A$2:$I$101,9))","v":0}]
[null,{"$f":"IF(M19=\"\",\"\",VLOOKUP(M19,名簿女子!$A$2:$I$101,3))","v":""},null,null,null,null,null,null,null,null,null,null,null,null,null,null,null,{"$f":"IF(AC20=\"\",\"\",VLOOKUP(AC20,名簿男子!$A$2:$I$41,4))","v":""},{"$f":"IF(AD20=\"\",\"\",VLOOKUP(AD20,名簿男子!$A$2:$I$41,4))","v":""},null,{"$f":"IF(AF20=\"\",\"\",VLOOKUP(AF20,名簿男子!$A$2:$I$41,4))","v":""},{"$f":"IF(AG20=\"\",\"\",VLOOKUP(AG20,名簿男子!$A$2:$I$41,4))","v":""},null,{"$f":"IF(AI20=\"\",\"\",VLOOKUP(AI20,名簿男子!$A$2:$I$41,4))","v":""},{"$f":"IF(AJ20=\"\",\"\",VLOOKUP(AJ20,名簿男子!$A$2:$I$41,4))","v":""},null,{"$f":"IF(AL20=\"\",\"\",VLOOKUP(AL20,名簿男子!$A$2:$I$41,4))","v":""},{"$f":"IF(AM20=\"\",\"\",VLOOKUP(AM20,名簿男子!$A$2:$I$41,4))","v":""}]
[{"$f":"IF(M21=\"\",\"\",VLOOKUP(M21,名簿女子!$A$2:$I$101,2))","v":""},{"$f":"IF(M21=\"\",\"\",VLOOKUP(M21,名簿女子!$A$2:$I$101,4))","v":""},{"$f":"IF(M21=\"\",\"\",VLOOKUP(M21,名簿女子!$A$2:$I$101,6))","v":""},{"$f":"IF(M21=\"\",\"\",VLOOKUP(M21,名簿女子!$A$2:$I$101,7))","v":""},{"$f":"IF(M21=\"\",\"\",VLOOKUP(M21,名簿女子!$A$2:$I$101,8))","v":""},{"$f":"IF(M21=\"\",\"\",VLOOKUP(M21,名簿女子!$A$2:$I$101,9))","v":""},{"$f":"IF(N21=\"\",\"\",VLOOKUP(N21,名簿女子!$A$2:$I$101,9))","v":""},{"$f":"IF(O21=\"\",\"\",VLOOKUP(O21,名簿女子!$A$2:$I$101,9))","v":""},null,null,null,{"$f":"IF(M21=\"\",\"\",VLOOKUP(M21,名簿女子!$A$2:$I$101,3))","v":""},null,null,null,null,7,{"$f":"IF(Q21=\"\",\"\",VLOOKUP(Q21,名簿女子!$A$2:$I$101,3))","v":0},{"$f":"IF(Q21=\"\",\"\",VLOOKUP(Q21,名簿女子!$A$2:$I$101,9))","v":0},32,{"$f":"IF(T21=\"\",\"\",VLOOKUP(T21,名簿女子!$A$2:$I$101,3))","v":0},{"$f":"IF(T21=\"\",\"\",VLOOKUP(T21,名簿女子!$A$2:$I$101,9))","v":0},57,{"$f":"IF(W21=\"\",\"\",VLOOKUP(W21,名簿女子!$A$2:$I$101,3))","v":0},{"$f":"IF(W21=\"\",\"\",VLOOKUP(W21,名簿女子!$A$2:$I$101,9))","v":0},82,{"$f":"IF(Z21=\"\",\"\",VLOOKUP(Z21,名簿女子!$A$2:$I$101,3))","v":0},{"$f":"IF(Z21=\"\",\"\",VLOOKUP(Z21,名簿女子!$A$2:$I$101,9))","v":0}]
[null,{"$f":"IF(M21=\"\",\"\",VLOOKUP(M21,名簿女子!$A$2:$I$101,3))","v":""},null,null,null,null,null,null,null,null,null,null,null,null,null,null,null,{"$f":"IF(AC22=\"\",\"\",VLOOKUP(AC22,名簿男子!$A$2:$I$41,4))","v":""},{"$f":"IF(AD22=\"\",\"\",VLOOKUP(AD22,名簿男子!$A$2:$I$41,4))","v":""},null,{"$f":"IF(AF22=\"\",\"\",VLOOKUP(AF22,名簿男子!$A$2:$I$41,4))","v":""},{"$f":"IF(AG22=\"\",\"\",VLOOKUP(AG22,名簿男子!$A$2:$I$41,4))","v":""},null,{"$f":"IF(AI22=\"\",\"\",VLOOKUP(AI22,名簿男子!$A$2:$I$41,4))","v":""},{"$f":"IF(AJ22=\"\",\"\",VLOOKUP(AJ22,名簿男子!$A$2:$I$41,4))","v":""},null,{"$f":"IF(AL22=\"\",\"\",VLOOKUP(AL22,名簿男子!$A$2:$I$41,4))","v":""},{"$f":"IF(AM22=\"\",\"\",VLOOKUP(AM22,名簿男子!$A$2:$I$41,4))","v":""}]
[{"$f":"IF(M23=\"\",\"\",VLOOKUP(M23,名簿女子!$A$2:$I$101,2))","v":""},{"$f":"IF(M23=\"\",\"\",VLOOKUP(M23,名簿女子!$A$2:$I$101,4))","v":""},{"$f":"IF(M23=\"\",\"\",VLOOKUP(M23,名簿女子!$A$2:$I$101,6))","v":""},{"$f":"IF(M23=\"\",\"\",VLOOKUP(M23,名簿女子!$A$2:$I$101,7))","v":""},{"$f":"IF(M23=\"\",\"\",VLOOKUP(M23,名簿女子!$A$2:$I$101,8))","v":""},{"$f":"IF(M23=\"\",\"\",VLOOKUP(M23,名簿女子!$A$2:$I$101,9))","v":""},{"$f":"IF(N23=\"\",\"\",VLOOKUP(N23,名簿女子!$A$2:$I$101,9))","v":""},{"$f":"IF(O23=\"\",\"\",VLOOKUP(O23,名簿女子!$A$2:$I$101,9))","v":""},null,null,null,{"$f":"IF(M23=\"\",\"\",VLOOKUP(M23,名簿女子!$A$2:$I$101,3))","v":""},null,null,null,null,8,{"$f":"IF(Q23=\"\",\"\",VLOOKUP(Q23,名簿女子!$A$2:$I$101,3))","v":0},{"$f":"IF(Q23=\"\",\"\",VLOOKUP(Q23,名簿女子!$A$2:$I$101,9))","v":0},33,{"$f":"IF(T23=\"\",\"\",VLOOKUP(T23,名簿女子!$A$2:$I$101,3))","v":0},{"$f":"IF(T23=\"\",\"\",VLOOKUP(T23,名簿女子!$A$2:$I$101,9))","v":0},58,{"$f":"IF(W23=\"\",\"\",VLOOKUP(W23,名簿女子!$A$2:$I$101,3))","v":0},{"$f":"IF(W23=\"\",\"\",VLOOKUP(W23,名簿女子!$A$2:$I$101,9))","v":0},83,{"$f":"IF(Z23=\"\",\"\",VLOOKUP(Z23,名簿女子!$A$2:$I$101,3))","v":0},{"$f":"IF(Z23=\"\",\"\",VLOOKUP(Z23,名簿女子!$A$2:$I$101,9))","v":0}]
[null,{"$f":"IF(M23=\"\",\"\",VLOOKUP(M23,名簿女子!$A$2:$I$101,3))","v":""},null,null,null,null,null,null,null,null,null,null,null,null,null,null,null,{"$f":"IF(AC24=\"\",\"\",VLOOKUP(AC24,名簿男子!$A$2:$I$41,4))","v":""},{"$f":"IF(AD24=\"\",\"\",VLOOKUP(AD24,名簿男子!$A$2:$I$41,4))","v":""},null,{"$f":"IF(AF24=\"\",\"\",VLOOKUP(AF24,名簿男子!$A$2:$I$41,4))","v":""},{"$f":"IF(AG24=\"\",\"\",VLOOKUP(AG24,名簿男子!$A$2:$I$41,4))","v":""},null,{"$f":"IF(AI24=\"\",\"\",VLOOKUP(AI24,名簿男子!$A$2:$I$41,4))","v":""},{"$f":"IF(AJ24=\"\",\"\",VLOOKUP(AJ24,名簿男子!$A$2:$I$41,4))","v":""},null,{"$f":"IF(AL24=\"\",\"\",VLOOKUP(AL24,名簿男子!$A$2:$I$41,4))","v":""},{"$f":"IF(AM24=\"\",\"\",VLOOKUP(AM24,名簿男子!$A$2:$I$41,4))","v":""}]
[{"$f":"IF(M25=\"\",\"\",VLOOKUP(M25,名簿女子!$A$2:$I$101,2))","v":""},{"$f":"IF(M25=\"\",\"\",VLOOKUP(M25,名簿女子!$A$2:$I$101,4))","v":""},{"$f":"IF(M25=\"\",\"\",VLOOKUP(M25,名簿女子!$A$2:$I$101,6))","v":""},{"$f":"IF(M25=\"\",\"\",VLOOKUP(M25,名簿女子!$A$2:$I$101,7))","v":""},{"$f":"IF(M25=\"\",\"\",VLOOKUP(M25,名簿女子!$A$2:$I$101,8))","v":""},{"$f":"IF(M25=\"\",\"\",VLOOKUP(M25,名簿女子!$A$2:$I$101,9))","v":""},{"$f":"IF(N25=\"\",\"\",VLOOKUP(N25,名簿女子!$A$2:$I$101,9))","v":""},{"$f":"IF(O25=\"\",\"\",VLOOKUP(O25,名簿女子!$A$2:$I$101,9))","v":""},null,null,null,{"$f":"IF(M25=\"\",\"\",VLOOKUP(M25,名簿女子!$A$2:$I$101,3))","v":""},null,null,null,null,9,{"$f":"IF(Q25=\"\",\"\",VLOOKUP(Q25,名簿女子!$A$2:$I$101,3))","v":0},{"$f":"IF(Q25=\"\",\"\",VLOOKUP(Q25,名簿女子!$A$2:$I$101,9))","v":0},34,{"$f":"IF(T25=\"\",\"\",VLOOKUP(T25,名簿女子!$A$2:$I$101,3))","v":0},{"$f":"IF(T25=\"\",\"\",VLOOKUP(T25,名簿女子!$A$2:$I$101,9))","v":0},59,{"$f":"IF(W25=\"\",\"\",VLOOKUP(W25,名簿女子!$A$2:$I$101,3))","v":0},{"$f":"IF(W25=\"\",\"\",VLOOKUP(W25,名簿女子!$A$2:$I$101,9))","v":0},84,{"$f":"IF(Z25=\"\",\"\",VLOOKUP(Z25,名簿女子!$A$2:$I$101,3))","v":0},{"$f":"IF(Z25=\"\",\"\",VLOOKUP(Z25,名簿女子!$A$2:$I$101,9))","v":0}]
[null,{"$f":"IF(M25=\"\",\"\",VLOOKUP(M25,名簿女子!$A$2:$I$101,3))","v":""},null,null,null,null,null,null,null,null,null,null,null,null,null,null,null,{"$f":"IF(AC26=\"\",\"\",VLOOKUP(AC26,名簿男子!$A$2:$I$41,4))","v":""},{"$f":"IF(AD26=\"\",\"\",VLOOKUP(AD26,名簿男子!$A$2:$I$41,4))","v":""},null,{"$f":"IF(AF26=\"\",\"\",VLOOKUP(AF26,名簿男子!$A$2:$I$41,4))","v":""},{"$f":"IF(AG26=\"\",\"\",VLOOKUP(AG26,名簿男子!$A$2:$I$41,4))","v":""},null,{"$f":"IF(AI26=\"\",\"\",VLOOKUP(AI26,名簿男子!$A$2:$I$41,4))","v":""},{"$f":"IF(AJ26=\"\",\"\",VLOOKUP(AJ26,名簿男子!$A$2:$I$41,4))","v":""},null,{"$f":"IF(AL26=\"\",\"\",VLOOKUP(AL26,名簿男子!$A$2:$I$41,4))","v":""},{"$f":"IF(AM26=\"\",\"\",VLOOKUP(AM26,名簿男子!$A$2:$I$41,4))","v":""}]
[{"$f":"IF(M27=\"\",\"\",VLOOKUP(M27,名簿女子!$A$2:$I$101,2))","v":""},{"$f":"IF(M27=\"\",\"\",VLOOKUP(M27,名簿女子!$A$2:$I$101,4))","v":""},{"$f":"IF(M27=\"\",\"\",VLOOKUP(M27,名簿女子!$A$2:$I$101,6))","v":""},{"$f":"IF(M27=\"\",\"\",VLOOKUP(M27,名簿女子!$A$2:$I$101,7))","v":""},{"$f":"IF(M27=\"\",\"\",VLOOKUP(M27,名簿女子!$A$2:$I$101,8))","v":""},{"$f":"IF(M27=\"\",\"\",VLOOKUP(M27,名簿女子!$A$2:$I$101,9))","v":""},{"$f":"IF(N27=\"\",\"\",VLOOKUP(N27,名簿女子!$A$2:$I$101,9))","v":""},{"$f":"IF(O27=\"\",\"\",VLOOKUP(O27,名簿女子!$A$2:$I$101,9))","v":""},null,null,null,{"$f":"IF(M27=\"\",\"\",VLOOKUP(M27,名簿女子!$A$2:$I$101,3))","v":""},null,null,null,null,10,{"$f":"IF(Q27=\"\",\"\",VLOOKUP(Q27,名簿女子!$A$2:$I$101,3))","v":0},{"$f":"IF(Q27=\"\",\"\",VLOOKUP(Q27,名簿女子!$A$2:$I$101,9))","v":0},35,{"$f":"IF(T27=\"\",\"\",VLOOKUP(T27,名簿女子!$A$2:$I$101,3))","v":0},{"$f":"IF(T27=\"\",\"\",VLOOKUP(T27,名簿女子!$A$2:$I$101,9))","v":0},60,{"$f":"IF(W27=\"\",\"\",VLOOKUP(W27,名簿女子!$A$2:$I$101,3))","v":0},{"$f":"IF(W27=\"\",\"\",VLOOKUP(W27,名簿女子!$A$2:$I$101,9))","v":0},85,{"$f":"IF(Z27=\"\",\"\",VLOOKUP(Z27,名簿女子!$A$2:$I$101,3))","v":0},{"$f":"IF(Z27=\"\",\"\",VLOOKUP(Z27,名簿女子!$A$2:$I$101,9))","v":0}]
[null,{"$f":"IF(M27=\"\",\"\",VLOOKUP(M27,名簿女子!$A$2:$I$101,3))","v":""},null,null,null,null,null,null,null,null,null,null,null,null,null,null,null,{"$f":"IF(AC28=\"\",\"\",VLOOKUP(AC28,名簿男子!$A$2:$I$41,4))","v":""},{"$f":"IF(AD28=\"\",\"\",VLOOKUP(AD28,名簿男子!$A$2:$I$41,4))","v":""},null,{"$f":"IF(AF28=\"\",\"\",VLOOKUP(AF28,名簿男子!$A$2:$I$41,4))","v":""},{"$f":"IF(AG28=\"\",\"\",VLOOKUP(AG28,名簿男子!$A$2:$I$41,4))","v":""},null,{"$f":"IF(AI28=\"\",\"\",VLOOKUP(AI28,名簿男子!$A$2:$I$41,4))","v":""},{"$f":"IF(AJ28=\"\",\"\",VLOOKUP(AJ28,名簿男子!$A$2:$I$41,4))","v":""},null,{"$f":"IF(AL28=\"\",\"\",VLOOKUP(AL28,名簿男子!$A$2:$I$41,4))","v":""},{"$f":"IF(AM28=\"\",\"\",VLOOKUP(AM28,名簿男子!$A$2:$I$41,4))","v":""}]
[{"$f":"IF(M29=\"\",\"\",VLOOKUP(M29,名簿女子!$A$2:$I$101,2))","v":""},{"$f":"IF(M29=\"\",\"\",VLOOKUP(M29,名簿女子!$A$2:$I$101,4))","v":""},{"$f":"IF(M29=\"\",\"\",VLOOKUP(M29,名簿女子!$A$2:$I$101,6))","v":""},{"$f":"IF(M29=\"\",\"\",VLOOKUP(M29,名簿女子!$A$2:$I$101,7))","v":""},{"$f":"IF(M29=\"\",\"\",VLOOKUP(M29,名簿女子!$A$2:$I$101,8))","v":""},{"$f":"IF(M29=\"\",\"\",VLOOKUP(M29,名簿女子!$A$2:$I$101,9))","v":""},{"$f":"IF(N29=\"\",\"\",VLOOKUP(N29,名簿女子!$A$2:$I$101,9))","v":""},{"$f":"IF(O29=\"\",\"\",VLOOKUP(O29,名簿女子!$A$2:$I$101,9))","v":""},null,null,null,{"$f":"IF(M29=\"\",\"\",VLOOKUP(M29,名簿女子!$A$2:$I$101,3))","v":""},null,null,null,null,11,{"$f":"IF(Q29=\"\",\"\",VLOOKUP(Q29,名簿女子!$A$2:$I$101,3))","v":0},{"$f":"IF(Q29=\"\",\"\",VLOOKUP(Q29,名簿女子!$A$2:$I$101,9))","v":0},36,{"$f":"IF(T29=\"\",\"\",VLOOKUP(T29,名簿女子!$A$2:$I$101,3))","v":0},{"$f":"IF(T29=\"\",\"\",VLOOKUP(T29,名簿女子!$A$2:$I$101,9))","v":0},61,{"$f":"IF(W29=\"\",\"\",VLOOKUP(W29,名簿女子!$A$2:$I$101,3))","v":0},{"$f":"IF(W29=\"\",\"\",VLOOKUP(W29,名簿女子!$A$2:$I$101,9))","v":0},86,{"$f":"IF(Z29=\"\",\"\",VLOOKUP(Z29,名簿女子!$A$2:$I$101,3))","v":0},{"$f":"IF(Z29=\"\",\"\",VLOOKUP(Z29,名簿女子!$A$2:$I$101,9))","v":0}]
[null,{"$f":"IF(M29=\"\",\"\",VLOOKUP(M29,名簿女子!$A$2:$I$101,3))","v":""},null,null,null,null,null,null,null,null,null,null,null,null,null,null,null,{"$f":"IF(AC30=\"\",\"\",VLOOKUP(AC30,名簿男子!$A$2:$I$41,4))","v":""},{"$f":"IF(AD30=\"\",\"\",VLOOKUP(AD30,名簿男子!$A$2:$I$41,4))","v":""},null,{"$f":"IF(AF30=\"\",\"\",VLOOKUP(AF30,名簿男子!$A$2:$I$41,4))","v":""},{"$f":"IF(AG30=\"\",\"\",VLOOKUP(AG30,名簿男子!$A$2:$I$41,4))","v":""},null,{"$f":"IF(AI30=\"\",\"\",VLOOKUP(AI30,名簿男子!$A$2:$I$41,4))","v":""},{"$f":"IF(AJ30=\"\",\"\",VLOOKUP(AJ30,名簿男子!$A$2:$I$41,4))","v":""},null,{"$f":"IF(AL30=\"\",\"\",VLOOKUP(AL30,名簿男子!$A$2:$I$41,4))","v":""},{"$f":"IF(AM30=\"\",\"\",VLOOKUP(AM30,名簿男子!$A$2:$I$41,4))","v":""}]
[{"$f":"IF(M31=\"\",\"\",VLOOKUP(M31,名簿女子!$A$2:$I$101,2))","v":""},{"$f":"IF(M31=\"\",\"\",VLOOKUP(M31,名簿女子!$A$2:$I$101,4))","v":""},{"$f":"IF(M31=\"\",\"\",VLOOKUP(M31,名簿女子!$A$2:$I$101,6))","v":""},{"$f":"IF(M31=\"\",\"\",VLOOKUP(M31,名簿女子!$A$2:$I$101,7))","v":""},{"$f":"IF(M31=\"\",\"\",VLOOKUP(M31,名簿女子!$A$2:$I$101,8))","v":""},{"$f":"IF(M31=\"\",\"\",VLOOKUP(M31,名簿女子!$A$2:$I$101,9))","v":""},{"$f":"IF(N31=\"\",\"\",VLOOKUP(N31,名簿女子!$A$2:$I$101,9))","v":""},{"$f":"IF(O31=\"\",\"\",VLOOKUP(O31,名簿女子!$A$2:$I$101,9))","v":""},null,null,null,{"$f":"IF(M31=\"\",\"\",VLOOKUP(M31,名簿女子!$A$2:$I$101,3))","v":""},null,null,null,null,12,{"$f":"IF(Q31=\"\",\"\",VLOOKUP(Q31,名簿女子!$A$2:$I$101,3))","v":0},{"$f":"IF(Q31=\"\",\"\",VLOOKUP(Q31,名簿女子!$A$2:$I$101,9))","v":0},37,{"$f":"IF(T31=\"\",\"\",VLOOKUP(T31,名簿女子!$A$2:$I$101,3))","v":0},{"$f":"IF(T31=\"\",\"\",VLOOKUP(T31,名簿女子!$A$2:$I$101,9))","v":0},62,{"$f":"IF(W31=\"\",\"\",VLOOKUP(W31,名簿女子!$A$2:$I$101,3))","v":0},{"$f":"IF(W31=\"\",\"\",VLOOKUP(W31,名簿女子!$A$2:$I$101,9))","v":0},87,{"$f":"IF(Z31=\"\",\"\",VLOOKUP(Z31,名簿女子!$A$2:$I$101,3))","v":0},{"$f":"IF(Z31=\"\",\"\",VLOOKUP(Z31,名簿女子!$A$2:$I$101,9))","v":0}]
[null,{"$f":"IF(M31=\"\",\"\",VLOOKUP(M31,名簿女子!$A$2:$I$101,3))","v":""},null,null,null,null,null,null,null,null,null,null,null,null,null,null,null,{"$f":"IF(AC32=\"\",\"\",VLOOKUP(AC32,名簿男子!$A$2:$I$41,4))","v":""},{"$f":"IF(AD32=\"\",\"\",VLOOKUP(AD32,名簿男子!$A$2:$I$41,4))","v":""},null,{"$f":"IF(AF32=\"\",\"\",VLOOKUP(AF32,名簿男子!$A$2:$I$41,4))","v":""},{"$f":"IF(AG32=\"\",\"\",VLOOKUP(AG32,名簿男子!$A$2:$I$41,4))","v":""},null,{"$f":"IF(AI32=\"\",\"\",VLOOKUP(AI32,名簿男子!$A$2:$I$41,4))","v":""},{"$f":"IF(AJ32=\"\",\"\",VLOOKUP(AJ32,名簿男子!$A$2:$I$41,4))","v":""},null,{"$f":"IF(AL32=\"\",\"\",VLOOKUP(AL32,名簿男子!$A$2:$I$41,4))","v":""},{"$f":"IF(AM32=\"\",\"\",VLOOKUP(AM32,名簿男子!$A$2:$I$41,4))","v":""}]
[{"$f":"IF(M33=\"\",\"\",VLOOKUP(M33,名簿女子!$A$2:$I$101,2))","v":""},{"$f":"IF(M33=\"\",\"\",VLOOKUP(M33,名簿女子!$A$2:$I$101,4))","v":""},{"$f":"IF(M33=\"\",\"\",VLOOKUP(M33,名簿女子!$A$2:$I$101,6))","v":""},{"$f":"IF(M33=\"\",\"\",VLOOKUP(M33,名簿女子!$A$2:$I$101,7))","v":""},{"$f":"IF(M33=\"\",\"\",VLOOKUP(M33,名簿女子!$A$2:$I$101,8))","v":""},{"$f":"IF(M33=\"\",\"\",VLOOKUP(M33,名簿女子!$A$2:$I$101,9))","v":""},{"$f":"IF(N33=\"\",\"\",VLOOKUP(N33,名簿女子!$A$2:$I$101,9))","v":""},{"$f":"IF(O33=\"\",\"\",VLOOKUP(O33,名簿女子!$A$2:$I$101,9))","v":""},null,null,null,{"$f":"IF(M33=\"\",\"\",VLOOKUP(M33,名簿女子!$A$2:$I$101,3))","v":""},null,null,null,null,13,{"$f":"IF(Q33=\"\",\"\",VLOOKUP(Q33,名簿女子!$A$2:$I$101,3))","v":0},{"$f":"IF(Q33=\"\",\"\",VLOOKUP(Q33,名簿女子!$A$2:$I$101,9))","v":0},38,{"$f":"IF(T33=\"\",\"\",VLOOKUP(T33,名簿女子!$A$2:$I$101,3))","v":0},{"$f":"IF(T33=\"\",\"\",VLOOKUP(T33,名簿女子!$A$2:$I$101,9))","v":0},63,{"$f":"IF(W33=\"\",\"\",VLOOKUP(W33,名簿女子!$A$2:$I$101,3))","v":0},{"$f":"IF(W33=\"\",\"\",VLOOKUP(W33,名簿女子!$A$2:$I$101,9))","v":0},88,{"$f":"IF(Z33=\"\",\"\",VLOOKUP(Z33,名簿女子!$A$2:$I$101,3))","v":0},{"$f":"IF(Z33=\"\",\"\",VLOOKUP(Z33,名簿女子!$A$2:$I$101,9))","v":0}]
[null,{"$f":"IF(M33=\"\",\"\",VLOOKUP(M33,名簿女子!$A$2:$I$101,3))","v":""},null,null,null,null,null,null,null,null,null,null,null,null,null,null,null,{"$f":"IF(AC34=\"\",\"\",VLOOKUP(AC34,名簿男子!$A$2:$I$41,4))","v":""},{"$f":"IF(AD34=\"\",\"\",VLOOKUP(AD34,名簿男子!$A$2:$I$41,4))","v":""},null,{"$f":"IF(AF34=\"\",\"\",VLOOKUP(AF34,名簿男子!$A$2:$I$41,4))","v":""},{"$f":"IF(AG34=\"\",\"\",VLOOKUP(AG34,名簿男子!$A$2:$I$41,4))","v":""},null,{"$f":"IF(AI34=\"\",\"\",VLOOKUP(AI34,名簿男子!$A$2:$I$41,4))","v":""},{"$f":"IF(AJ34=\"\",\"\",VLOOKUP(AJ34,名簿男子!$A$2:$I$41,4))","v":""},null,{"$f":"IF(AL34=\"\",\"\",VLOOKUP(AL34,名簿男子!$A$2:$I$41,4))","v":""},{"$f":"IF(AM34=\"\",\"\",VLOOKUP(AM34,名簿男子!$A$2:$I$41,4))","v":""}]
[{"$f":"IF(M35=\"\",\"\",VLOOKUP(M35,名簿女子!$A$2:$I$101,2))","v":""},{"$f":"IF(M35=\"\",\"\",VLOOKUP(M35,名簿女子!$A$2:$I$101,4))","v":""},{"$f":"IF(M35=\"\",\"\",VLOOKUP(M35,名簿女子!$A$2:$I$101,6))","v":""},{"$f":"IF(M35=\"\",\"\",VLOOKUP(M35,名簿女子!$A$2:$I$101,7))","v":""},{"$f":"IF(M35=\"\",\"\",VLOOKUP(M35,名簿女子!$A$2:$I$101,8))","v":""},{"$f":"IF(M35=\"\",\"\",VLOOKUP(M35,名簿女子!$A$2:$I$101,9))","v":""},{"$f":"IF(N35=\"\",\"\",VLOOKUP(N35,名簿女子!$A$2:$I$101,9))","v":""},{"$f":"IF(O35=\"\",\"\",VLOOKUP(O35,名簿女子!$A$2:$I$101,9))","v":""},null,null,null,{"$f":"IF(M35=\"\",\"\",VLOOKUP(M35,名簿女子!$A$2:$I$101,3))","v":""},null,null,null,null,14,{"$f":"IF(Q35=\"\",\"\",VLOOKUP(Q35,名簿女子!$A$2:$I$101,3))","v":0},{"$f":"IF(Q35=\"\",\"\",VLOOKUP(Q35,名簿女子!$A$2:$I$101,9))","v":0},39,{"$f":"IF(T35=\"\",\"\",VLOOKUP(T35,名簿女子!$A$2:$I$101,3))","v":0},{"$f":"IF(T35=\"\",\"\",VLOOKUP(T35,名簿女子!$A$2:$I$101,9))","v":0},64,{"$f":"IF(W35=\"\",\"\",VLOOKUP(W35,名簿女子!$A$2:$I$101,3))","v":0},{"$f":"IF(W35=\"\",\"\",VLOOKUP(W35,名簿女子!$A$2:$I$101,9))","v":0},89,{"$f":"IF(Z35=\"\",\"\",VLOOKUP(Z35,名簿女子!$A$2:$I$101,3))","v":0},{"$f":"IF(Z35=\"\",\"\",VLOOKUP(Z35,名簿女子!$A$2:$I$101,9))","v":0}]
[null,{"$f":"IF(M35=\"\",\"\",VLOOKUP(M35,名簿女子!$A$2:$I$101,3))","v":""},null,null,null,null,null,null,null,null,null,null,null,null,null,null,null,{"$f":"IF(AC36=\"\",\"\",VLOOKUP(AC36,名簿男子!$A$2:$I$41,4))","v":""},{"$f":"IF(AD36=\"\",\"\",VLOOKUP(AD36,名簿男子!$A$2:$I$41,4))","v":""},null,{"$f":"IF(AF36=\"\",\"\",VLOOKUP(AF36,名簿男子!$A$2:$I$41,4))","v":""},{"$f":"IF(AG36=\"\",\"\",VLOOKUP(AG36,名簿男子!$A$2:$I$41,4))","v":""},null,{"$f":"IF(AI36=\"\",\"\",VLOOKUP(AI36,名簿男子!$A$2:$I$41,4))","v":""},{"$f":"IF(AJ36=\"\",\"\",VLOOKUP(AJ36,名簿男子!$A$2:$I$41,4))","v":""},null,{"$f":"IF(AL36=\"\",\"\",VLOOKUP(AL36,名簿男子!$A$2:$I$41,4))","v":""},{"$f":"IF(AM36=\"\",\"\",VLOOKUP(AM36,名簿男子!$A$2:$I$41,4))","v":""}]
[{"$f":"IF(M37=\"\",\"\",VLOOKUP(M37,名簿女子!$A$2:$I$101,2))","v":""},{"$f":"IF(M37=\"\",\"\",VLOOKUP(M37,名簿女子!$A$2:$I$101,4))","v":""},{"$f":"IF(M37=\"\",\"\",VLOOKUP(M37,名簿女子!$A$2:$I$101,6))","v":""},{"$f":"IF(M37=\"\",\"\",VLOOKUP(M37,名簿女子!$A$2:$I$101,7))","v":""},{"$f":"IF(M37=\"\",\"\",VLOOKUP(M37,名簿女子!$A$2:$I$101,8))","v":""},{"$f":"IF(M37=\"\",\"\",VLOOKUP(M37,名簿女子!$A$2:$I$101,9))","v":""},{"$f":"IF(N37=\"\",\"\",VLOOKUP(N37,名簿女子!$A$2:$I$101,9))","v":""},{"$f":"IF(O37=\"\",\"\",VLOOKUP(O37,名簿女子!$A$2:$I$101,9))","v":""},null,null,null,{"$f":"IF(M37=\"\",\"\",VLOOKUP(M37,名簿女子!$A$2:$I$101,3))","v":""},null,null,null,null,15,{"$f":"IF(Q37=\"\",\"\",VLOOKUP(Q37,名簿女子!$A$2:$I$101,3))","v":0},{"$f":"IF(Q37=\"\",\"\",VLOOKUP(Q37,名簿女子!$A$2:$I$101,9))","v":0},40,{"$f":"IF(T37=\"\",\"\",VLOOKUP(T37,名簿女子!$A$2:$I$101,3))","v":0},{"$f":"IF(T37=\"\",\"\",VLOOKUP(T37,名簿女子!$A$2:$I$101,9))","v":0},65,{"$f":"IF(W37=\"\",\"\",VLOOKUP(W37,名簿女子!$A$2:$I$101,3))","v":0},{"$f":"IF(W37=\"\",\"\",VLOOKUP(W37,名簿女子!$A$2:$I$101,9))","v":0},90,{"$f":"IF(Z37=\"\",\"\",VLOOKUP(Z37,名簿女子!$A$2:$I$101,3))","v":0},{"$f":"IF(Z37=\"\",\"\",VLOOKUP(Z37,名簿女子!$A$2:$I$101,9))","v":0}]
[null,{"$f":"IF(M37=\"\",\"\",VLOOKUP(M37,名簿女子!$A$2:$I$101,3))","v":""},null,null,null,null,null,null,null,null,null,null,null,null,null,null,null,{"$f":"IF(AC38=\"\",\"\",VLOOKUP(AC38,名簿男子!$A$2:$I$41,4))","v":""},{"$f":"IF(AD38=\"\",\"\",VLOOKUP(AD38,名簿男子!$A$2:$I$41,4))","v":""},null,{"$f":"IF(AF38=\"\",\"\",VLOOKUP(AF38,名簿男子!$A$2:$I$41,4))","v":""},{"$f":"IF(AG38=\"\",\"\",VLOOKUP(AG38,名簿男子!$A$2:$I$41,4))","v":""},null,{"$f":"IF(AI38=\"\",\"\",VLOOKUP(AI38,名簿男子!$A$2:$I$41,4))","v":""},{"$f":"IF(AJ38=\"\",\"\",VLOOKUP(AJ38,名簿男子!$A$2:$I$41,4))","v":""},null,{"$f":"IF(AL38=\"\",\"\",VLOOKUP(AL38,名簿男子!$A$2:$I$41,4))","v":""},{"$f":"IF(AM38=\"\",\"\",VLOOKUP(AM38,名簿男子!$A$2:$I$41,4))","v":""}]
[{"$f":"IF(M39=\"\",\"\",VLOOKUP(M39,名簿女子!$A$2:$I$101,2))","v":""},{"$f":"IF(M39=\"\",\"\",VLOOKUP(M39,名簿女子!$A$2:$I$101,4))","v":""},{"$f":"IF(M39=\"\",\"\",VLOOKUP(M39,名簿女子!$A$2:$I$101,6))","v":""},{"$f":"IF(M39=\"\",\"\",VLOOKUP(M39,名簿女子!$A$2:$I$101,7))","v":""},{"$f":"IF(M39=\"\",\"\",VLOOKUP(M39,名簿女子!$A$2:$I$101,8))","v":""},{"$f":"IF(M39=\"\",\"\",VLOOKUP(M39,名簿女子!$A$2:$I$101,9))","v":""},{"$f":"IF(N39=\"\",\"\",VLOOKUP(N39,名簿女子!$A$2:$I$101,9))","v":""},{"$f":"IF(O39=\"\",\"\",VLOOKUP(O39,名簿女子!$A$2:$I$101,9))","v":""},null,null,null,{"$f":"IF(M39=\"\",\"\",VLOOKUP(M39,名簿女子!$A$2:$I$101,3))","v":""},null,null,null,null,16,{"$f":"IF(Q39=\"\",\"\",VLOOKUP(Q39,名簿女子!$A$2:$I$101,3))","v":0},{"$f":"IF(Q39=\"\",\"\",VLOOKUP(Q39,名簿女子!$A$2:$I$101,9))","v":0},41,{"$f":"IF(T39=\"\",\"\",VLOOKUP(T39,名簿女子!$A$2:$I$101,3))","v":0},{"$f":"IF(T39=\"\",\"\",VLOOKUP(T39,名簿女子!$A$2:$I$101,9))","v":0},66,{"$f":"IF(W39=\"\",\"\",VLOOKUP(W39,名簿女子!$A$2:$I$101,3))","v":0},{"$f":"IF(W39=\"\",\"\",VLOOKUP(W39,名簿女子!$A$2:$I$101,9))","v":0},91,{"$f":"IF(Z39=\"\",\"\",VLOOKUP(Z39,名簿女子!$A$2:$I$101,3))","v":0},{"$f":"IF(Z39=\"\",\"\",VLOOKUP(Z39,名簿女子!$A$2:$I$101,9))","v":0}]
[null,{"$f":"IF(M39=\"\",\"\",VLOOKUP(M39,名簿女子!$A$2:$I$101,3))","v":""},null,null,null,null,null,null,null,null,null,null,null,null,null,null,null,{"$f":"IF(AC40=\"\",\"\",VLOOKUP(AC40,名簿男子!$A$2:$I$41,4))","v":""},{"$f":"IF(AD40=\"\",\"\",VLOOKUP(AD40,名簿男子!$A$2:$I$41,4))","v":""},null,{"$f":"IF(AF40=\"\",\"\",VLOOKUP(AF40,名簿男子!$A$2:$I$41,4))","v":""},{"$f":"IF(AG40=\"\",\"\",VLOOKUP(AG40,名簿男子!$A$2:$I$41,4))","v":""},null,{"$f":"IF(AI40=\"\",\"\",VLOOKUP(AI40,名簿男子!$A$2:$I$41,4))","v":""},{"$f":"IF(AJ40=\"\",\"\",VLOOKUP(AJ40,名簿男子!$A$2:$I$41,4))","v":""},null,{"$f":"IF(AL40=\"\",\"\",VLOOKUP(AL40,名簿男子!$A$2:$I$41,4))","v":""},{"$f":"IF(AM40=\"\",\"\",VLOOKUP(AM40,名簿男子!$A$2:$I$41,4))","v":""}]
[{"$f":"IF(M41=\"\",\"\",VLOOKUP(M41,名簿女子!$A$2:$I$101,2))","v":""},{"$f":"IF(M41=\"\",\"\",VLOOKUP(M41,名簿女子!$A$2:$I$101,4))","v":""},{"$f":"IF(M41=\"\",\"\",VLOOKUP(M41,名簿女子!$A$2:$I$101,6))","v":""},{"$f":"IF(M41=\"\",\"\",VLOOKUP(M41,名簿女子!$A$2:$I$101,7))","v":""},{"$f":"IF(M41=\"\",\"\",VLOOKUP(M41,名簿女子!$A$2:$I$101,8))","v":""},{"$f":"IF(M41=\"\",\"\",VLOOKUP(M41,名簿女子!$A$2:$I$101,9))","v":""},{"$f":"IF(N41=\"\",\"\",VLOOKUP(N41,名簿女子!$A$2:$I$101,9))","v":""},{"$f":"IF(O41=\"\",\"\",VLOOKUP(O41,名簿女子!$A$2:$I$101,9))","v":""},null,null,null,{"$f":"IF(M41=\"\",\"\",VLOOKUP(M41,名簿女子!$A$2:$I$101,3))","v":""},null,null,null,null,17,{"$f":"IF(Q41=\"\",\"\",VLOOKUP(Q41,名簿女子!$A$2:$I$101,3))","v":0},{"$f":"IF(Q41=\"\",\"\",VLOOKUP(Q41,名簿女子!$A$2:$I$101,9))","v":0},42,{"$f":"IF(T41=\"\",\"\",VLOOKUP(T41,名簿女子!$A$2:$I$101,3))","v":0},{"$f":"IF(T41=\"\",\"\",VLOOKUP(T41,名簿女子!$A$2:$I$101,9))","v":0},67,{"$f":"IF(W41=\"\",\"\",VLOOKUP(W41,名簿女子!$A$2:$I$101,3))","v":0},{"$f":"IF(W41=\"\",\"\",VLOOKUP(W41,名簿女子!$A$2:$I$101,9))","v":0},92,{"$f":"IF(Z41=\"\",\"\",VLOOKUP(Z41,名簿女子!$A$2:$I$101,3))","v":0},{"$f":"IF(Z41=\"\",\"\",VLOOKUP(Z41,名簿女子!$A$2:$I$101,9))","v":0}]
[null,{"$f":"IF(M41=\"\",\"\",VLOOKUP(M41,名簿女子!$A$2:$I$101,3))","v":""},null,null,null,null,null,null,null,null,null,null,null,null,null,null,null,{"$f":"IF(AC42=\"\",\"\",VLOOKUP(AC42,名簿男子!$A$2:$I$41,4))","v":""},{"$f":"IF(AD42=\"\",\"\",VLOOKUP(AD42,名簿男子!$A$2:$I$41,4))","v":""},null,{"$f":"IF(AF42=\"\",\"\",VLOOKUP(AF42,名簿男子!$A$2:$I$41,4))","v":""},{"$f":"IF(AG42=\"\",\"\",VLOOKUP(AG42,名簿男子!$A$2:$I$41,4))","v":""},null,{"$f":"IF(AI42=\"\",\"\",VLOOKUP(AI42,名簿男子!$A$2:$I$41,4))","v":""},{"$f":"IF(AJ42=\"\",\"\",VLOOKUP(AJ42,名簿男子!$A$2:$I$41,4))","v":""},null,{"$f":"IF(AL42=\"\",\"\",VLOOKUP(AL42,名簿男子!$A$2:$I$41,4))","v":""},{"$f":"IF(AM42=\"\",\"\",VLOOKUP(AM42,名簿男子!$A$2:$I$41,4))","v":""}]
[{"$f":"IF(M43=\"\",\"\",VLOOKUP(M43,名簿女子!$A$2:$I$101,2))","v":""},{"$f":"IF(M43=\"\",\"\",VLOOKUP(M43,名簿女子!$A$2:$I$101,4))","v":""},{"$f":"IF(M43=\"\",\"\",VLOOKUP(M43,名簿女子!$A$2:$I$101,6))","v":""},{"$f":"IF(M43=\"\",\"\",VLOOKUP(M43,名簿女子!$A$2:$I$101,7))","v":""},{"$f":"IF(M43=\"\",\"\",VLOOKUP(M43,名簿女子!$A$2:$I$101,8))","v":""},{"$f":"IF(M43=\"\",\"\",VLOOKUP(M43,名簿女子!$A$2:$I$101,9))","v":""},{"$f":"IF(N43=\"\",\"\",VLOOKUP(N43,名簿女子!$A$2:$I$101,9))","v":""},{"$f":"IF(O43=\"\",\"\",VLOOKUP(O43,名簿女子!$A$2:$I$101,9))","v":""},null,null,null,{"$f":"IF(M43=\"\",\"\",VLOOKUP(M43,名簿女子!$A$2:$I$101,3))","v":""},null,null,null,null,18,{"$f":"IF(Q43=\"\",\"\",VLOOKUP(Q43,名簿女子!$A$2:$I$101,3))","v":0},{"$f":"IF(Q43=\"\",\"\",VLOOKUP(Q43,名簿女子!$A$2:$I$101,9))","v":0},43,{"$f":"IF(T43=\"\",\"\",VLOOKUP(T43,名簿女子!$A$2:$I$101,3))","v":0},{"$f":"IF(T43=\"\",\"\",VLOOKUP(T43,名簿女子!$A$2:$I$101,9))","v":0},68,{"$f":"IF(W43=\"\",\"\",VLOOKUP(W43,名簿女子!$A$2:$I$101,3))","v":0},{"$f":"IF(W43=\"\",\"\",VLOOKUP(W43,名簿女子!$A$2:$I$101,9))","v":0},93,{"$f":"IF(Z43=\"\",\"\",VLOOKUP(Z43,名簿女子!$A$2:$I$101,3))","v":0},{"$f":"IF(Z43=\"\",\"\",VLOOKUP(Z43,名簿女子!$A$2:$I$101,9))","v":0}]
[null,{"$f":"IF(M43=\"\",\"\",VLOOKUP(M43,名簿女子!$A$2:$I$101,3))","v":""},null,null,null,null,null,null,null,null,null,null,null,null,null,null,null,{"$f":"IF(AC44=\"\",\"\",VLOOKUP(AC44,名簿男子!$A$2:$I$41,4))","v":""},{"$f":"IF(AD44=\"\",\"\",VLOOKUP(AD44,名簿男子!$A$2:$I$41,4))","v":""},null,{"$f":"IF(AF44=\"\",\"\",VLOOKUP(AF44,名簿男子!$A$2:$I$41,4))","v":""},{"$f":"IF(AG44=\"\",\"\",VLOOKUP(AG44,名簿男子!$A$2:$I$41,4))","v":""},null,{"$f":"IF(AI44=\"\",\"\",VLOOKUP(AI44,名簿男子!$A$2:$I$41,4))","v":""},{"$f":"IF(AJ44=\"\",\"\",VLOOKUP(AJ44,名簿男子!$A$2:$I$41,4))","v":""},null,{"$f":"IF(AL44=\"\",\"\",VLOOKUP(AL44,名簿男子!$A$2:$I$41,4))","v":""},{"$f":"IF(AM44=\"\",\"\",VLOOKUP(AM44,名簿男子!$A$2:$I$41,4))","v":""}]
[{"$f":"IF(M45=\"\",\"\",VLOOKUP(M45,名簿女子!$A$2:$I$101,2))","v":""},{"$f":"IF(M45=\"\",\"\",VLOOKUP(M45,名簿女子!$A$2:$I$101,4))","v":""},{"$f":"IF(M45=\"\",\"\",VLOOKUP(M45,名簿女子!$A$2:$I$101,6))","v":""},{"$f":"IF(M45=\"\",\"\",VLOOKUP(M45,名簿女子!$A$2:$I$101,7))","v":""},{"$f":"IF(M45=\"\",\"\",VLOOKUP(M45,名簿女子!$A$2:$I$101,8))","v":""},{"$f":"IF(M45=\"\",\"\",VLOOKUP(M45,名簿女子!$A$2:$I$101,9))","v":""},{"$f":"IF(N45=\"\",\"\",VLOOKUP(N45,名簿女子!$A$2:$I$101,9))","v":""},{"$f":"IF(O45=\"\",\"\",VLOOKUP(O45,名簿女子!$A$2:$I$101,9))","v":""},null,null,null,{"$f":"IF(M45=\"\",\"\",VLOOKUP(M45,名簿女子!$A$2:$I$101,3))","v":""},null,null,null,null,19,{"$f":"IF(Q45=\"\",\"\",VLOOKUP(Q45,名簿女子!$A$2:$I$101,3))","v":0},{"$f":"IF(Q45=\"\",\"\",VLOOKUP(Q45,名簿女子!$A$2:$I$101,9))","v":0},44,{"$f":"IF(T45=\"\",\"\",VLOOKUP(T45,名簿女子!$A$2:$I$101,3))","v":0},{"$f":"IF(T45=\"\",\"\",VLOOKUP(T45,名簿女子!$A$2:$I$101,9))","v":0},69,{"$f":"IF(W45=\"\",\"\",VLOOKUP(W45,名簿女子!$A$2:$I$101,3))","v":0},{"$f":"IF(W45=\"\",\"\",VLOOKUP(W45,名簿女子!$A$2:$I$101,9))","v":0},94,{"$f":"IF(Z45=\"\",\"\",VLOOKUP(Z45,名簿女子!$A$2:$I$101,3))","v":0},{"$f":"IF(Z45=\"\",\"\",VLOOKUP(Z45,名簿女子!$A$2:$I$101,9))","v":0}]
[null,{"$f":"IF(M45=\"\",\"\",VLOOKUP(M45,名簿女子!$A$2:$I$101,3))","v":""},null,null,null,null,null,null,null,null,null,null,null,null,null,null,null,{"$f":"IF(AC46=\"\",\"\",VLOOKUP(AC46,名簿男子!$A$2:$I$41,4))","v":""},{"$f":"IF(AD46=\"\",\"\",VLOOKUP(AD46,名簿男子!$A$2:$I$41,4))","v":""},null,{"$f":"IF(AF46=\"\",\"\",VLOOKUP(AF46,名簿男子!$A$2:$I$41,4))","v":""},{"$f":"IF(AG46=\"\",\"\",VLOOKUP(AG46,名簿男子!$A$2:$I$41,4))","v":""},null,{"$f":"IF(AI46=\"\",\"\",VLOOKUP(AI46,名簿男子!$A$2:$I$41,4))","v":""},{"$f":"IF(AJ46=\"\",\"\",VLOOKUP(AJ46,名簿男子!$A$2:$I$41,4))","v":""},null,{"$f":"IF(AL46=\"\",\"\",VLOOKUP(AL46,名簿男子!$A$2:$I$41,4))","v":""},{"$f":"IF(AM46=\"\",\"\",VLOOKUP(AM46,名簿男子!$A$2:$I$41,4))","v":""}]
[{"$f":"IF(M47=\"\",\"\",VLOOKUP(M47,名簿女子!$A$2:$I$101,2))","v":""},{"$f":"IF(M47=\"\",\"\",VLOOKUP(M47,名簿女子!$A$2:$I$101,4))","v":""},{"$f":"IF(M47=\"\",\"\",VLOOKUP(M47,名簿女子!$A$2:$I$101,6))","v":""},{"$f":"IF(M47=\"\",\"\",VLOOKUP(M47,名簿女子!$A$2:$I$101,7))","v":""},{"$f":"IF(M47=\"\",\"\",VLOOKUP(M47,名簿女子!$A$2:$I$101,8))","v":""},{"$f":"IF(M47=\"\",\"\",VLOOKUP(M47,名簿女子!$A$2:$I$101,9))","v":""},{"$f":"IF(N47=\"\",\"\",VLOOKUP(N47,名簿女子!$A$2:$I$101,9))","v":""},{"$f":"IF(O47=\"\",\"\",VLOOKUP(O47,名簿女子!$A$2:$I$101,9))","v":""},null,null,null,{"$f":"IF(M47=\"\",\"\",VLOOKUP(M47,名簿女子!$A$2:$I$101,3))","v":""},null,null,null,null,20,{"$f":"IF(Q47=\"\",\"\",VLOOKUP(Q47,名簿女子!$A$2:$I$101,3))","v":0},{"$f":"IF(Q47=\"\",\"\",VLOOKUP(Q47,名簿女子!$A$2:$I$101,9))","v":0},45,{"$f":"IF(T47=\"\",\"\",VLOOKUP(T47,名簿女子!$A$2:$I$101,3))","v":0},{"$f":"IF(T47=\"\",\"\",VLOOKUP(T47,名簿女子!$A$2:$I$101,9))","v":0},70,{"$f":"IF(W47=\"\",\"\",VLOOKUP(W47,名簿女子!$A$2:$I$101,3))","v":0},{"$f":"IF(W47=\"\",\"\",VLOOKUP(W47,名簿女子!$A$2:$I$101,9))","v":0},95,{"$f":"IF(Z47=\"\",\"\",VLOOKUP(Z47,名簿女子!$A$2:$I$101,3))","v":0},{"$f":"IF(Z47=\"\",\"\",VLOOKUP(Z47,名簿女子!$A$2:$I$101,9))","v":0}]
[null,{"$f":"IF(M47=\"\",\"\",VLOOKUP(M47,名簿女子!$A$2:$I$101,3))","v":""},null,null,null,null,null,null,null,null,null,null,null,null,null,null,null,{"$f":"IF(AC48=\"\",\"\",VLOOKUP(AC48,名簿男子!$A$2:$I$41,4))","v":""},{"$f":"IF(AD48=\"\",\"\",VLOOKUP(AD48,名簿男子!$A$2:$I$41,4))","v":""},null,{"$f":"IF(AF48=\"\",\"\",VLOOKUP(AF48,名簿男子!$A$2:$I$41,4))","v":""},{"$f":"IF(AG48=\"\",\"\",VLOOKUP(AG48,名簿男子!$A$2:$I$41,4))","v":""},null,{"$f":"IF(AI48=\"\",\"\",VLOOKUP(AI48,名簿男子!$A$2:$I$41,4))","v":""},{"$f":"IF(AJ48=\"\",\"\",VLOOKUP(AJ48,名簿男子!$A$2:$I$41,4))","v":""},null,{"$f":"IF(AL48=\"\",\"\",VLOOKUP(AL48,名簿男子!$A$2:$I$41,4))","v":""},{"$f":"IF(AM48=\"\",\"\",VLOOKUP(AM48,名簿男子!$A$2:$I$41,4))","v":""}]
[{"$f":"IF(M49=\"\",\"\",VLOOKUP(M49,名簿女子!$A$2:$I$101,2))","v":""},{"$f":"IF(M49=\"\",\"\",VLOOKUP(M49,名簿女子!$A$2:$I$101,4))","v":""},{"$f":"IF(M49=\"\",\"\",VLOOKUP(M49,名簿女子!$A$2:$I$101,6))","v":""},{"$f":"IF(M49=\"\",\"\",VLOOKUP(M49,名簿女子!$A$2:$I$101,7))","v":""},{"$f":"IF(M49=\"\",\"\",VLOOKUP(M49,名簿女子!$A$2:$I$101,8))","v":""},{"$f":"IF(M49=\"\",\"\",VLOOKUP(M49,名簿女子!$A$2:$I$101,9))","v":""},{"$f":"IF(N49=\"\",\"\",VLOOKUP(N49,名簿女子!$A$2:$I$101,9))","v":""},{"$f":"IF(O49=\"\",\"\",VLOOKUP(O49,名簿女子!$A$2:$I$101,9))","v":""},null,null,null,{"$f":"IF(M49=\"\",\"\",VLOOKUP(M49,名簿女子!$A$2:$I$101,3))","v":""},null,null,null,null,21,{"$f":"IF(Q49=\"\",\"\",VLOOKUP(Q49,名簿女子!$A$2:$I$101,3))","v":0},{"$f":"IF(Q49=\"\",\"\",VLOOKUP(Q49,名簿女子!$A$2:$I$101,9))","v":0},46,{"$f":"IF(T49=\"\",\"\",VLOOKUP(T49,名簿女子!$A$2:$I$101,3))","v":0},{"$f":"IF(T49=\"\",\"\",VLOOKUP(T49,名簿女子!$A$2:$I$101,9))","v":0},71,{"$f":"IF(W49=\"\",\"\",VLOOKUP(W49,名簿女子!$A$2:$I$101,3))","v":0},{"$f":"IF(W49=\"\",\"\",VLOOKUP(W49,名簿女子!$A$2:$I$101,9))","v":0},96,{"$f":"IF(Z49=\"\",\"\",VLOOKUP(Z49,名簿女子!$A$2:$I$101,3))","v":0},{"$f":"IF(Z49=\"\",\"\",VLOOKUP(Z49,名簿女子!$A$2:$I$101,9))","v":0}]
[null,{"$f":"IF(M49=\"\",\"\",VLOOKUP(M49,名簿女子!$A$2:$I$101,3))","v":""},null,null,null,null,null,null,null,null,null,null,null,null,null,null,null,{"$f":"IF(AC50=\"\",\"\",VLOOKUP(AC50,名簿男子!$A$2:$I$41,4))","v":""},{"$f":"IF(AD50=\"\",\"\",VLOOKUP(AD50,名簿男子!$A$2:$I$41,4))","v":""},null,{"$f":"IF(AF50=\"\",\"\",VLOOKUP(AF50,名簿男子!$A$2:$I$41,4))","v":""},{"$f":"IF(AG50=\"\",\"\",VLOOKUP(AG50,名簿男子!$A$2:$I$41,4))","v":""},null,{"$f":"IF(AI50=\"\",\"\",VLOOKUP(AI50,名簿男子!$A$2:$I$41,4))","v":""},{"$f":"IF(AJ50=\"\",\"\",VLOOKUP(AJ50,名簿男子!$A$2:$I$41,4))","v":""},null,{"$f":"IF(AL50=\"\",\"\",VLOOKUP(AL50,名簿男子!$A$2:$I$41,4))","v":""},{"$f":"IF(AM50=\"\",\"\",VLOOKUP(AM50,名簿男子!$A$2:$I$41,4))","v":""}]
[{"$f":"IF(M51=\"\",\"\",VLOOKUP(M51,名簿女子!$A$2:$I$101,2))","v":""},{"$f":"IF(M51=\"\",\"\",VLOOKUP(M51,名簿女子!$A$2:$I$101,4))","v":""},{"$f":"IF(M51=\"\",\"\",VLOOKUP(M51,名簿女子!$A$2:$I$101,6))","v":""},{"$f":"IF(M51=\"\",\"\",VLOOKUP(M51,名簿女子!$A$2:$I$101,7))","v":""},{"$f":"IF(M51=\"\",\"\",VLOOKUP(M51,名簿女子!$A$2:$I$101,8))","v":""},{"$f":"IF(M51=\"\",\"\",VLOOKUP(M51,名簿女子!$A$2:$I$101,9))","v":""},{"$f":"IF(N51=\"\",\"\",VLOOKUP(N51,名簿女子!$A$2:$I$101,9))","v":""},{"$f":"IF(O51=\"\",\"\",VLOOKUP(O51,名簿女子!$A$2:$I$101,9))","v":""},null,null,null,{"$f":"IF(M51=\"\",\"\",VLOOKUP(M51,名簿女子!$A$2:$I$101,3))","v":""},null,null,null,null,22,{"$f":"IF(Q51=\"\",\"\",VLOOKUP(Q51,名簿女子!$A$2:$I$101,3))","v":0},{"$f":"IF(Q51=\"\",\"\",VLOOKUP(Q51,名簿女子!$A$2:$I$101,9))","v":0},47,{"$f":"IF(T51=\"\",\"\",VLOOKUP(T51,名簿女子!$A$2:$I$101,3))","v":0},{"$f":"IF(T51=\"\",\"\",VLOOKUP(T51,名簿女子!$A$2:$I$101,9))","v":0},72,{"$f":"IF(W51=\"\",\"\",VLOOKUP(W51,名簿女子!$A$2:$I$101,3))","v":0},{"$f":"IF(W51=\"\",\"\",VLOOKUP(W51,名簿女子!$A$2:$I$101,9))","v":0},97,{"$f":"IF(Z51=\"\",\"\",VLOOKUP(Z51,名簿女子!$A$2:$I$101,3))","v":0},{"$f":"IF(Z51=\"\",\"\",VLOOKUP(Z51,名簿女子!$A$2:$I$101,9))","v":0}]
[null,{"$f":"IF(M51=\"\",\"\",VLOOKUP(M51,名簿女子!$A$2:$I$101,3))","v":""},null,null,null,null,null,null,null,null,null,null,null,null,null,null,null,{"$f":"IF(AC52=\"\",\"\",VLOOKUP(AC52,名簿男子!$A$2:$I$41,4))","v":""},{"$f":"IF(AD52=\"\",\"\",VLOOKUP(AD52,名簿男子!$A$2:$I$41,4))","v":""},null,{"$f":"IF(AF52=\"\",\"\",VLOOKUP(AF52,名簿男子!$A$2:$I$41,4))","v":""},{"$f":"IF(AG52=\"\",\"\",VLOOKUP(AG52,名簿男子!$A$2:$I$41,4))","v":""},null,{"$f":"IF(AI52=\"\",\"\",VLOOKUP(AI52,名簿男子!$A$2:$I$41,4))","v":""},{"$f":"IF(AJ52=\"\",\"\",VLOOKUP(AJ52,名簿男子!$A$2:$I$41,4))","v":""},null,{"$f":"IF(AL52=\"\",\"\",VLOOKUP(AL52,名簿男子!$A$2:$I$41,4))","v":""},{"$f":"IF(AM52=\"\",\"\",VLOOKUP(AM52,名簿男子!$A$2:$I$41,4))","v":""}]
[{"$f":"IF(M53=\"\",\"\",VLOOKUP(M53,名簿女子!$A$2:$I$101,2))","v":""},{"$f":"IF(M53=\"\",\"\",VLOOKUP(M53,名簿女子!$A$2:$I$101,4))","v":""},{"$f":"IF(M53=\"\",\"\",VLOOKUP(M53,名簿女子!$A$2:$I$101,6))","v":""},{"$f":"IF(M53=\"\",\"\",VLOOKUP(M53,名簿女子!$A$2:$I$101,7))","v":""},{"$f":"IF(M53=\"\",\"\",VLOOKUP(M53,名簿女子!$A$2:$I$101,8))","v":""},{"$f":"IF(M53=\"\",\"\",VLOOKUP(M53,名簿女子!$A$2:$I$101,9))","v":""},{"$f":"IF(N53=\"\",\"\",VLOOKUP(N53,名簿女子!$A$2:$I$101,9))","v":""},{"$f":"IF(O53=\"\",\"\",VLOOKUP(O53,名簿女子!$A$2:$I$101,9))","v":""},null,null,null,{"$f":"IF(M53=\"\",\"\",VLOOKUP(M53,名簿女子!$A$2:$I$101,3))","v":""},null,null,null,null,23,{"$f":"IF(Q53=\"\",\"\",VLOOKUP(Q53,名簿女子!$A$2:$I$101,3))","v":0},{"$f":"IF(Q53=\"\",\"\",VLOOKUP(Q53,名簿女子!$A$2:$I$101,9))","v":0},48,{"$f":"IF(T53=\"\",\"\",VLOOKUP(T53,名簿女子!$A$2:$I$101,3))","v":0},{"$f":"IF(T53=\"\",\"\",VLOOKUP(T53,名簿女子!$A$2:$I$101,9))","v":0},73,{"$f":"IF(W53=\"\",\"\",VLOOKUP(W53,名簿女子!$A$2:$I$101,3))","v":0},{"$f":"IF(W53=\"\",\"\",VLOOKUP(W53,名簿女子!$A$2:$I$101,9))","v":0},98,{"$f":"IF(Z53=\"\",\"\",VLOOKUP(Z53,名簿女子!$A$2:$I$101,3))","v":0},{"$f":"IF(Z53=\"\",\"\",VLOOKUP(Z53,名簿女子!$A$2:$I$101,9))","v":0}]
[null,{"$f":"IF(M53=\"\",\"\",VLOOKUP(M53,名簿女子!$A$2:$I$101,3))","v":""},null,null,null,null,null,null,null,null,null,null,null,null,null,null,null,{"$f":"IF(AC54=\"\",\"\",VLOOKUP(AC54,名簿男子!$A$2:$I$41,4))","v":""},{"$f":"IF(AD54=\"\",\"\",VLOOKUP(AD54,名簿男子!$A$2:$I$41,4))","v":""},null,{"$f":"IF(AF54=\"\",\"\",VLOOKUP(AF54,名簿男子!$A$2:$I$41,4))","v":""},{"$f":"IF(AG54=\"\",\"\",VLOOKUP(AG54,名簿男子!$A$2:$I$41,4))","v":""},null,{"$f":"IF(AI54=\"\",\"\",VLOOKUP(AI54,名簿男子!$A$2:$I$41,4))","v":""},{"$f":"IF(AJ54=\"\",\"\",VLOOKUP(AJ54,名簿男子!$A$2:$I$41,4))","v":""},null,{"$f":"IF(AL54=\"\",\"\",VLOOKUP(AL54,名簿男子!$A$2:$I$41,4))","v":""},{"$f":"IF(AM54=\"\",\"\",VLOOKUP(AM54,名簿男子!$A$2:$I$41,4))","v":""}]
[{"$f":"IF(M55=\"\",\"\",VLOOKUP(M55,名簿女子!$A$2:$I$101,2))","v":""},{"$f":"IF(M55=\"\",\"\",VLOOKUP(M55,名簿女子!$A$2:$I$101,4))","v":""},{"$f":"IF(M55=\"\",\"\",VLOOKUP(M55,名簿女子!$A$2:$I$101,6))","v":""},{"$f":"IF(M55=\"\",\"\",VLOOKUP(M55,名簿女子!$A$2:$I$101,7))","v":""},{"$f":"IF(M55=\"\",\"\",VLOOKUP(M55,名簿女子!$A$2:$I$101,8))","v":""},{"$f":"IF(M55=\"\",\"\",VLOOKUP(M55,名簿女子!$A$2:$I$101,9))","v":""},{"$f":"IF(N55=\"\",\"\",VLOOKUP(N55,名簿女子!$A$2:$I$101,9))","v":""},{"$f":"IF(O55=\"\",\"\",VLOOKUP(O55,名簿女子!$A$2:$I$101,9))","v":""},null,null,null,{"$f":"IF(M55=\"\",\"\",VLOOKUP(M55,名簿女子!$A$2:$I$101,3))","v":""},null,null,null,null,24,{"$f":"IF(Q55=\"\",\"\",VLOOKUP(Q55,名簿女子!$A$2:$I$101,3))","v":0},{"$f":"IF(Q55=\"\",\"\",VLOOKUP(Q55,名簿女子!$A$2:$I$101,9))","v":0},49,{"$f":"IF(T55=\"\",\"\",VLOOKUP(T55,名簿女子!$A$2:$I$101,3))","v":0},{"$f":"IF(T55=\"\",\"\",VLOOKUP(T55,名簿女子!$A$2:$I$101,9))","v":0},74,{"$f":"IF(W55=\"\",\"\",VLOOKUP(W55,名簿女子!$A$2:$I$101,3))","v":0},{"$f":"IF(W55=\"\",\"\",VLOOKUP(W55,名簿女子!$A$2:$I$101,9))","v":0},99,{"$f":"IF(Z55=\"\",\"\",VLOOKUP(Z55,名簿女子!$A$2:$I$101,3))","v":0},{"$f":"IF(Z55=\"\",\"\",VLOOKUP(Z55,名簿女子!$A$2:$I$101,9))","v":0}]
[null,{"$f":"IF(M55=\"\",\"\",VLOOKUP(M55,名簿女子!$A$2:$I$101,3))","v":""},null,null,null,null,null,null,null,null,null,null,null,null,null,null,null,{"$f":"IF(AC56=\"\",\"\",VLOOKUP(AC56,名簿男子!$A$2:$I$41,4))","v":""},{"$f":"IF(AD56=\"\",\"\",VLOOKUP(AD56,名簿男子!$A$2:$I$41,4))","v":""},null,{"$f":"IF(AF56=\"\",\"\",VLOOKUP(AF56,名簿男子!$A$2:$I$41,4))","v":""},{"$f":"IF(AG56=\"\",\"\",VLOOKUP(AG56,名簿男子!$A$2:$I$41,4))","v":""},null,{"$f":"IF(AI56=\"\",\"\",VLOOKUP(AI56,名簿男子!$A$2:$I$41,4))","v":""},{"$f":"IF(AJ56=\"\",\"\",VLOOKUP(AJ56,名簿男子!$A$2:$I$41,4))","v":""},null,{"$f":"IF(AL56=\"\",\"\",VLOOKUP(AL56,名簿男子!$A$2:$I$41,4))","v":""},{"$f":"IF(AM56=\"\",\"\",VLOOKUP(AM56,名簿男子!$A$2:$I$41,4))","v":""}]
[{"$f":"IF(M57=\"\",\"\",VLOOKUP(M57,名簿女子!$A$2:$I$101,2))","v":""},{"$f":"IF(M57=\"\",\"\",VLOOKUP(M57,名簿女子!$A$2:$I$101,4))","v":""},{"$f":"IF(M57=\"\",\"\",VLOOKUP(M57,名簿女子!$A$2:$I$101,6))","v":""},{"$f":"IF(M57=\"\",\"\",VLOOKUP(M57,名簿女子!$A$2:$I$101,7))","v":""},{"$f":"IF(M57=\"\",\"\",VLOOKUP(M57,名簿女子!$A$2:$I$101,8))","v":""},{"$f":"IF(M57=\"\",\"\",VLOOKUP(M57,名簿女子!$A$2:$I$101,9))","v":""},{"$f":"IF(N57=\"\",\"\",VLOOKUP(N57,名簿女子!$A$2:$I$101,9))","v":""},{"$f":"IF(O57=\"\",\"\",VLOOKUP(O57,名簿女子!$A$2:$I$101,9))","v":""},null,null,null,{"$f":"IF(M57=\"\",\"\",VLOOKUP(M57,名簿女子!$A$2:$I$101,3))","v":""},null,null,null,null,25,{"$f":"IF(Q57=\"\",\"\",VLOOKUP(Q57,名簿女子!$A$2:$I$101,3))","v":0},{"$f":"IF(Q57=\"\",\"\",VLOOKUP(Q57,名簿女子!$A$2:$I$101,9))","v":0},50,{"$f":"IF(T57=\"\",\"\",VLOOKUP(T57,名簿女子!$A$2:$I$101,3))","v":0},{"$f":"IF(T57=\"\",\"\",VLOOKUP(T57,名簿女子!$A$2:$I$101,9))","v":0},75,{"$f":"IF(W57=\"\",\"\",VLOOKUP(W57,名簿女子!$A$2:$I$101,3))","v":0},{"$f":"IF(W57=\"\",\"\",VLOOKUP(W57,名簿女子!$A$2:$I$101,9))","v":0},100,{"$f":"IF(Z57=\"\",\"\",VLOOKUP(Z57,名簿女子!$A$2:$I$101,3))","v":0},{"$f":"IF(Z57=\"\",\"\",VLOOKUP(Z57,名簿女子!$A$2:$I$101,9))","v":0}]
[null,{"$f":"IF(M57=\"\",\"\",VLOOKUP(M57,名簿女子!$A$2:$I$101,3))","v":""},null,null,null,null,null,null,null,null,null,null,null,null,null,null,null,{"$f":"IF(AC58=\"\",\"\",VLOOKUP(AC58,名簿男子!$A$2:$I$41,4))","v":""},{"$f":"IF(AD58=\"\",\"\",VLOOKUP(AD58,名簿男子!$A$2:$I$41,4))","v":""},null,{"$f":"IF(AF58=\"\",\"\",VLOOKUP(AF58,名簿男子!$A$2:$I$41,4))","v":""},{"$f":"IF(AG58=\"\",\"\",VLOOKUP(AG58,名簿男子!$A$2:$I$41,4))","v":""},null,{"$f":"IF(AI58=\"\",\"\",VLOOKUP(AI58,名簿男子!$A$2:$I$41,4))","v":""},{"$f":"IF(AJ58=\"\",\"\",VLOOKUP(AJ58,名簿男子!$A$2:$I$41,4))","v":""},null,{"$f":"IF(AL58=\"\",\"\",VLOOKUP(AL58,名簿男子!$A$2:$I$41,4))","v":""},{"$f":"IF(AM58=\"\",\"\",VLOOKUP(AM58,名簿男子!$A$2:$I$41,4))","v":""}]

{"sheet":"様式２女子","index":7,"n_rows":100,"n_cols":88,"rows_kept":100,"cut":false,"hidden":false,"merged":[[40,45,40,48],[28,22,29,22],[28,11,29,11],[28,12,29,12],[28,17,29,17],[28,18,29,18],[29,13,29,15],[29,19,29,21],[30,12,30,15],[30,18,30,21],[38,11,39,11],[38,12,39,12],[38,13,38,15],[38,33,39,33],[38,34,39,34],[38,35,38,37],[38,39,39,39],[38,40,39,40],[38,41,38,43],[38,44,39,44],[38,45,39,45],[38,46,38,48],[38,17,39,17],[38,18,39,18],[40,51,40,54],[40,56,40,59],[40,62,40,65],[40,67,40,70],[40,73,40,76],[40,78,40,81],[40,84,40,87],[14,12,15,13],[14,15,15,15],[14,18,15,19],[14,21,15,21],[16,12,16,15],[16,18,16,21],[40,12,40,15],[40,18,40,21],[30,23,30,26],[30,29,30,32],[30,34,30,37],[30,40,30,43],[30,45,30,48],[40,23,40,26],[40,29,40,32],[40,34,40,37],[40,40,40,43],[40,1,40,4],[40,7,40,10],[38,83,39,83],[38,84,39,84],[38,85,38,87],[39,2,39,4],[39,8,39,10],[39,13,39,15],[39,19,39,21],[39,24,39,26],[39,30,39,32],[39,35,39,37],[39,41,39,43],[39,46,39,48],[39,52,39,54],[39,57,39,59],[39,63,39,65],[39,68,39,70],[39,74,39,76],[39,79,39,81],[39,85,39,87],[38,66,39,66],[38,67,39,67],[38,68,38,70],[38,72,39,72],[38,73,39,73],[38,74,38,76],[38,77,39,77],[38,78,39,78],[38,79,38,81],[38,50,39,50],[38,51,39,51],[38,52,38,54],[38,55,39,55],[38,56,39,56],[38,57,38,59],[38,61,39,61],[38,62,39,62],[38,63,38,65],[38,19,38,21],[38,22,39,22],[38,23,39,23],[38,24,38,26],[38,28,39,28],[38,29,39,29],[38,30,38,32],[38,0,39,0],[38,1,39,1],[38,2,38,4],[38,6,39,6],[38,7,39,7],[38,8,38,10],[35,70,36,70],[35,73,36,74],[35,76,36,76],[35,78,36,79],[35,81,36,81],[35,84,36,85],[35,87,36,87],[37,1,37,4],[37,7,37,10],[37,12,37,15],[37,18,37,21],[37,23,37,26],[37,29,37,32],[37,34,37,37],[37,40,37,43],[37,45,37,48],[37,51,37,54],[37,56,37,59],[37,62,37,65],[37,67,37,70],[37,73,37,76],[37,78,37,81],[37,84,37,87],[35,45,36,46],[35,48,36,48],[35,51,36,52],[35,54,36,54],[35,56,36,57],[35,59,36,59],[35,62,36,63],[35,65,36,65],[35,67,36,68],[35,21,36,21],[35,23,36,24],[35,26,36,26],[35,29,36,30],[35,32,36,32],[35,34,36,35],[35,37,36,37],[35,40,36,41],[35,43,36,43],[33,75,34,75],[33,76,34,76],[33,80,34,80],[33,81,34,81],[33,86,34,86],[33,87,34,87],[34,1,34,2],[34,7,34,8],[34,12,34,13],[34,18,34,19],[34,23,34,24],[34,29,34,30],[34,34,34,35],[34,40,34,41],[34,45,34,46],[34,51,34,52],[34,56,34,57],[34,62,34,63],[34,67,34,68],[34,73,34,74],[34,78,34,79],[34,84,34,85],[33,48,34,48],[33,53,34,53],[33,54,34,54],[33,58,34,58],[33,59,34,59],[33,64,34,64],[33,65,34,65],[33,69,34,69],[33,70,34,70],[30,51,30,54],[30,56,30,59],[30,62,30,65],[30,67,30,70],[30,73,30,76],[30,78,30,81],[30,84,30,87],[33,3,34,3],[33,4,34,4],[33,9,34,9],[33,10,34,10],[33,14,34,14],[33,15,34,15],[33,20,34,20],[33,21,34,21],[33,25,34,25],[33,26,34,26],[33,31,34,31],[33,32,34,32],[33,36,34,36],[33,37,34,37],[33,42,34,42],[33,43,34,43],[33,47,34,47],[30,1,30,4],[30,7,30,10],[33,1,33,2],[33,7,33,8],[28,0,29,0],[28,1,29,1],[28,6,29,6],[28,7,29,7],[29,2,29,4],[29,8,29,10],[25,73,26,74],[25,76,26,76],[25,78,26,79],[25,62,26,63],[25,65,26,65],[25,67,26,68],[25,70,26,70],[25,23,26,24],[25,26,26,26],[25,29,26,30],[25,32,26,32],[25,34,26,35],[25,37,26,37],[25,40,26,41],[25,43,26,43],[25,45,26,46],[29,79,29,81],[28,41,28,43],[25,81,26,81],[25,84,26,85],[25,87,26,87],[27,1,27,4],[27,7,27,10],[27,12,27,15],[27,18,27,21],[27,23,27,26],[27,29,27,32],[27,34,27,37],[27,40,27,43],[27,45,27,48],[27,51,27,54],[27,56,27,59],[27,62,27,65],[27,67,27,70],[27,73,27,76],[27,78,27,81],[27,84,27,87],[25,48,26,48],[25,51,26,52],[25,54,26,54],[25,56,26,57],[25,59,26,59],[23,87,24,87],[24,1,24,2],[24,7,24,8],[24,12,24,13],[24,18,24,19],[24,23,24,24],[24,29,24,30],[24,34,24,35],[24,40,24,41],[24,45,24,46],[24,51,24,52],[24,56,24,57],[24,62,24,63],[24,67,24,68],[24,73,24,74],[24,78,24,79],[24,84,24,85],[23,58,24,58],[23,59,24,59],[23,64,24,64],[23,65,24,65],[23,67,23,68],[23,69,24,69],[23,70,24,70],[23,73,23,74],[23,75,24,75],[33,73,33,74],[33,78,33,79],[33,84,33,85],[33,23,33,24],[33,29,33,30],[33,34,33,35],[33,40,33,41],[33,45,33,46],[33,51,33,52],[33,56,33,57],[33,62,33,63],[33,67,33,68],[28,74,28,76],[28,79,28,81],[28,85,28,87],[28,72,29,72],[28,73,29,73],[28,77,29,77],[28,78,29,78],[28,83,29,83],[28,84,29,84],[29,74,29,76],[28,50,29,50],[28,51,29,51],[29,41,29,43],[29,46,29,48],[29,52,29,54],[29,85,29,87],[28,57,28,59],[28,63,28,65],[28,68,28,70],[28,55,29,55],[28,56,29,56],[28,61,29,61],[28,62,29,62],[28,66,29,66],[28,67,29,67],[29,57,29,59],[29,63,29,65],[29,68,29,70],[23,56,23,57],[23,62,23,63],[23,25,24,25],[23,26,24,26],[23,31,24,31],[23,76,24,76],[23,78,23,79],[23,80,24,80],[28,24,28,26],[28,30,28,32],[28,35,28,37],[28,28,29,28],[28,29,29,29],[28,33,29,33],[28,34,29,34],[29,24,29,26],[29,30,29,32],[29,35,29,37],[28,46,28,48],[28,52,28,54],[28,39,29,39],[28,40,29,40],[28,44,29,44],[28,45,29,45],[23,81,24,81],[23,84,23,85],[23,86,24,86],[19,84,19,87],[19,23,19,26],[19,29,19,32],[19,34,19,37],[19,40,19,43],[19,45,19,48],[19,51,19,54],[23,45,23,46],[23,51,23,52],[23,29,23,30],[23,34,23,35],[23,40,23,41],[23,32,24,32],[23,36,24,36],[23,37,24,37],[23,42,24,42],[23,43,24,43],[23,47,24,47],[23,48,24,48],[23,53,24,53],[23,54,24,54],[19,56,19,59],[19,62,19,65],[19,67,19,70],[17,72,18,72],[17,73,18,73],[17,74,17,76],[17,77,18,77],[17,78,18,78],[17,79,17,81],[19,73,19,76],[19,78,19,81],[17,84,18,84],[17,85,17,87],[18,74,18,76],[18,79,18,81],[18,85,18,87],[17,55,18,55],[17,56,18,56],[17,57,17,59],[17,61,18,61],[17,62,18,62],[17,63,17,65],[17,66,18,66],[17,67,18,67],[17,68,17,70],[18,57,18,59],[18,63,18,65],[18,68,18,70],[17,45,18,45],[17,46,17,48],[17,50,18,50],[17,51,18,51],[17,52,17,54],[18,41,18,43],[18,46,18,48],[18,52,18,54],[17,83,18,83],[17,34,18,34],[17,35,17,37],[18,24,18,26],[18,30,18,32],[18,35,18,37],[17,39,18,39],[17,40,18,40],[17,41,17,43],[17,44,18,44],[14,73,15,74],[14,76,15,76],[14,78,15,79],[14,81,15,81],[14,84,15,85],[14,87,15,87],[16,23,16,26],[16,29,16,32],[16,34,16,37],[16,40,16,43],[16,45,16,48],[16,51,16,54],[16,56,16,59],[16,62,16,65],[16,67,16,70],[16,73,16,76],[16,78,16,81],[16,84,16,87],[14,48,15,48],[14,51,15,52],[14,54,15,54],[14,56,15,57],[14,59,15,59],[14,62,15,63],[12,64,13,64],[14,65,15,65],[14,67,15,68],[14,70,15,70],[14,23,15,24],[14,26,15,26],[14,29,15,30],[14,32,15,32],[14,34,15,35],[14,37,15,37],[14,40,15,41],[14,43,15,43],[14,45,15,46],[12,70,13,70],[12,56,12,57],[12,62,12,63],[13,56,13,57],[13,62,13,63],[12,58,13,58],[12,59,13,59],[12,67,12,68],[13,67,13,68],[12,76,13,76],[12,80,13,80],[12,81,13,81],[12,86,13,86],[12,65,13,65],[12,69,13,69],[12,73,12,74],[12,78,12,79],[12,84,12,85],[13,73,13,74],[13,78,13,79],[13,84,13,85],[9,84,9,87],[12,1,12,2],[12,7,12,8],[12,12,12,13],[12,18,12,19],[12,23,12,24],[12,25,13,25],[12,26,13,26],[12,29,12,30],[12,31,13,31],[12,32,13,32],[12,34,12,35],[12,36,13,36],[12,37,13,37],[12,40,12,41],[12,42,13,42],[12,43,13,43],[12,47,13,47],[12,87,13,87],[9,23,9,26],[9,29,9,32],[9,34,9,37],[12,75,13,75],[9,40,9,43],[9,45,9,48],[9,51,9,54],[12,45,12,46],[12,51,12,52],[13,45,13,46],[13,51,13,52],[13,23,13,24],[13,29,13,30],[13,34,13,35],[13,40,13,41],[12,54,13,54],[12,48,13,48],[12,53,13,53],[9,56,9,59],[9,62,9,65],[9,67,9,70],[7,72,8,72],[7,73,8,73],[7,74,7,76],[7,77,8,77],[7,78,8,78],[7,79,7,81],[9,73,9,76],[9,78,9,81],[7,83,8,83],[7,84,8,84],[7,85,7,87],[8,74,8,76],[8,79,8,81],[8,85,8,87],[7,55,8,55],[7,56,8,56],[7,57,7,59],[7,61,8,61],[7,62,8,62],[7,63,7,65],[7,66,8,66],[7,67,8,67],[7,68,7,70],[8,57,8,59],[8,63,8,65],[8,68,8,70],[7,39,8,39],[7,40,8,40],[7,41,7,43],[7,44,8,44],[7,45,8,45],[7,46,7,48],[7,50,8,50],[7,51,8,51],[7,52,7,54],[8,41,8,43],[8,46,8,48],[8,52,8,54],[7,22,8,22],[7,23,8,23],[7,24,7,26],[7,28,8,28],[7,29,8,29],[7,30,7,32],[7,33,8,33],[7,34,8,34],[7,35,7,37],[8,24,8,26],[8,30,8,32],[8,35,8,37],[4,73,5,74],[4,76,5,76],[4,78,5,79],[4,81,5,81],[4,84,5,85],[4,87,5,87],[6,23,6,26],[6,29,6,32],[6,34,6,37],[6,40,6,43],[6,45,6,48],[6,51,6,54],[6,56,6,59],[6,62,6,65],[6,67,6,70],[6,73,6,76],[6,78,6,81],[6,84,6,87],[4,48,5,48],[4,51,5,52],[4,54,5,54],[4,56,5,57],[4,59,5,59],[4,62,5,63],[4,65,5,65],[4,67,5,68],[4,70,5,70],[4,23,5,24],[4,26,5,26],[4,29,5,30],[4,32,5,32],[4,34,5,35],[4,37,5,37],[4,40,5,41],[4,43,5,43],[4,45,5,46],[2,75,3,75],[2,76,3,76],[2,80,3,80],[2,81,3,81],[2,86,3,86],[2,87,3,87],[2,73,2,74],[2,78,2,79],[2,84,2,85],[3,73,3,74],[3,78,3,79],[3,84,3,85],[2,58,3,58],[2,59,3,59],[2,64,3,64],[2,65,3,65],[2,69,3,69],[2,70,3,70],[2,56,2,57],[2,62,2,63],[3,56,3,57],[3,62,3,63],[2,67,2,68],[3,67,3,68],[2,40,2,41],[2,42,3,42],[2,43,3,43],[2,47,3,47],[2,48,3,48],[2,53,3,53],[2,54,3,54],[3,40,3,41],[2,45,2,46],[2,51,2,52],[3,45,3,46],[3,51,3,52],[2,23,2,24],[2,25,3,25],[2,26,3,26],[2,29,2,30],[2,31,3,31],[2,32,3,32],[2,34,2,35],[2,36,3,36],[2,37,3,37],[3,23,3,24],[3,29,3,30],[3,34,3,35],[2,14,3,14],[2,15,3,15],[2,20,3,20],[2,21,3,21],[2,3,3,3],[2,4,3,4],[2,9,3,9],[2,10,3,10],[2,1,2,2],[2,7,2,8],[2,12,2,13],[2,18,2,19],[3,1,3,2],[3,7,3,8],[3,12,3,13],[3,18,3,19],[4,18,5,19],[4,21,5,21],[6,1,6,4],[6,7,6,10],[6,12,6,15],[6,18,6,21],[4,1,5,2],[4,4,5,4],[4,7,5,8],[4,10,5,10],[4,12,5,13],[4,15,5,15],[7,11,8,11],[7,12,8,12],[7,13,7,15],[7,17,8,17],[7,18,8,18],[7,19,7,21],[8,13,8,15],[8,19,8,21],[7,0,8,0],[7,1,8,1],[7,2,7,4],[7,6,8,6],[7,7,8,7],[7,8,7,10],[8,2,8,4],[8,8,8,10],[12,20,13,20],[12,21,13,21],[9,1,9,4],[9,7,9,10],[9,12,9,15],[9,18,9,21],[12,3,13,3],[12,4,13,4],[12,9,13,9],[12,10,13,10],[13,1,13,2],[13,7,13,8],[13,12,13,13],[13,18,13,19],[14,1,15,2],[14,4,15,4],[14,7,15,8],[14,10,15,10],[17,11,18,11],[17,12,18,12],[17,13,17,15],[12,14,13,14],[12,15,13,15],[17,0,18,0],[17,1,18,1],[17,2,17,4],[17,6,18,6],[17,7,18,7],[17,8,17,10],[18,2,18,4],[18,8,18,10],[16,1,16,4],[16,7,16,10],[19,1,19,4],[19,7,19,10],[19,12,19,15],[19,18,19,21],[23,1,23,2],[23,7,23,8],[23,12,23,13],[23,18,23,19],[23,3,24,3],[23,4,24,4],[23,9,24,9],[23,10,24,10],[23,14,24,14],[23,15,24,15],[23,20,24,20],[23,21,24,21],[35,1,36,2],[35,4,36,4],[35,7,36,8],[35,10,36,10],[35,12,36,13],[35,15,36,15],[35,18,36,19],[25,1,26,2],[25,4,26,4],[25,7,26,8],[25,10,26,10],[25,12,26,13],[25,15,26,15],[25,18,26,19],[28,13,28,15],[28,19,28,21],[28,2,28,4],[28,8,28,10],[17,22,18,22],[17,23,18,23],[17,24,17,26],[17,28,18,28],[17,29,18,29],[17,30,17,32],[17,33,18,33],[33,12,33,13],[33,18,33,19],[25,21,26,21],[17,17,18,17],[17,18,18,18],[17,19,17,21],[18,13,18,15],[18,19,18,21],[23,23,23,24],[28,23,29,23]]}
["様式２",null,null,null,null,null,null,null,null,null,null,"様式２",null,null,null,null,null,null,null,null,null,null,"様式２",null,null,null,null,null,null,null,null,null,null,"様式２",null,null,null,null,null,null,null,null,null,null,"様式２",null,null,null,null,null,null,null,null,null,null,"様式２",null,null,null,null,null,null,null,null,null,null,"様式２",null,null,null,null,null,null,null,null,null,null,"様式２"]
["※女子は朱書きのこと",null,null,null,null,null,"※女子は朱書きのこと",null,null,null,null,"※女子は朱書きのこと",null,null,null,null,null,"※女子は朱書きのこと",null,null,null,null,"※女子は朱書きのこと",null,null,null,null,null,"※女子は朱書きのこと",null,null,null,null,"※女子は朱書きのこと",null,null,null,null,null,"※女子は朱書きのこと",null,null,null,null,"※女子は朱書きのこと",null,null,null,null,null,"※女子は朱書きのこと",null,null,null,null,"※女子は朱書きのこと",null,null,null,null,null,"※女子は朱書きのこと",null,null,null,null,"※女子は朱書きのこと",null,null,null,null,null,"※女子は朱書きのこと",null,null,null,null,"※女子は朱書きのこと",null,null,null,null,null,"※女子は朱書きのこと"]
["（ふりがな）",{"$f":"IF(E50=\"\",\"\",VLOOKUP(E50,名簿女子!$A$2:$K$101,4))","v":0},{"$f":"IF(#REF!=\"\",\"\",VLOOKUP(#REF!,名簿男子!$A$2:$I$41,4))","v":{"$error":"#REF!"}},"性　　別","男　・　女",null,"（ふりがな）",{"$f":"IF(K50=\"\",\"\",VLOOKUP(K50,名簿女子!$A$2:$K$101,4))","v":{"$error":"#N/A"}},{"$f":"IF(#REF!=\"\",\"\",VLOOKUP(#REF!,名簿男子!$A$2:$I$41,4))","v":{"$error":"#REF!"}},"性　　別","男　・　女","（ふりがな）",{"$f":"IF(P50=\"\",\"\",VLOOKUP(P50,名簿女子!$A$2:$K$101,4))","v":{"$error":"#N/A"}},{"$f":"IF(#REF!=\"\",\"\",VLOOKUP(#REF!,名簿男子!$A$2:$I$41,4))","v":{"$error":"#REF!"}},"性　　別","男　・　女",null,"（ふりがな）",{"$f":"IF(V50=\"\",\"\",VLOOKUP(V50,名簿女子!$A$2:$K$101,4))","v":{"$error":"#N/A"}},{"$f":"IF(#REF!=\"\",\"\",VLOOKUP(#REF!,名簿男子!$A$2:$I$41,4))","v":{"$error":"#REF!"}},"性　　別","男　・　女","（ふりがな）",{"$f":"IF(AA50=\"\",\"\",VLOOKUP(AA50,名簿女子!$A$2:$K$101,4))","v":{"$error":"#N/A"}},{"$f":"IF(#REF!=\"\",\"\",VLOOKUP(#REF!,名簿男子!$A$2:$I$41,4))","v":{"$error":"#REF!"}},"性　　別","男　・　女",null,"（ふりがな）",{"$f":"IF(AG50=\"\",\"\",VLOOKUP(AG50,名簿女子!$A$2:$K$101,4))","v":{"$error":"#N/A"}},{"$f":"IF(#REF!=\"\",\"\",VLOOKUP(#REF!,名簿男子!$A$2:$I$41,4))","v":{"$error":"#REF!"}},"性　　別","男　・　女","（ふりがな）",{"$f":"IF(AL50=\"\",\"\",VLOOKUP(AL50,名簿女子!$A$2:$K$101,4))","v":{"$error":"#N/A"}},{"$f":"IF(#REF!=\"\",\"\",VLOOKUP(#REF!,名簿男子!$A$2:$I$41,4))","v":{"$error":"#REF!"}},"性　　別","男　・　女",null,"（ふりがな）",{"$f":"IF(AR50=\"\",\"\",VLOOKUP(AR50,名簿女子!$A$2:$K$101,4))","v":{"$error":"#N/A"}},{"$f":"IF(#REF!=\"\",\"\",VLOOKUP(#REF!,名簿男子!$A$2:$I$41,4))","v":{"$error":"#REF!"}},"性　　別","男　・　女","（ふりがな）",{"$f":"IF(AW50=\"\",\"\",VLOOKUP(AW50,名簿女子!$A$2:$K$101,4))","v":{"$error":"#N/A"}},{"$f":"IF(#REF!=\"\",\"\",VLOOKUP(#REF!,名簿男子!$A$2:$I$41,4))","v":{"$error":"#REF!"}},"性　　別","男　・　女",null,"（ふりがな）",{"$f":"IF(BC50=\"\",\"\",VLOOKUP(BC50,名簿女子!$A$2:$K$101,4))","v":{"$error":"#N/A"}},{"$f":"IF(#REF!=\"\",\"\",VLOOKUP(#REF!,名簿男子!$A$2:$I$41,4))","v":{"$error":"#REF!"}},"性　　別","男　・　女","（ふりがな）",{"$f":"IF(BH50=\"\",\"\",VLOOKUP(BH50,名簿女子!$A$2:$K$101,4))","v":{"$error":"#N/A"}},{"$f":"IF(#REF!=\"\",\"\",VLOOKUP(#REF!,名簿男子!$A$2:$I$41,4))","v":{"$error":"#REF!"}},"性　　別","男　・　女",null,"（ふりがな）",{"$f":"IF(BN50=\"\",\"\",VLOOKUP(BN50,名簿女子!$A$2:$K$101,4))","v":{"$error":"#N/A"}},{"$f":"IF(#REF!=\"\",\"\",VLOOKUP(#REF!,名簿男子!$A$2:$I$41,4))","v":{"$error":"#REF!"}},"性　　別","男　・　女","（ふりがな）",{"$f":"IF(BS50=\"\",\"\",VLOOKUP(BS50,名簿女子!$A$2:$K$101,4))","v":{"$error":"#N/A"}},{"$f":"IF(#REF!=\"\",\"\",VLOOKUP(#REF!,名簿男子!$A$2:$I$41,4))","v":{"$error":"#REF!"}},"性　　別","男　・　女",null,"（ふりがな）",{"$f":"IF(BY50=\"\",\"\",VLOOKUP(BY50,名簿女子!$A$2:$K$101,4))","v":{"$error":"#N/A"}},{"$f":"IF(#REF!=\"\",\"\",VLOOKUP(#REF!,名簿男子!$A$2:$I$41,4))","v":{"$error":"#REF!"}},"性　　別","男　・　女","（ふりがな）",{"$f":"IF(CD50=\"\",\"\",VLOOKUP(CD50,名簿女子!$A$2:$K$101,4))","v":{"$error":"#N/A"}},{"$f":"IF(#REF!=\"\",\"\",VLOOKUP(#REF!,名簿男子!$A$2:$I$41,4))","v":{"$error":"#REF!"}},"性　　別","男　・　女",null,"（ふりがな）",{"$f":"IF(CJ50=\"\",\"\",VLOOKUP(CJ50,名簿女子!$A$2:$K$101,4))","v":{"$error":"#N/A"}},{"$f":"IF(#REF!=\"\",\"\",VLOOKUP(#REF!,名簿男子!$A$2:$I$41,4))","v":{"$error":"#REF!"}},"性　　別","男　・　女"]
["氏　　　名",{"$f":"IF(E50=\"\",\"\",VLOOKUP(E50,名簿女子!$A$2:$K$101,3))","v":0},{"$f":"IF(#REF!=\"\",\"\",VLOOKUP(#REF!,名簿男子!$A$2:$I$41,3))","v":{"$error":"#REF!"}},null,null,null,"氏　　　名",{"$f":"IF(K50=\"\",\"\",VLOOKUP(K50,名簿女子!$A$2:$K$101,3))","v":{"$error":"#N/A"}},{"$f":"IF(#REF!=\"\",\"\",VLOOKUP(#REF!,名簿男子!$A$2:$I$41,3))","v":{"$error":"#REF!"}},null,null,"氏　　　名",{"$f":"IF(P50=\"\",\"\",VLOOKUP(P50,名簿女子!$A$2:$K$101,3))","v":{"$error":"#N/A"}},{"$f":"IF(#REF!=\"\",\"\",VLOOKUP(#REF!,名簿男子!$A$2:$I$41,3))","v":{"$error":"#REF!"}},null,null,null,"氏　　　名",{"$f":"IF(V50=\"\",\"\",VLOOKUP(V50,名簿女子!$A$2:$K$101,3))","v":{"$error":"#N/A"}},{"$f":"IF(#REF!=\"\",\"\",VLOOKUP(#REF!,名簿男子!$A$2:$I$41,3))","v":{"$error":"#REF!"}},null,null,"氏　　　名",{"$f":"IF(AA50=\"\",\"\",VLOOKUP(AA50,名簿女子!$A$2:$K$101,3))","v":{"$error":"#N/A"}},{"$f":"IF(#REF!=\"\",\"\",VLOOKUP(#REF!,名簿男子!$A$2:$I$41,3))","v":{"$error":"#REF!"}},null,null,null,"氏　　　名",{"$f":"IF(AG50=\"\",\"\",VLOOKUP(AG50,名簿女子!$A$2:$K$101,3))","v":{"$error":"#N/A"}},{"$f":"IF(#REF!=\"\",\"\",VLOOKUP(#REF!,名簿男子!$A$2:$I$41,3))","v":{"$error":"#REF!"}},null,null,"氏　　　名",{"$f":"IF(AL50=\"\",\"\",VLOOKUP(AL50,名簿女子!$A$2:$K$101,3))","v":{"$error":"#N/A"}},{"$f":"IF(#REF!=\"\",\"\",VLOOKUP(#REF!,名簿男子!$A$2:$I$41,3))","v":{"$error":"#REF!"}},null,null,null,"氏　　　名",{"$f":"IF(AR50=\"\",\"\",VLOOKUP(AR50,名簿女子!$A$2:$K$101,3))","v":{"$error":"#N/A"}},{"$f":"IF(#REF!=\"\",\"\",VLOOKUP(#REF!,名簿男子!$A$2:$I$41,3))","v":{"$error":"#REF!"}},null,null,"氏　　　名",{"$f":"IF(AW50=\"\",\"\",VLOOKUP(AW50,名簿女子!$A$2:$K$101,3))","v":{"$error":"#N/A"}},{"$f":"IF(#REF!=\"\",\"\",VLOOKUP(#REF!,名簿男子!$A$2:$I$41,3))","v":{"$error":"#REF!"}},null,null,null,"氏　　　名",{"$f":"IF(BC50=\"\",\"\",VLOOKUP(BC50,名簿女子!$A$2:$K$101,3))","v":{"$error":"#N/A"}},{"$f":"IF(#REF!=\"\",\"\",VLOOKUP(#REF!,名簿男子!$A$2:$I$41,3))","v":{"$error":"#REF!"}},null,null,"氏　　　名",{"$f":"IF(BH50=\"\",\"\",VLOOKUP(BH50,名簿女子!$A$2:$K$101,3))","v":{"$error":"#N/A"}},{"$f":"IF(#REF!=\"\",\"\",VLOOKUP(#REF!,名簿男子!$A$2:$I$41,3))","v":{"$error":"#REF!"}},null,null,null,"氏　　　名",{"$f":"IF(BN50=\"\",\"\",VLOOKUP(BN50,名簿女子!$A$2:$K$101,3))","v":{"$error":"#N/A"}},{"$f":"IF(#REF!=\"\",\"\",VLOOKUP(#REF!,名簿男子!$A$2:$I$41,3))","v":{"$error":"#REF!"}},null,null,"氏　　　名",{"$f":"IF(BS50=\"\",\"\",VLOOKUP(BS50,名簿女子!$A$2:$K$101,3))","v":{"$error":"#N/A"}},{"$f":"IF(#REF!=\"\",\"\",VLOOKUP(#REF!,名簿男子!$A$2:$I$41,3))","v":{"$error":"#REF!"}},null,null,null,"氏　　　名",{"$f":"IF(BY50=\"\",\"\",VLOOKUP(BY50,名簿女子!$A$2:$K$101,3))","v":{"$error":"#N/A"}},{"$f":"IF(#REF!=\"\",\"\",VLOOKUP(#REF!,名簿男子!$A$2:$I$41,3))","v":{"$error":"#REF!"}},null,null,"氏　　　名",{"$f":"IF(CD50=\"\",\"\",VLOOKUP(CD50,名簿女子!$A$2:$K$101,3))","v":{"$error":"#N/A"}},{"$f":"IF(#REF!=\"\",\"\",VLOOKUP(#REF!,名簿男子!$A$2:$I$41,3))","v":{"$error":"#REF!"}},null,null,null,"氏　　　名",{"$f":"IF(CJ50=\"\",\"\",VLOOKUP(CJ50,名簿女子!$A$2:$K$101,3))","v":{"$error":"#N/A"}},{"$f":"IF(#REF!=\"\",\"\",VLOOKUP(#REF!,名簿男子!$A$2:$I$41,3))","v":{"$error":"#REF!"}}]
["所　　　属",{"$f":"様式１女子!E4","v":0},null,"学　　年",{"$f":"IF(E50=\"\",\"\",VLOOKUP(E50,名簿女子!$A$2:$K$101,6))","v":0},null,"所　　　属",{"$f":"様式１女子!E4","v":0},null,"学　　年",{"$f":"IF(K50=\"\",\"\",VLOOKUP(K50,名簿女子!$A$2:$K$101,6))","v":{"$error":"#N/A"}},"所　　　属",{"$f":"様式１女子!E4","v":0},null,"学　　年",{"$f":"IF(P50=\"\",\"\",VLOOKUP(P50,名簿女子!$A$2:$K$101,6))","v":{"$error":"#N/A"}},null,"所　　　属",{"$f":"様式１女子!E4","v":0},null,"学　　年",{"$f":"IF(V50=\"\",\"\",VLOOKUP(V50,名簿女子!$A$2:$K$101,6))","v":{"$error":"#N/A"}},"所　　　属",{"$f":"様式１女子!E4","v":0},null,"学　　年",{"$f":"IF(AA50=\"\",\"\",VLOOKUP(AA50,名簿女子!$A$2:$K$101,6))","v":{"$error":"#N/A"}},null,"所　　　属",{"$f":"様式１女子!E4","v":0},null,"学　　年",{"$f":"IF(AG50=\"\",\"\",VLOOKUP(AG50,名簿女子!$A$2:$K$101,6))","v":{"$error":"#N/A"}},"所　　　属",{"$f":"様式１女子!E4","v":0},null,"学　　年",{"$f":"IF(AL50=\"\",\"\",VLOOKUP(AL50,名簿女子!$A$2:$K$101,6))","v":{"$error":"#N/A"}},null,"所　　　属",{"$f":"様式１女子!E4","v":0},null,"学　　年",{"$f":"IF(AR50=\"\",\"\",VLOOKUP(AR50,名簿女子!$A$2:$K$101,6))","v":{"$error":"#N/A"}},"所　　　属",{"$f":"様式１女子!E4","v":0},null,"学　　年",{"$f":"IF(AW50=\"\",\"\",VLOOKUP(AW50,名簿女子!$A$2:$K$101,6))","v":{"$error":"#N/A"}},null,"所　　　属",{"$f":"様式１女子!E4","v":0},null,"学　　年",{"$f":"IF(BC50=\"\",\"\",VLOOKUP(BC50,名簿女子!$A$2:$K$101,6))","v":{"$error":"#N/A"}},"所　　　属",{"$f":"様式１女子!E4","v":0},null,"学　　年",{"$f":"IF(BH50=\"\",\"\",VLOOKUP(BH50,名簿女子!$A$2:$K$101,6))","v":{"$error":"#N/A"}},null,"所　　　属",{"$f":"様式１女子!E4","v":0},null,"学　　年",{"$f":"IF(BN50=\"\",\"\",VLOOKUP(BN50,名簿女子!$A$2:$K$101,6))","v":{"$error":"#N/A"}},"所　　　属",{"$f":"様式１女子!E4","v":0},null,"学　　年",{"$f":"IF(BS50=\"\",\"\",VLOOKUP(BS50,名簿女子!$A$2:$K$101,6))","v":{"$error":"#N/A"}},null,"所　　　属",{"$f":"様式１女子!E4","v":0},null,"学　　年",{"$f":"IF(BY50=\"\",\"\",VLOOKUP(BY50,名簿女子!$A$2:$K$101,6))","v":{"$error":"#N/A"}},"所　　　属",{"$f":"様式１女子!E4","v":0},null,"学　　年",{"$f":"IF(CD50=\"\",\"\",VLOOKUP(CD50,名簿女子!$A$2:$K$101,6))","v":{"$error":"#N/A"}},null,"所　　　属",{"$f":"様式１女子!E4","v":0},null,"学　　年",{"$f":"IF(CJ50=\"\",\"\",VLOOKUP(CJ50,名簿女子!$A$2:$K$101,6))","v":{"$error":"#N/A"}}]
["学　　　校",null,null,"年　　齢",null,null,"学　　　校",null,null,"年　　齢",null,"学　　　校",null,null,"年　　齢",null,null,"学　　　校",null,null,"年　　齢",null,"学　　　校",null,null,"年　　齢",null,null,"学　　　校",null,null,"年　　齢",null,"学　　　校",null,null,"年　　齢",null,null,"学　　　校",null,null,"年　　齢",null,"学　　　校",null,null,"年　　齢",null,null,"学　　　校",null,null,"年　　齢",null,"学　　　校",null,null,"年　　齢",null,null,"学　　　校",null,null,"年　　齢",null,"学　　　校",null,null,"年　　齢",null,null,"学　　　校",null,null,"年　　齢",null,"学　　　校",null,null,"年　　齢",null,null,"学　　　校",null,null,"年　　齢"]
["種　　　目",{"$f":"IF(E50=\"\",\"\",VLOOKUP(E50,名簿女子!$A$2:$K$101,9))","v":0},null,null,null,null,"種　　　目",{"$f":"IF(K50=\"\",\"\",VLOOKUP(K50,名簿女子!$A$2:$K$101,9))","v":{"$error":"#N/A"}},null,null,null,"種　　　目",{"$f":"IF(P50=\"\",\"\",VLOOKUP(P50,名簿女子!$A$2:$K$101,9))","v":{"$error":"#N/A"}},null,null,null,null,"種　　　目",{"$f":"IF(V50=\"\",\"\",VLOOKUP(V50,名簿女子!$A$2:$K$101,9))","v":{"$error":"#N/A"}},null,null,null,"種　　　目",{"$f":"IF(AA50=\"\",\"\",VLOOKUP(AA50,名簿女子!$A$2:$K$101,9))","v":{"$error":"#N/A"}},null,null,null,null,"種　　　目",{"$f":"IF(AG50=\"\",\"\",VLOOKUP(AG50,名簿女子!$A$2:$K$101,9))","v":{"$error":"#N/A"}},null,null,null,"種　　　目",{"$f":"IF(AL50=\"\",\"\",VLOOKUP(AL50,名簿女子!$A$2:$K$101,9))","v":{"$error":"#N/A"}},null,null,null,null,"種　　　目",{"$f":"IF(AR50=\"\",\"\",VLOOKUP(AR50,名簿女子!$A$2:$K$101,9))","v":{"$error":"#N/A"}},null,null,null,"種　　　目",{"$f":"IF(AW50=\"\",\"\",VLOOKUP(AW50,名簿女子!$A$2:$K$101,9))","v":{"$error":"#N/A"}},null,null,null,null,"種　　　目",{"$f":"IF(BC50=\"\",\"\",VLOOKUP(BC50,名簿女子!$A$2:$K$101,9))","v":{"$error":"#N/A"}},null,null,null,"種　　　目",{"$f":"IF(BH50=\"\",\"\",VLOOKUP(BH50,名簿女子!$A$2:$K$101,9))","v":{"$error":"#N/A"}},null,null,null,null,"種　　　目",{"$f":"IF(BN50=\"\",\"\",VLOOKUP(BN50,名簿女子!$A$2:$K$101,9))","v":{"$error":"#N/A"}},null,null,null,"種　　　目",{"$f":"IF(BS50=\"\",\"\",VLOOKUP(BS50,名簿女子!$A$2:$K$101,9))","v":{"$error":"#N/A"}},null,null,null,null,"種　　　目",{"$f":"IF(BY50=\"\",\"\",VLOOKUP(BY50,名簿女子!$A$2:$K$101,9))","v":{"$error":"#N/A"}},null,null,null,"種　　　目",{"$f":"IF(CD50=\"\",\"\",VLOOKUP(CD50,名簿女子!$A$2:$K$101,9))","v":{"$error":"#N/A"}},null,null,null,null,"種　　　目",{"$f":"IF(CJ50=\"\",\"\",VLOOKUP(CJ50,名簿女子!$A$2:$K$101,9))","v":{"$error":"#N/A"}}]
["最高記録",{"$f":"IF(E50=\"\",\"\",VLOOKUP(E50,名簿女子!$A$2:$K$101,10))","v":0},"大　会　名　・　年　度",null,null,null,"最高記録",{"$f":"IF(K50=\"\",\"\",VLOOKUP(K50,名簿女子!$A$2:$K$101,10))","v":{"$error":"#N/A"}},"大　会　名　・　年　度",null,null,"最高記録",{"$f":"IF(P50=\"\",\"\",VLOOKUP(P50,名簿女子!$A$2:$K$101,10))","v":{"$error":"#N/A"}},"大　会　名　・　年　度",null,null,null,"最高記録",{"$f":"IF(V50=\"\",\"\",VLOOKUP(V50,名簿女子!$A$2:$K$101,10))","v":{"$error":"#N/A"}},"大　会　名　・　年　度",null,null,"最高記録",{"$f":"IF(AA50=\"\",\"\",VLOOKUP(AA50,名簿女子!$A$2:$K$101,10))","v":{"$error":"#N/A"}},"大　会　名　・　年　度",null,null,null,"最高記録",{"$f":"IF(AG50=\"\",\"\",VLOOKUP(AG50,名簿女子!$A$2:$K$101,10))","v":{"$error":"#N/A"}},"大　会　名　・　年　度",null,null,"最高記録",{"$f":"IF(AL50=\"\",\"\",VLOOKUP(AL50,名簿女子!$A$2:$K$101,10))","v":{"$error":"#N/A"}},"大　会　名　・　年　度",null,null,null,"最高記録",{"$f":"IF(AR50=\"\",\"\",VLOOKUP(AR50,名簿女子!$A$2:$K$101,10))","v":{"$error":"#N/A"}},"大　会　名　・　年　度",null,null,"最高記録",{"$f":"IF(AW50=\"\",\"\",VLOOKUP(AW50,名簿女子!$A$2:$K$101,10))","v":{"$error":"#N/A"}},"大　会　名　・　年　度",null,null,null,"最高記録",{"$f":"IF(BC50=\"\",\"\",VLOOKUP(BC50,名簿女子!$A$2:$K$101,10))","v":{"$error":"#N/A"}},"大　会　名　・　年　度",null,null,"最高記録",{"$f":"IF(BH50=\"\",\"\",VLOOKUP(BH50,名簿女子!$A$2:$K$101,10))","v":{"$error":"#N/A"}},"大　会　名　・　年　度",null,null,null,"最高記録",{"$f":"IF(BN50=\"\",\"\",VLOOKUP(BN50,名簿女子!$A$2:$K$101,10))","v":{"$error":"#N/A"}},"大　会　名　・　年　度",null,null,"最高記録",{"$f":"IF(BS50=\"\",\"\",VLOOKUP(BS50,名簿女子!$A$2:$K$101,10))","v":{"$error":"#N/A"}},"大　会　名　・　年　度",null,null,null,"最高記録",{"$f":"IF(BY50=\"\",\"\",VLOOKUP(BY50,名簿女子!$A$2:$K$101,10))","v":{"$error":"#N/A"}},"大　会　名　・　年　度",null,null,"最高記録",{"$f":"IF(CD50=\"\",\"\",VLOOKUP(CD50,名簿女子!$A$2:$K$101,10))","v":{"$error":"#N/A"}},"大　会　名　・　年　度",null,null,null,"最高記録",{"$f":"IF(CJ50=\"\",\"\",VLOOKUP(CJ50,名簿女子!$A$2:$K$101,10))","v":{"$error":"#N/A"}},"大　会　名　・　年　度"]
[null,null,{"$f":"IF(E50=\"\",\"\",VLOOKUP(E50,名簿女子!$A$2:$K$101,11))","v":0},null,null,null,null,null,{"$f":"IF(K50=\"\",\"\",VLOOKUP(K50,名簿女子!$A$2:$K$101,11))","v":{"$error":"#N/A"}},null,null,null,null,{"$f":"IF(P50=\"\",\"\",VLOOKUP(P50,名簿女子!$A$2:$K$101,11))","v":{"$error":"#N/A"}},null,null,null,null,null,{"$f":"IF(V50=\"\",\"\",VLOOKUP(V50,名簿女子!$A$2:$K$101,11))","v":{"$error":"#N/A"}},null,null,null,null,{"$f":"IF(AA50=\"\",\"\",VLOOKUP(AA50,名簿女子!$A$2:$K$101,11))","v":{"$error":"#N/A"}},null,null,null,null,null,{"$f":"IF(AG50=\"\",\"\",VLOOKUP(AG50,名簿女子!$A$2:$K$101,11))","v":{"$error":"#N/A"}},null,null,null,null,{"$f":"IF(AL50=\"\",\"\",VLOOKUP(AL50,名簿女子!$A$2:$K$101,11))","v":{"$error":"#N/A"}},null,null,null,null,null,{"$f":"IF(AR50=\"\",\"\",VLOOKUP(AR50,名簿女子!$A$2:$K$101,11))","v":{"$error":"#N/A"}},null,null,null,null,{"$f":"IF(AW50=\"\",\"\",VLOOKUP(AW50,名簿女子!$A$2:$K$101,11))","v":{"$error":"#N/A"}},null,null,null,null,null,{"$f":"IF(BC50=\"\",\"\",VLOOKUP(BC50,名簿女子!$A$2:$K$101,11))","v":{"$error":"#N/A"}},null,null,null,null,{"$f":"IF(BH50=\"\",\"\",VLOOKUP(BH50,名簿女子!$A$2:$K$101,11))","v":{"$error":"#N/A"}},null,null,null,null,null,{"$f":"IF(BN50=\"\",\"\",VLOOKUP(BN50,名簿女子!$A$2:$K$101,11))","v":{"$error":"#N/A"}},null,null,null,null,{"$f":"IF(BS50=\"\",\"\",VLOOKUP(BS50,名簿女子!$A$2:$K$101,11))","v":{"$error":"#N/A"}},null,null,null,null,null,{"$f":"IF(BY50=\"\",\"\",VLOOKUP(BY50,名簿女子!$A$2:$K$101,11))","v":{"$error":"#N/A"}},null,null,null,null,{"$f":"IF(CD50=\"\",\"\",VLOOKUP(CD50,名簿女子!$A$2:$K$101,11))","v":{"$error":"#N/A"}},null,null,null,null,null,{"$f":"IF(CJ50=\"\",\"\",VLOOKUP(CJ50,名簿女子!$A$2:$K$101,11))","v":{"$error":"#N/A"}}]
["ナンバー",{"$f":"IF(E50=\"\",\"\",VLOOKUP(E50,名簿女子!$A$2:$K$101,2))","v":0},null,null,null,null,"ナンバー",{"$f":"IF(K50=\"\",\"\",VLOOKUP(K50,名簿女子!$A$2:$K$101,2))","v":{"$error":"#N/A"}},null,null,null,"ナンバー",{"$f":"IF(P50=\"\",\"\",VLOOKUP(P50,名簿女子!$A$2:$K$101,2))","v":{"$error":"#N/A"}},null,null,null,null,"ナンバー",{"$f":"IF(V50=\"\",\"\",VLOOKUP(V50,名簿女子!$A$2:$K$101,2))","v":{"$error":"#N/A"}},null,null,null,"ナンバー",{"$f":"IF(AA50=\"\",\"\",VLOOKUP(AA50,名簿女子!$A$2:$K$101,2))","v":{"$error":"#N/A"}},null,null,null,null,"ナンバー",{"$f":"IF(AG50=\"\",\"\",VLOOKUP(AG50,名簿女子!$A$2:$K$101,2))","v":{"$error":"#N/A"}},null,null,null,"ナンバー",{"$f":"IF(AL50=\"\",\"\",VLOOKUP(AL50,名簿女子!$A$2:$K$101,2))","v":{"$error":"#N/A"}},null,null,null,null,"ナンバー",{"$f":"IF(AR50=\"\",\"\",VLOOKUP(AR50,名簿女子!$A$2:$K$101,2))","v":{"$error":"#N/A"}},null,null,null,"ナンバー",{"$f":"IF(AW50=\"\",\"\",VLOOKUP(AW50,名簿女子!$A$2:$K$101,2))","v":{"$error":"#N/A"}},null,null,null,null,"ナンバー",{"$f":"IF(BC50=\"\",\"\",VLOOKUP(BC50,名簿女子!$A$2:$K$101,2))","v":{"$error":"#N/A"}},null,null,null,"ナンバー",{"$f":"IF(BH50=\"\",\"\",VLOOKUP(BH50,名簿女子!$A$2:$K$101,2))","v":{"$error":"#N/A"}},null,null,null,null,"ナンバー",{"$f":"IF(BN50=\"\",\"\",VLOOKUP(BN50,名簿女子!$A$2:$K$101,2))","v":{"$error":"#N/A"}},null,null,null,"ナンバー",{"$f":"IF(BS50=\"\",\"\",VLOOKUP(BS50,名簿女子!$A$2:$K$101,2))","v":{"$error":"#N/A"}},null,null,null,null,"ナンバー",{"$f":"IF(BY50=\"\",\"\",VLOOKUP(BY50,名簿女子!$A$2:$K$101,2))","v":{"$error":"#N/A"}},null,null,null,"ナンバー",{"$f":"IF(CD50=\"\",\"\",VLOOKUP(CD50,名簿女子!$A$2:$K$101,2))","v":{"$error":"#N/A"}},null,null,null,null,"ナンバー",{"$f":"IF(CJ50=\"\",\"\",VLOOKUP(CJ50,名簿女子!$A$2:$K$101,2))","v":{"$error":"#N/A"}}]
[]
["※女子は朱書きのこと",null,null,null,null,null,"※女子は朱書きのこと",null,null,null,null,"※女子は朱書きのこと",null,null,null,null,null,"※女子は朱書きのこと",null,null,null,null,"※女子は朱書きのこと",null,null,null,null,null,"※女子は朱書きのこと",null,null,null,null,"※女子は朱書きのこと",null,null,null,null,null,"※女子は朱書きのこと",null,null,null,null,"※女子は朱書きのこと",null,null,null,null,null,"※女子は朱書きのこと",null,null,null,null,"※女子は朱書きのこと",null,null,null,null,null,"※女子は朱書きのこと",null,null,null,null,"※女子は朱書きのこと",null,null,null,null,null,"※女子は朱書きのこと",null,null,null,null,"※女子は朱書きのこと",null,null,null,null,null,"※女子は朱書きのこと"]
["（ふりがな）",{"$f":"IF(E51=\"\",\"\",VLOOKUP(E51,名簿女子!$A$2:$K$101,4))","v":0},{"$f":"IF(#REF!=\"\",\"\",VLOOKUP(#REF!,名簿男子!$A$2:$I$41,4))","v":{"$error":"#REF!"}},"性　　別","男　・　女",null,"（ふりがな）",{"$f":"IF(K51=\"\",\"\",VLOOKUP(K51,名簿女子!$A$2:$K$101,4))","v":{"$error":"#N/A"}},{"$f":"IF(#REF!=\"\",\"\",VLOOKUP(#REF!,名簿男子!$A$2:$I$41,4))","v":{"$error":"#REF!"}},"性　　別","男　・　女","（ふりがな）",{"$f":"IF(P51=\"\",\"\",VLOOKUP(P51,名簿女子!$A$2:$K$101,4))","v":{"$error":"#N/A"}},{"$f":"IF(#REF!=\"\",\"\",VLOOKUP(#REF!,名簿男子!$A$2:$I$41,4))","v":{"$error":"#REF!"}},"性　　別","男　・　女",null,"（ふりがな）",{"$f":"IF(V51=\"\",\"\",VLOOKUP(V51,名簿女子!$A$2:$K$101,4))","v":{"$error":"#N/A"}},{"$f":"IF(#REF!=\"\",\"\",VLOOKUP(#REF!,名簿男子!$A$2:$I$41,4))","v":{"$error":"#REF!"}},"性　　別","男　・　女","（ふりがな）",{"$f":"IF(AA51=\"\",\"\",VLOOKUP(AA51,名簿女子!$A$2:$K$101,4))","v":{"$error":"#N/A"}},{"$f":"IF(#REF!=\"\",\"\",VLOOKUP(#REF!,名簿男子!$A$2:$I$41,4))","v":{"$error":"#REF!"}},"性　　別","男　・　女",null,"（ふりがな）",{"$f":"IF(AG51=\"\",\"\",VLOOKUP(AG51,名簿女子!$A$2:$K$101,4))","v":{"$error":"#N/A"}},{"$f":"IF(#REF!=\"\",\"\",VLOOKUP(#REF!,名簿男子!$A$2:$I$41,4))","v":{"$error":"#REF!"}},"性　　別","男　・　女","（ふりがな）",{"$f":"IF(AL51=\"\",\"\",VLOOKUP(AL51,名簿女子!$A$2:$K$101,4))","v":{"$error":"#N/A"}},{"$f":"IF(#REF!=\"\",\"\",VLOOKUP(#REF!,名簿男子!$A$2:$I$41,4))","v":{"$error":"#REF!"}},"性　　別","男　・　女",null,"（ふりがな）",{"$f":"IF(AR51=\"\",\"\",VLOOKUP(AR51,名簿女子!$A$2:$K$101,4))","v":{"$error":"#N/A"}},{"$f":"IF(#REF!=\"\",\"\",VLOOKUP(#REF!,名簿男子!$A$2:$I$41,4))","v":{"$error":"#REF!"}},"性　　別","男　・　女","（ふりがな）",{"$f":"IF(AW51=\"\",\"\",VLOOKUP(AW51,名簿女子!$A$2:$K$101,4))","v":{"$error":"#N/A"}},{"$f":"IF(#REF!=\"\",\"\",VLOOKUP(#REF!,名簿男子!$A$2:$I$41,4))","v":{"$error":"#REF!"}},"性　　別","男　・　女",null,"（ふりがな）",{"$f":"IF(BC51=\"\",\"\",VLOOKUP(BC51,名簿女子!$A$2:$K$101,4))","v":{"$error":"#N/A"}},{"$f":"IF(#REF!=\"\",\"\",VLOOKUP(#REF!,名簿男子!$A$2:$I$41,4))","v":{"$error":"#REF!"}},"性　　別","男　・　女","（ふりがな）",{"$f":"IF(BH51=\"\",\"\",VLOOKUP(BH51,名簿女子!$A$2:$K$101,4))","v":{"$error":"#N/A"}},{"$f":"IF(#REF!=\"\",\"\",VLOOKUP(#REF!,名簿男子!$A$2:$I$41,4))","v":{"$error":"#REF!"}},"性　　別","男　・　女",null,"（ふりがな）",{"$f":"IF(BN51=\"\",\"\",VLOOKUP(BN51,名簿女子!$A$2:$K$101,4))","v":{"$error":"#N/A"}},{"$f":"IF(#REF!=\"\",\"\",VLOOKUP(#REF!,名簿男子!$A$2:$I$41,4))","v":{"$error":"#REF!"}},"性　　別","男　・　女","（ふりがな）",{"$f":"IF(BS51=\"\",\"\",VLOOKUP(BS51,名簿女子!$A$2:$K$101,4))","v":{"$error":"#N/A"}},{"$f":"IF(#REF!=\"\",\"\",VLOOKUP(#REF!,名簿男子!$A$2:$I$41,4))","v":{"$error":"#REF!"}},"性　　別","男　・　女",null,"（ふりがな）",{"$f":"IF(BY51=\"\",\"\",VLOOKUP(BY51,名簿女子!$A$2:$K$101,4))","v":{"$error":"#N/A"}},{"$f":"IF(#REF!=\"\",\"\",VLOOKUP(#REF!,名簿男子!$A$2:$I$41,4))","v":{"$error":"#REF!"}},"性　　別","男　・　女","（ふりがな）",{"$f":"IF(CD51=\"\",\"\",VLOOKUP(CD51,名簿女子!$A$2:$K$101,4))","v":{"$error":"#N/A"}},{"$f":"IF(#REF!=\"\",\"\",VLOOKUP(#REF!,名簿男子!$A$2:$I$41,4))","v":{"$error":"#REF!"}},"性　　別","男　・　女",null,"（ふりがな）",{"$f":"IF(CJ51=\"\",\"\",VLOOKUP(CJ51,名簿女子!$A$2:$K$101,4))","v":{"$error":"#N/A"}},{"$f":"IF(#REF!=\"\",\"\",VLOOKUP(#REF!,名簿男子!$A$2:$I$41,4))","v":{"$error":"#REF!"}},"性　　別","男　・　女"]
["氏　　　名",{"$f":"IF(E51=\"\",\"\",VLOOKUP(E51,名簿女子!$A$2:$K$101,3))","v":0},{"$f":"IF(#REF!=\"\",\"\",VLOOKUP(#REF!,名簿男子!$A$2:$I$41,3))","v":{"$error":"#REF!"}},null,null,null,"氏　　　名",{"$f":"IF(K51=\"\",\"\",VLOOKUP(K51,名簿女子!$A$2:$K$101,3))","v":{"$error":"#N/A"}},{"$f":"IF(#REF!=\"\",\"\",VLOOKUP(#REF!,名簿男子!$A$2:$I$41,3))","v":{"$error":"#REF!"}},null,null,"氏　　　名",{"$f":"IF(P51=\"\",\"\",VLOOKUP(P51,名簿女子!$A$2:$K$101,3))","v":{"$error":"#N/A"}},{"$f":"IF(#REF!=\"\",\"\",VLOOKUP(#REF!,名簿男子!$A$2:$I$41,3))","v":{"$error":"#REF!"}},null,null,null,"氏　　　名",{"$f":"IF(V51=\"\",\"\",VLOOKUP(V51,名簿女子!$A$2:$K$101,3))","v":{"$error":"#N/A"}},{"$f":"IF(#REF!=\"\",\"\",VLOOKUP(#REF!,名簿男子!$A$2:$I$41,3))","v":{"$error":"#REF!"}},null,null,"氏　　　名",{"$f":"IF(AA51=\"\",\"\",VLOOKUP(AA51,名簿女子!$A$2:$K$101,3))","v":{"$error":"#N/A"}},{"$f":"IF(#REF!=\"\",\"\",VLOOKUP(#REF!,名簿男子!$A$2:$I$41,3))","v":{"$error":"#REF!"}},null,null,null,"氏　　　名",{"$f":"IF(AG51=\"\",\"\",VLOOKUP(AG51,名簿女子!$A$2:$K$101,3))","v":{"$error":"#N/A"}},{"$f":"IF(#REF!=\"\",\"\",VLOOKUP(#REF!,名簿男子!$A$2:$I$41,3))","v":{"$error":"#REF!"}},null,null,"氏　　　名",{"$f":"IF(AL51=\"\",\"\",VLOOKUP(AL51,名簿女子!$A$2:$K$101,3))","v":{"$error":"#N/A"}},{"$f":"IF(#REF!=\"\",\"\",VLOOKUP(#REF!,名簿男子!$A$2:$I$41,3))","v":{"$error":"#REF!"}},null,null,null,"氏　　　名",{"$f":"IF(AR51=\"\",\"\",VLOOKUP(AR51,名簿女子!$A$2:$K$101,3))","v":{"$error":"#N/A"}},{"$f":"IF(#REF!=\"\",\"\",VLOOKUP(#REF!,名簿男子!$A$2:$I$41,3))","v":{"$error":"#REF!"}},null,null,"氏　　　名",{"$f":"IF(AW51=\"\",\"\",VLOOKUP(AW51,名簿女子!$A$2:$K$101,3))","v":{"$error":"#N/A"}},{"$f":"IF(#REF!=\"\",\"\",VLOOKUP(#REF!,名簿男子!$A$2:$I$41,3))","v":{"$error":"#REF!"}},null,null,null,"氏　　　名",{"$f":"IF(BC51=\"\",\"\",VLOOKUP(BC51,名簿女子!$A$2:$K$101,3))","v":{"$error":"#N/A"}},{"$f":"IF(#REF!=\"\",\"\",VLOOKUP(#REF!,名簿男子!$A$2:$I$41,3))","v":{"$error":"#REF!"}},null,null,"氏　　　名",{"$f":"IF(BH51=\"\",\"\",VLOOKUP(BH51,名簿女子!$A$2:$K$101,3))","v":{"$error":"#N/A"}},{"$f":"IF(#REF!=\"\",\"\",VLOOKUP(#REF!,名簿男子!$A$2:$I$41,3))","v":{"$error":"#REF!"}},null,null,null,"氏　　　名",{"$f":"IF(BN51=\"\",\"\",VLOOKUP(BN51,名簿女子!$A$2:$K$101,3))","v":{"$error":"#N/A"}},{"$f":"IF(#REF!=\"\",\"\",VLOOKUP(#REF!,名簿男子!$A$2:$I$41,3))","v":{"$error":"#REF!"}},null,null,"氏　　　名",{"$f":"IF(BS51=\"\",\"\",VLOOKUP(BS51,名簿女子!$A$2:$K$101,3))","v":{"$error":"#N/A"}},{"$f":"IF(#REF!=\"\",\"\",VLOOKUP(#REF!,名簿男子!$A$2:$I$41,3))","v":{"$error":"#REF!"}},null,null,null,"氏　　　名",{"$f":"IF(BY51=\"\",\"\",VLOOKUP(BY51,名簿女子!$A$2:$K$101,3))","v":{"$error":"#N/A"}},{"$f":"IF(#REF!=\"\",\"\",VLOOKUP(#REF!,名簿男子!$A$2:$I$41,3))","v":{"$error":"#REF!"}},null,null,"氏　　　名",{"$f":"IF(CD51=\"\",\"\",VLOOKUP(CD51,名簿女子!$A$2:$K$101,3))","v":{"$error":"#N/A"}},{"$f":"IF(#REF!=\"\",\"\",VLOOKUP(#REF!,名簿男子!$A$2:$I$41,3))","v":{"$error":"#REF!"}},null,null,null,"氏　　　名",{"$f":"IF(CJ51=\"\",\"\",VLOOKUP(CJ51,名簿女子!$A$2:$K$101,3))","v":{"$error":"#N/A"}},{"$f":"IF(#REF!=\"\",\"\",VLOOKUP(#REF!,名簿男子!$A$2:$I$41,3))","v":{"$error":"#REF!"}}]
["所　　　属",{"$f":"様式１女子!E4","v":0},null,"学　　年",{"$f":"IF(E51=\"\",\"\",VLOOKUP(E51,名簿女子!$A$2:$K$101,6))","v":0},null,"所　　　属",{"$f":"様式１女子!E4","v":0},null,"学　　年",{"$f":"IF(K51=\"\",\"\",VLOOKUP(K51,名簿女子!$A$2:$K$101,6))","v":{"$error":"#N/A"}},"所　　　属",{"$f":"様式１女子!E4","v":0},null,"学　　年",{"$f":"IF(P51=\"\",\"\",VLOOKUP(P51,名簿女子!$A$2:$K$101,6))","v":{"$error":"#N/A"}},null,"所　　　属",{"$f":"様式１女子!E4","v":0},null,"学　　年",{"$f":"IF(V51=\"\",\"\",VLOOKUP(V51,名簿女子!$A$2:$K$101,6))","v":{"$error":"#N/A"}},"所　　　属",{"$f":"様式１女子!E4","v":0},null,"学　　年",{"$f":"IF(AA51=\"\",\"\",VLOOKUP(AA51,名簿女子!$A$2:$K$101,6))","v":{"$error":"#N/A"}},null,"所　　　属",{"$f":"様式１女子!E4","v":0},null,"学　　年",{"$f":"IF(AG51=\"\",\"\",VLOOKUP(AG51,名簿女子!$A$2:$K$101,6))","v":{"$error":"#N/A"}},"所　　　属",{"$f":"様式１女子!E4","v":0},null,"学　　年",{"$f":"IF(AL51=\"\",\"\",VLOOKUP(AL51,名簿女子!$A$2:$K$101,6))","v":{"$error":"#N/A"}},null,"所　　　属",{"$f":"様式１女子!E4","v":0},null,"学　　年",{"$f":"IF(AR51=\"\",\"\",VLOOKUP(AR51,名簿女子!$A$2:$K$101,6))","v":{"$error":"#N/A"}},"所　　　属",{"$f":"様式１女子!E4","v":0},null,"学　　年",{"$f":"IF(AW51=\"\",\"\",VLOOKUP(AW51,名簿女子!$A$2:$K$101,6))","v":{"$error":"#N/A"}},null,"所　　　属",{"$f":"様式１女子!E4","v":0},null,"学　　年",{"$f":"IF(BC51=\"\",\"\",VLOOKUP(BC51,名簿女子!$A$2:$K$101,6))","v":{"$error":"#N/A"}},"所　　　属",{"$f":"様式１女子!E4","v":0},null,"学　　年",{"$f":"IF(BH51=\"\",\"\",VLOOKUP(BH51,名簿女子!$A$2:$K$101,6))","v":{"$error":"#N/A"}},null,"所　　　属",{"$f":"様式１女子!E4","v":0},null,"学　　年",{"$f":"IF(BN51=\"\",\"\",VLOOKUP(BN51,名簿女子!$A$2:$K$101,6))","v":{"$error":"#N/A"}},"所　　　属",{"$f":"様式１女子!E4","v":0},null,"学　　年",{"$f":"IF(BS51=\"\",\"\",VLOOKUP(BS51,名簿女子!$A$2:$K$101,6))","v":{"$error":"#N/A"}},null,"所　　　属",{"$f":"様式１女子!E4","v":0},null,"学　　年",{"$f":"IF(BY51=\"\",\"\",VLOOKUP(BY51,名簿女子!$A$2:$K$101,6))","v":{"$error":"#N/A"}},"所　　　属",{"$f":"様式１女子!E4","v":0},null,"学　　年",{"$f":"IF(CD51=\"\",\"\",VLOOKUP(CD51,名簿女子!$A$2:$K$101,6))","v":{"$error":"#N/A"}},null,"所　　　属",{"$f":"様式１女子!E4","v":0},null,"学　　年",{"$f":"IF(CJ51=\"\",\"\",VLOOKUP(CJ51,名簿女子!$A$2:$K$101,6))","v":{"$error":"#N/A"}}]
["学　　　校",null,null,"年　　齢",null,null,"学　　　校",null,null,"年　　齢",null,"学　　　校",null,null,"年　　齢",null,null,"学　　　校",null,null,"年　　齢",null,"学　　　校",null,null,"年　　齢",null,null,"学　　　校",null,null,"年　　齢",null,"学　　　校",null,null,"年　　齢",null,null,"学　　　校",null,null,"年　　齢",null,"学　　　校",null,null,"年　　齢",null,null,"学　　　校",null,null,"年　　齢",null,"学　　　校",null,null,"年　　齢",null,null,"学　　　校",null,null,"年　　齢",null,"学　　　校",null,null,"年　　齢",null,null,"学　　　校",null,null,"年　　齢",null,"学　　　校",null,null,"年　　齢",null,null,"学　　　校",null,null,"年　　齢"]
["種　　　目",{"$f":"IF(E51=\"\",\"\",VLOOKUP(E51,名簿女子!$A$2:$K$101,9))","v":0},null,null,null,null,"種　　　目",{"$f":"IF(K51=\"\",\"\",VLOOKUP(K51,名簿女子!$A$2:$K$101,9))","v":{"$error":"#N/A"}},null,null,null,"種　　　目",{"$f":"IF(P51=\"\",\"\",VLOOKUP(P51,名簿女子!$A$2:$K$101,9))","v":{"$error":"#N/A"}},null,null,null,null,"種　　　目",{"$f":"IF(V51=\"\",\"\",VLOOKUP(V51,名簿女子!$A$2:$K$101,9))","v":{"$error":"#N/A"}},null,null,null,"種　　　目",{"$f":"IF(AA51=\"\",\"\",VLOOKUP(AA51,名簿女子!$A$2:$K$101,9))","v":{"$error":"#N/A"}},null,null,null,null,"種　　　目",{"$f":"IF(AG51=\"\",\"\",VLOOKUP(AG51,名簿女子!$A$2:$K$101,9))","v":{"$error":"#N/A"}},null,null,null,"種　　　目",{"$f":"IF(AL51=\"\",\"\",VLOOKUP(AL51,名簿女子!$A$2:$K$101,9))","v":{"$error":"#N/A"}},null,null,null,null,"種　　　目",{"$f":"IF(AR51=\"\",\"\",VLOOKUP(AR51,名簿女子!$A$2:$K$101,9))","v":{"$error":"#N/A"}},null,null,null,"種　　　目",{"$f":"IF(AW51=\"\",\"\",VLOOKUP(AW51,名簿女子!$A$2:$K$101,9))","v":{"$error":"#N/A"}},null,null,null,null,"種　　　目",{"$f":"IF(BC51=\"\",\"\",VLOOKUP(BC51,名簿女子!$A$2:$K$101,9))","v":{"$error":"#N/A"}},null,null,null,"種　　　目",{"$f":"IF(BH51=\"\",\"\",VLOOKUP(BH51,名簿女子!$A$2:$K$101,9))","v":{"$error":"#N/A"}},null,null,null,null,"種　　　目",{"$f":"IF(BN51=\"\",\"\",VLOOKUP(BN51,名簿女子!$A$2:$K$101,9))","v":{"$error":"#N/A"}},null,null,null,"種　　　目",{"$f":"IF(BS51=\"\",\"\",VLOOKUP(BS51,名簿女子!$A$2:$K$101,9))","v":{"$error":"#N/A"}},null,null,null,null,"種　　　目",{"$f":"IF(BY51=\"\",\"\",VLOOKUP(BY51,名簿女子!$A$2:$K$101,9))","v":{"$error":"#N/A"}},null,null,null,"種　　　目",{"$f":"IF(CD51=\"\",\"\",VLOOKUP(CD51,名簿女子!$A$2:$K$101,9))","v":{"$error":"#N/A"}},null,null,null,null,"種　　　目",{"$f":"IF(CJ51=\"\",\"\",VLOOKUP(CJ51,名簿女子!$A$2:$K$101,9))","v":{"$error":"#N/A"}}]
["最高記録",{"$f":"IF(E51=\"\",\"\",VLOOKUP(E51,名簿女子!$A$2:$K$101,10))","v":0},"大　会　名　・　年　度",null,null,null,"最高記録",{"$f":"IF(K51=\"\",\"\",VLOOKUP(K51,名簿女子!$A$2:$K$101,10))","v":{"$error":"#N/A"}},"大　会　名　・　年　度",null,null,"最高記録",{"$f":"IF(P51=\"\",\"\",VLOOKUP(P51,名簿女子!$A$2:$K$101,10))","v":{"$error":"#N/A"}},"大　会　名　・　年　度",null,null,null,"最高記録",{"$f":"IF(V51=\"\",\"\",VLOOKUP(V51,名簿女子!$A$2:$K$101,10))","v":{"$error":"#N/A"}},"大　会　名　・　年　度",null,null,"最高記録",{"$f":"IF(AA51=\"\",\"\",VLOOKUP(AA51,名簿女子!$A$2:$K$101,10))","v":{"$error":"#N/A"}},"大　会　名　・　年　度",null,null,null,"最高記録",{"$f":"IF(AG51=\"\",\"\",VLOOKUP(AG51,名簿女子!$A$2:$K$101,10))","v":{"$error":"#N/A"}},"大　会　名　・　年　度",null,null,"最高記録",{"$f":"IF(AL51=\"\",\"\",VLOOKUP(AL51,名簿女子!$A$2:$K$101,10))","v":{"$error":"#N/A"}},"大　会　名　・　年　度",null,null,null,"最高記録",{"$f":"IF(AR51=\"\",\"\",VLOOKUP(AR51,名簿女子!$A$2:$K$101,10))","v":{"$error":"#N/A"}},"大　会　名　・　年　度",null,null,"最高記録",{"$f":"IF(AW51=\"\",\"\",VLOOKUP(AW51,名簿女子!$A$2:$K$101,10))","v":{"$error":"#N/A"}},"大　会　名　・　年　度",null,null,null,"最高記録",{"$f":"IF(BC51=\"\",\"\",VLOOKUP(BC51,名簿女子!$A$2:$K$101,10))","v":{"$error":"#N/A"}},"大　会　名　・　年　度",null,null,"最高記録",{"$f":"IF(BH51=\"\",\"\",VLOOKUP(BH51,名簿女子!$A$2:$K$101,10))","v":{"$error":"#N/A"}},"大　会　名　・　年　度",null,null,null,"最高記録",{"$f":"IF(BN51=\"\",\"\",VLOOKUP(BN51,名簿女子!$A$2:$K$101,10))","v":{"$error":"#N/A"}},"大　会　名　・　年　度",null,null,"最高記録",{"$f":"IF(BS51=\"\",\"\",VLOOKUP(BS51,名簿女子!$A$2:$K$101,10))","v":{"$error":"#N/A"}},"大　会　名　・　年　度",null,null,null,"最高記録",{"$f":"IF(BY51=\"\",\"\",VLOOKUP(BY51,名簿女子!$A$2:$K$101,10))","v":{"$error":"#N/A"}},"大　会　名　・　年　度",null,null,"最高記録",{"$f":"IF(CD51=\"\",\"\",VLOOKUP(CD51,名簿女子!$A$2:$K$101,10))","v":{"$error":"#N/A"}},"大　会　名　・　年　度",null,null,null,"最高記録",{"$f":"IF(CJ51=\"\",\"\",VLOOKUP(CJ51,名簿女子!$A$2:$K$101,10))","v":{"$error":"#N/A"}},"大　会　名　・　年　度"]
[null,null,{"$f":"IF(E51=\"\",\"\",VLOOKUP(E51,名簿女子!$A$2:$K$101,11))","v":0},null,null,null,null,null,{"$f":"IF(K51=\"\",\"\",VLOOKUP(K51,名簿女子!$A$2:$K$101,11))","v":{"$error":"#N/A"}},null,null,null,null,{"$f":"IF(P51=\"\",\"\",VLOOKUP(P51,名簿女子!$A$2:$K$101,11))","v":{"$error":"#N/A"}},null,null,null,null,null,{"$f":"IF(V51=\"\",\"\",VLOOKUP(V51,名簿女子!$A$2:$K$101,11))","v":{"$error":"#N/A"}},null,null,null,null,{"$f":"IF(AA51=\"\",\"\",VLOOKUP(AA51,名簿女子!$A$2:$K$101,11))","v":{"$error":"#N/A"}},null,null,null,null,null,{"$f":"IF(AG51=\"\",\"\",VLOOKUP(AG51,名簿女子!$A$2:$K$101,11))","v":{"$error":"#N/A"}},null,null,null,null,{"$f":"IF(AL51=\"\",\"\",VLOOKUP(AL51,名簿女子!$A$2:$K$101,11))","v":{"$error":"#N/A"}},null,null,null,null,null,{"$f":"IF(AR51=\"\",\"\",VLOOKUP(AR51,名簿女子!$A$2:$K$101,11))","v":{"$error":"#N/A"}},null,null,null,null,{"$f":"IF(AW51=\"\",\"\",VLOOKUP(AW51,名簿女子!$A$2:$K$101,11))","v":{"$error":"#N/A"}},null,null,null,null,null,{"$f":"IF(BC51=\"\",\"\",VLOOKUP(BC51,名簿女子!$A$2:$K$101,11))","v":{"$error":"#N/A"}},null,null,null,null,{"$f":"IF(BH51=\"\",\"\",VLOOKUP(BH51,名簿女子!$A$2:$K$101,11))","v":{"$error":"#N/A"}},null,null,null,null,null,{"$f":"IF(BN51=\"\",\"\",VLOOKUP(BN51,名簿女子!$A$2:$K$101,11))","v":{"$error":"#N/A"}},null,null,null,null,{"$f":"IF(BS51=\"\",\"\",VLOOKUP(BS51,名簿女子!$A$2:$K$101,11))","v":{"$error":"#N/A"}},null,null,null,null,null,{"$f":"IF(BY51=\"\",\"\",VLOOKUP(BY51,名簿女子!$A$2:$K$101,11))","v":{"$error":"#N/A"}},null,null,null,null,{"$f":"IF(CD51=\"\",\"\",VLOOKUP(CD51,名簿女子!$A$2:$K$101,11))","v":{"$error":"#N/A"}},null,null,null,null,null,{"$f":"IF(CJ51=\"\",\"\",VLOOKUP(CJ51,名簿女子!$A$2:$K$101,11))","v":{"$error":"#N/A"}}]
["ナンバー",{"$f":"IF(E51=\"\",\"\",VLOOKUP(E51,名簿女子!$A$2:$K$101,2))","v":0},null,null,null,null,"ナンバー",{"$f":"IF(K51=\"\",\"\",VLOOKUP(K51,名簿女子!$A$2:$K$101,2))","v":{"$error":"#N/A"}},null,null,null,"ナンバー",{"$f":"IF(P51=\"\",\"\",VLOOKUP(P51,名簿女子!$A$2:$K$101,2))","v":{"$error":"#N/A"}},null,null,null,null,"ナンバー",{"$f":"IF(V51=\"\",\"\",VLOOKUP(V51,名簿女子!$A$2:$K$101,2))","v":{"$error":"#N/A"}},null,null,null,"ナンバー",{"$f":"IF(AA51=\"\",\"\",VLOOKUP(AA51,名簿女子!$A$2:$K$101,2))","v":{"$error":"#N/A"}},null,null,null,null,"ナンバー",{"$f":"IF(AG51=\"\",\"\",VLOOKUP(AG51,名簿女子!$A$2:$K$101,2))","v":{"$error":"#N/A"}},null,null,null,"ナンバー",{"$f":"IF(AL51=\"\",\"\",VLOOKUP(AL51,名簿女子!$A$2:$K$101,2))","v":{"$error":"#N/A"}},null,null,null,null,"ナンバー",{"$f":"IF(AR51=\"\",\"\",VLOOKUP(AR51,名簿女子!$A$2:$K$101,2))","v":{"$error":"#N/A"}},null,null,null,"ナンバー",{"$f":"IF(AW51=\"\",\"\",VLOOKUP(AW51,名簿女子!$A$2:$K$101,2))","v":{"$error":"#N/A"}},null,null,null,null,"ナンバー",{"$f":"IF(BC51=\"\",\"\",VLOOKUP(BC51,名簿女子!$A$2:$K$101,2))","v":{"$error":"#N/A"}},null,null,null,"ナンバー",{"$f":"IF(BH51=\"\",\"\",VLOOKUP(BH51,名簿女子!$A$2:$K$101,2))","v":{"$error":"#N/A"}},null,null,null,null,"ナンバー",{"$f":"IF(BN51=\"\",\"\",VLOOKUP(BN51,名簿女子!$A$2:$K$101,2))","v":{"$error":"#N/A"}},null,null,null,"ナンバー",{"$f":"IF(BS51=\"\",\"\",VLOOKUP(BS51,名簿女子!$A$2:$K$101,2))","v":{"$error":"#N/A"}},null,null,null,null,"ナンバー",{"$f":"IF(BY51=\"\",\"\",VLOOKUP(BY51,名簿女子!$A$2:$K$101,2))","v":{"$error":"#N/A"}},null,null,null,"ナンバー",{"$f":"IF(CD51=\"\",\"\",VLOOKUP(CD51,名簿女子!$A$2:$K$101,2))","v":{"$error":"#N/A"}},null,null,null,null,"ナンバー",{"$f":"IF(CJ51=\"\",\"\",VLOOKUP(CJ51,名簿女子!$A$2:$K$101,2))","v":{"$error":"#N/A"}}]
[]
[]
["※女子は朱書きのこと",null,null,null,null,null,"※女子は朱書きのこと",null,null,null,null,"※女子は朱書きのこと",null,null,null,null,null,"※女子は朱書きのこと",null,null,null,null,"※女子は朱書きのこと",null,null,null,null,null,"※女子は朱書きのこと",null,null,null,null,"※女子は朱書きのこと",null,null,null,null,null,"※女子は朱書きのこと",null,null,null,null,"※女子は朱書きのこと",null,null,null,null,null,"※女子は朱書きのこと",null,null,null,null,"※女子は朱書きのこと",null,null,null,null,null,"※女子は朱書きのこと",null,null,null,null,"※女子は朱書きのこと",null,null,null,null,null,"※女子は朱書きのこと",null,null,null,null,"※女子は朱書きのこと",null,null,null,null,null,"※女子は朱書きのこと"]
["（ふりがな）",{"$f":"IF(E52=\"\",\"\",VLOOKUP(E52,名簿女子!$A$2:$K$101,4))","v":{"$error":"#N/A"}},{"$f":"IF(#REF!=\"\",\"\",VLOOKUP(#REF!,名簿男子!$A$2:$I$41,4))","v":{"$error":"#REF!"}},"性　　別","男　・　女",null,"（ふりがな）",{"$f":"IF(K52=\"\",\"\",VLOOKUP(K52,名簿女子!$A$2:$K$101,4))","v":{"$error":"#N/A"}},{"$f":"IF(#REF!=\"\",\"\",VLOOKUP(#REF!,名簿男子!$A$2:$I$41,4))","v":{"$error":"#REF!"}},"性　　別","男　・　女","（ふりがな）",{"$f":"IF(P52=\"\",\"\",VLOOKUP(P52,名簿女子!$A$2:$K$101,4))","v":{"$error":"#N/A"}},{"$f":"IF(#REF!=\"\",\"\",VLOOKUP(#REF!,名簿男子!$A$2:$I$41,4))","v":{"$error":"#REF!"}},"性　　別","男　・　女",null,"（ふりがな）",{"$f":"IF(V52=\"\",\"\",VLOOKUP(V52,名簿女子!$A$2:$K$101,4))","v":{"$error":"#N/A"}},{"$f":"IF(#REF!=\"\",\"\",VLOOKUP(#REF!,名簿男子!$A$2:$I$41,4))","v":{"$error":"#REF!"}},"性　　別","男　・　女","（ふりがな）",{"$f":"IF(AA52=\"\",\"\",VLOOKUP(AA52,名簿女子!$A$2:$K$101,4))","v":{"$error":"#N/A"}},{"$f":"IF(#REF!=\"\",\"\",VLOOKUP(#REF!,名簿男子!$A$2:$I$41,4))","v":{"$error":"#REF!"}},"性　　別","男　・　女",null,"（ふりがな）",{"$f":"IF(AG52=\"\",\"\",VLOOKUP(AG52,名簿女子!$A$2:$K$101,4))","v":{"$error":"#N/A"}},{"$f":"IF(#REF!=\"\",\"\",VLOOKUP(#REF!,名簿男子!$A$2:$I$41,4))","v":{"$error":"#REF!"}},"性　　別","男　・　女","（ふりがな）",{"$f":"IF(AL52=\"\",\"\",VLOOKUP(AL52,名簿女子!$A$2:$K$101,4))","v":{"$error":"#N/A"}},{"$f":"IF(#REF!=\"\",\"\",VLOOKUP(#REF!,名簿男子!$A$2:$I$41,4))","v":{"$error":"#REF!"}},"性　　別","男　・　女",null,"（ふりがな）",{"$f":"IF(AR52=\"\",\"\",VLOOKUP(AR52,名簿女子!$A$2:$K$101,4))","v":{"$error":"#N/A"}},{"$f":"IF(#REF!=\"\",\"\",VLOOKUP(#REF!,名簿男子!$A$2:$I$41,4))","v":{"$error":"#REF!"}},"性　　別","男　・　女","（ふりがな）",{"$f":"IF(AW52=\"\",\"\",VLOOKUP(AW52,名簿女子!$A$2:$K$101,4))","v":{"$error":"#N/A"}},{"$f":"IF(#REF!=\"\",\"\",VLOOKUP(#REF!,名簿男子!$A$2:$I$41,4))","v":{"$error":"#REF!"}},"性　　別","男　・　女",null,"（ふりがな）",{"$f":"IF(BC52=\"\",\"\",VLOOKUP(BC52,名簿女子!$A$2:$K$101,4))","v":{"$error":"#N/A"}},{"$f":"IF(#REF!=\"\",\"\",VLOOKUP(#REF!,名簿男子!$A$2:$I$41,4))","v":{"$error":"#REF!"}},"性　　別","男　・　女","（ふりがな）",{"$f":"IF(BH52=\"\",\"\",VLOOKUP(BH52,名簿女子!$A$2:$K$101,4))","v":{"$error":"#N/A"}},{"$f":"IF(#REF!=\"\",\"\",VLOOKUP(#REF!,名簿男子!$A$2:$I$41,4))","v":{"$error":"#REF!"}},"性　　別","男　・　女",null,"（ふりがな）",{"$f":"IF(BN52=\"\",\"\",VLOOKUP(BN52,名簿女子!$A$2:$K$101,4))","v":{"$error":"#N/A"}},{"$f":"IF(#REF!=\"\",\"\",VLOOKUP(#REF!,名簿男子!$A$2:$I$41,4))","v":{"$error":"#REF!"}},"性　　別","男　・　女","（ふりがな）",{"$f":"IF(BS52=\"\",\"\",VLOOKUP(BS52,名簿女子!$A$2:$K$101,4))","v":{"$error":"#N/A"}},{"$f":"IF(#REF!=\"\",\"\",VLOOKUP(#REF!,名簿男子!$A$2:$I$41,4))","v":{"$error":"#REF!"}},"性　　別","男　・　女",null,"（ふりがな）",{"$f":"IF(BY52=\"\",\"\",VLOOKUP(BY52,名簿女子!$A$2:$K$101,4))","v":{"$error":"#N/A"}},{"$f":"IF(#REF!=\"\",\"\",VLOOKUP(#REF!,名簿男子!$A$2:$I$41,4))","v":{"$error":"#REF!"}},"性　　別","男　・　女","（ふりがな）",{"$f":"IF(CD52=\"\",\"\",VLOOKUP(CD52,名簿女子!$A$2:$K$101,4))","v":{"$error":"#N/A"}},{"$f":"IF(#REF!=\"\",\"\",VLOOKUP(#REF!,名簿男子!$A$2:$I$41,4))","v":{"$error":"#REF!"}},"性　　別","男　・　女",null,"（ふりがな）",{"$f":"IF(CJ52=\"\",\"\",VLOOKUP(CJ52,名簿女子!$A$2:$K$101,4))","v":{"$error":"#N/A"}},{"$f":"IF(#REF!=\"\",\"\",VLOOKUP(#REF!,名簿男子!$A$2:$I$41,4))","v":{"$error":"#REF!"}},"性　　別","男　・　女"]
["氏　　　名",{"$f":"IF(E52=\"\",\"\",VLOOKUP(E52,名簿女子!$A$2:$K$101,3))","v":{"$error":"#N/A"}},{"$f":"IF(#REF!=\"\",\"\",VLOOKUP(#REF!,名簿男子!$A$2:$I$41,3))","v":{"$error":"#REF!"}},null,null,null,"氏　　　名",{"$f":"IF(K52=\"\",\"\",VLOOKUP(K52,名簿女子!$A$2:$K$101,3))","v":{"$error":"#N/A"}},{"$f":"IF(#REF!=\"\",\"\",VLOOKUP(#REF!,名簿男子!$A$2:$I$41,3))","v":{"$error":"#REF!"}},null,null,"氏　　　名",{"$f":"IF(P52=\"\",\"\",VLOOKUP(P52,名簿女子!$A$2:$K$101,3))","v":{"$error":"#N/A"}},{"$f":"IF(#REF!=\"\",\"\",VLOOKUP(#REF!,名簿男子!$A$2:$I$41,3))","v":{"$error":"#REF!"}},null,null,null,"氏　　　名",{"$f":"IF(V52=\"\",\"\",VLOOKUP(V52,名簿女子!$A$2:$K$101,3))","v":{"$error":"#N/A"}},{"$f":"IF(#REF!=\"\",\"\",VLOOKUP(#REF!,名簿男子!$A$2:$I$41,3))","v":{"$error":"#REF!"}},null,null,"氏　　　名",{"$f":"IF(AA52=\"\",\"\",VLOOKUP(AA52,名簿女子!$A$2:$K$101,3))","v":{"$error":"#N/A"}},{"$f":"IF(#REF!=\"\",\"\",VLOOKUP(#REF!,名簿男子!$A$2:$I$41,3))","v":{"$error":"#REF!"}},null,null,null,"氏　　　名",{"$f":"IF(AG52=\"\",\"\",VLOOKUP(AG52,名簿女子!$A$2:$K$101,3))","v":{"$error":"#N/A"}},{"$f":"IF(#REF!=\"\",\"\",VLOOKUP(#REF!,名簿男子!$A$2:$I$41,3))","v":{"$error":"#REF!"}},null,null,"氏　　　名",{"$f":"IF(AL52=\"\",\"\",VLOOKUP(AL52,名簿女子!$A$2:$K$101,3))","v":{"$error":"#N/A"}},{"$f":"IF(#REF!=\"\",\"\",VLOOKUP(#REF!,名簿男子!$A$2:$I$41,3))","v":{"$error":"#REF!"}},null,null,null,"氏　　　名",{"$f":"IF(AR52=\"\",\"\",VLOOKUP(AR52,名簿女子!$A$2:$K$101,3))","v":{"$error":"#N/A"}},{"$f":"IF(#REF!=\"\",\"\",VLOOKUP(#REF!,名簿男子!$A$2:$I$41,3))","v":{"$error":"#REF!"}},null,null,"氏　　　名",{"$f":"IF(AW52=\"\",\"\",VLOOKUP(AW52,名簿女子!$A$2:$K$101,3))","v":{"$error":"#N/A"}},{"$f":"IF(#REF!=\"\",\"\",VLOOKUP(#REF!,名簿男子!$A$2:$I$41,3))","v":{"$error":"#REF!"}},null,null,null,"氏　　　名",{"$f":"IF(BC52=\"\",\"\",VLOOKUP(BC52,名簿女子!$A$2:$K$101,3))","v":{"$error":"#N/A"}},{"$f":"IF(#REF!=\"\",\"\",VLOOKUP(#REF!,名簿男子!$A$2:$I$41,3))","v":{"$error":"#REF!"}},null,null,"氏　　　名",{"$f":"IF(BH52=\"\",\"\",VLOOKUP(BH52,名簿女子!$A$2:$K$101,3))","v":{"$error":"#N/A"}},{"$f":"IF(#REF!=\"\",\"\",VLOOKUP(#REF!,名簿男子!$A$2:$I$41,3))","v":{"$error":"#REF!"}},null,null,null,"氏　　　名",{"$f":"IF(BN52=\"\",\"\",VLOOKUP(BN52,名簿女子!$A$2:$K$101,3))","v":{"$error":"#N/A"}},{"$f":"IF(#REF!=\"\",\"\",VLOOKUP(#REF!,名簿男子!$A$2:$I$41,3))","v":{"$error":"#REF!"}},null,null,"氏　　　名",{"$f":"IF(BS52=\"\",\"\",VLOOKUP(BS52,名簿女子!$A$2:$K$101,3))","v":{"$error":"#N/A"}},{"$f":"IF(#REF!=\"\",\"\",VLOOKUP(#REF!,名簿男子!$A$2:$I$41,3))","v":{"$error":"#REF!"}},null,null,null,"氏　　　名",{"$f":"IF(BY52=\"\",\"\",VLOOKUP(BY52,名簿女子!$A$2:$K$101,3))","v":{"$error":"#N/A"}},{"$f":"IF(#REF!=\"\",\"\",VLOOKUP(#REF!,名簿男子!$A$2:$I$41,3))","v":{"$error":"#REF!"}},null,null,"氏　　　名",{"$f":"IF(CD52=\"\",\"\",VLOOKUP(CD52,名簿女子!$A$2:$K$101,3))","v":{"$error":"#N/A"}},{"$f":"IF(#REF!=\"\",\"\",VLOOKUP(#REF!,名簿男子!$A$2:$I$41,3))","v":{"$error":"#REF!"}},null,null,null,"氏　　　名",{"$f":"IF(CJ52=\"\",\"\",VLOOKUP(CJ52,名簿女子!$A$2:$K$101,3))","v":{"$error":"#N/A"}},{"$f":"IF(#REF!=\"\",\"\",VLOOKUP(#REF!,名簿男子!$A$2:$I$41,3))","v":{"$error":"#REF!"}}]
["所　　　属",{"$f":"様式１女子!E4","v":0},null,"学　　年",{"$f":"IF(E52=\"\",\"\",VLOOKUP(E52,名簿女子!$A$2:$K$101,6))","v":{"$error":"#N/A"}},null,"所　　　属",{"$f":"様式１女子!E4","v":0},null,"学　　年",{"$f":"IF(K52=\"\",\"\",VLOOKUP(K52,名簿女子!$A$2:$K$101,6))","v":{"$error":"#N/A"}},"所　　　属",{"$f":"様式１女子!E4","v":0},null,"学　　年",{"$f":"IF(P52=\"\",\"\",VLOOKUP(P52,名簿女子!$A$2:$K$101,6))","v":{"$error":"#N/A"}},null,"所　　　属",{"$f":"様式１女子!E4","v":0},null,"学　　年",{"$f":"IF(V52=\"\",\"\",VLOOKUP(V52,名簿女子!$A$2:$K$101,6))","v":{"$error":"#N/A"}},"所　　　属",{"$f":"様式１女子!E4","v":0},null,"学　　年",{"$f":"IF(AA52=\"\",\"\",VLOOKUP(AA52,名簿女子!$A$2:$K$101,6))","v":{"$error":"#N/A"}},null,"所　　　属",{"$f":"様式１女子!E4","v":0},null,"学　　年",{"$f":"IF(AG52=\"\",\"\",VLOOKUP(AG52,名簿女子!$A$2:$K$101,6))","v":{"$error":"#N/A"}},"所　　　属",{"$f":"様式１女子!E4","v":0},null,"学　　年",{"$f":"IF(AL52=\"\",\"\",VLOOKUP(AL52,名簿女子!$A$2:$K$101,6))","v":{"$error":"#N/A"}},null,"所　　　属",{"$f":"様式１女子!E4","v":0},null,"学　　年",{"$f":"IF(AR52=\"\",\"\",VLOOKUP(AR52,名簿女子!$A$2:$K$101,6))","v":{"$error":"#N/A"}},"所　　　属",{"$f":"様式１女子!E4","v":0},null,"学　　年",{"$f":"IF(AW52=\"\",\"\",VLOOKUP(AW52,名簿女子!$A$2:$K$101,6))","v":{"$error":"#N/A"}},null,"所　　　属",{"$f":"様式１女子!E4","v":0},null,"学　　年",{"$f":"IF(BC52=\"\",\"\",VLOOKUP(BC52,名簿女子!$A$2:$K$101,6))","v":{"$error":"#N/A"}},"所　　　属",{"$f":"様式１女子!E4","v":0},null,"学　　年",{"$f":"IF(BH52=\"\",\"\",VLOOKUP(BH52,名簿女子!$A$2:$K$101,6))","v":{"$error":"#N/A"}},null,"所　　　属",{"$f":"様式１女子!E4","v":0},null,"学　　年",{"$f":"IF(BN52=\"\",\"\",VLOOKUP(BN52,名簿女子!$A$2:$K$101,6))","v":{"$error":"#N/A"}},"所　　　属",{"$f":"様式１女子!E4","v":0},null,"学　　年",{"$f":"IF(BS52=\"\",\"\",VLOOKUP(BS52,名簿女子!$A$2:$K$101,6))","v":{"$error":"#N/A"}},null,"所　　　属",{"$f":"様式１女子!E4","v":0},null,"学　　年",{"$f":"IF(BY52=\"\",\"\",VLOOKUP(BY52,名簿女子!$A$2:$K$101,6))","v":{"$error":"#N/A"}},"所　　　属",{"$f":"様式１女子!E4","v":0},null,"学　　年",{"$f":"IF(CD52=\"\",\"\",VLOOKUP(CD52,名簿女子!$A$2:$K$101,6))","v":{"$error":"#N/A"}},null,"所　　　属",{"$f":"様式１女子!E4","v":0},null,"学　　年",{"$f":"IF(CJ52=\"\",\"\",VLOOKUP(CJ52,名簿女子!$A$2:$K$101,6))","v":{"$error":"#N/A"}}]
["学　　　校",null,null,"年　　齢",null,null,"学　　　校",null,null,"年　　齢",null,"学　　　校",null,null,"年　　齢",null,null,"学　　　校",null,null,"年　　齢",null,"学　　　校",null,null,"年　　齢",null,null,"学　　　校",null,null,"年　　齢",null,"学　　　校",null,null,"年　　齢",null,null,"学　　　校",null,null,"年　　齢",null,"学　　　校",null,null,"年　　齢",null,null,"学　　　校",null,null,"年　　齢",null,"学　　　校",null,null,"年　　齢",null,null,"学　　　校",null,null,"年　　齢",null,"学　　　校",null,null,"年　　齢",null,null,"学　　　校",null,null,"年　　齢",null,"学　　　校",null,null,"年　　齢",null,null,"学　　　校",null,null,"年　　齢"]
["種　　　目",{"$f":"IF(E52=\"\",\"\",VLOOKUP(E52,名簿女子!$A$2:$K$101,9))","v":{"$error":"#N/A"}},null,null,null,null,"種　　　目",{"$f":"IF(K52=\"\",\"\",VLOOKUP(K52,名簿女子!$A$2:$K$101,9))","v":{"$error":"#N/A"}},null,null,null,"種　　　目",{"$f":"IF(P52=\"\",\"\",VLOOKUP(P52,名簿女子!$A$2:$K$101,9))","v":{"$error":"#N/A"}},null,null,null,null,"種　　　目",{"$f":"IF(V52=\"\",\"\",VLOOKUP(V52,名簿女子!$A$2:$K$101,9))","v":{"$error":"#N/A"}},null,null,null,"種　　　目",{"$f":"IF(AA52=\"\",\"\",VLOOKUP(AA52,名簿女子!$A$2:$K$101,9))","v":{"$error":"#N/A"}},null,null,null,null,"種　　　目",{"$f":"IF(AG52=\"\",\"\",VLOOKUP(AG52,名簿女子!$A$2:$K$101,9))","v":{"$error":"#N/A"}},null,null,null,"種　　　目",{"$f":"IF(AL52=\"\",\"\",VLOOKUP(AL52,名簿女子!$A$2:$K$101,9))","v":{"$error":"#N/A"}},null,null,null,null,"種　　　目",{"$f":"IF(AR52=\"\",\"\",VLOOKUP(AR52,名簿女子!$A$2:$K$101,9))","v":{"$error":"#N/A"}},null,null,null,"種　　　目",{"$f":"IF(AW52=\"\",\"\",VLOOKUP(AW52,名簿女子!$A$2:$K$101,9))","v":{"$error":"#N/A"}},null,null,null,null,"種　　　目",{"$f":"IF(BC52=\"\",\"\",VLOOKUP(BC52,名簿女子!$A$2:$K$101,9))","v":{"$error":"#N/A"}},null,null,null,"種　　　目",{"$f":"IF(BH52=\"\",\"\",VLOOKUP(BH52,名簿女子!$A$2:$K$101,9))","v":{"$error":"#N/A"}},null,null,null,null,"種　　　目",{"$f":"IF(BN52=\"\",\"\",VLOOKUP(BN52,名簿女子!$A$2:$K$101,9))","v":{"$error":"#N/A"}},null,null,null,"種　　　目",{"$f":"IF(BS52=\"\",\"\",VLOOKUP(BS52,名簿女子!$A$2:$K$101,9))","v":{"$error":"#N/A"}},null,null,null,null,"種　　　目",{"$f":"IF(BY52=\"\",\"\",VLOOKUP(BY52,名簿女子!$A$2:$K$101,9))","v":{"$error":"#N/A"}},null,null,null,"種　　　目",{"$f":"IF(CD52=\"\",\"\",VLOOKUP(CD52,名簿女子!$A$2:$K$101,9))","v":{"$error":"#N/A"}},null,null,null,null,"種　　　目",{"$f":"IF(CJ52=\"\",\"\",VLOOKUP(CJ52,名簿女子!$A$2:$K$101,9))","v":{"$error":"#N/A"}}]
["最高記録",{"$f":"IF(E52=\"\",\"\",VLOOKUP(E52,名簿女子!$A$2:$K$101,10))","v":{"$error":"#N/A"}},"大　会　名　・　年　度",null,null,null,"最高記録",{"$f":"IF(K52=\"\",\"\",VLOOKUP(K52,名簿女子!$A$2:$K$101,10))","v":{"$error":"#N/A"}},"大　会　名　・　年　度",null,null,"最高記録",{"$f":"IF(P52=\"\",\"\",VLOOKUP(P52,名簿女子!$A$2:$K$101,10))","v":{"$error":"#N/A"}},"大　会　名　・　年　度",null,null,null,"最高記録",{"$f":"IF(V52=\"\",\"\",VLOOKUP(V52,名簿女子!$A$2:$K$101,10))","v":{"$error":"#N/A"}},"大　会　名　・　年　度",null,null,"最高記録",{"$f":"IF(AA52=\"\",\"\",VLOOKUP(AA52,名簿女子!$A$2:$K$101,10))","v":{"$error":"#N/A"}},"大　会　名　・　年　度",null,null,null,"最高記録",{"$f":"IF(AG52=\"\",\"\",VLOOKUP(AG52,名簿女子!$A$2:$K$101,10))","v":{"$error":"#N/A"}},"大　会　名　・　年　度",null,null,"最高記録",{"$f":"IF(AL52=\"\",\"\",VLOOKUP(AL52,名簿女子!$A$2:$K$101,10))","v":{"$error":"#N/A"}},"大　会　名　・　年　度",null,null,null,"最高記録",{"$f":"IF(AR52=\"\",\"\",VLOOKUP(AR52,名簿女子!$A$2:$K$101,10))","v":{"$error":"#N/A"}},"大　会　名　・　年　度",null,null,"最高記録",{"$f":"IF(AW52=\"\",\"\",VLOOKUP(AW52,名簿女子!$A$2:$K$101,10))","v":{"$error":"#N/A"}},"大　会　名　・　年　度",null,null,null,"最高記録",{"$f":"IF(BC52=\"\",\"\",VLOOKUP(BC52,名簿女子!$A$2:$K$101,10))","v":{"$error":"#N/A"}},"大　会　名　・　年　度",null,null,"最高記録",{"$f":"IF(BH52=\"\",\"\",VLOOKUP(BH52,名簿女子!$A$2:$K$101,10))","v":{"$error":"#N/A"}},"大　会　名　・　年　度",null,null,null,"最高記録",{"$f":"IF(BN52=\"\",\"\",VLOOKUP(BN52,名簿女子!$A$2:$K$101,10))","v":{"$error":"#N/A"}},"大　会　名　・　年　度",null,null,"最高記録",{"$f":"IF(BS52=\"\",\"\",VLOOKUP(BS52,名簿女子!$A$2:$K$101,10))","v":{"$error":"#N/A"}},"大　会　名　・　年　度",null,null,null,"最高記録",{"$f":"IF(BY52=\"\",\"\",VLOOKUP(BY52,名簿女子!$A$2:$K$101,10))","v":{"$error":"#N/A"}},"大　会　名　・　年　度",null,null,"最高記録",{"$f":"IF(CD52=\"\",\"\",VLOOKUP(CD52,名簿女子!$A$2:$K$101,10))","v":{"$error":"#N/A"}},"大　会　名　・　年　度",null,null,null,"最高記録",{"$f":"IF(CJ52=\"\",\"\",VLOOKUP(CJ52,名簿女子!$A$2:$K$101,10))","v":{"$error":"#N/A"}},"大　会　名　・　年　度"]
[null,null,{"$f":"IF(E52=\"\",\"\",VLOOKUP(E52,名簿女子!$A$2:$K$101,11))","v":{"$error":"#N/A"}},null,null,null,null,null,{"$f":"IF(K52=\"\",\"\",VLOOKUP(K52,名簿女子!$A$2:$K$101,11))","v":{"$error":"#N/A"}},null,null,null,null,{"$f":"IF(P52=\"\",\"\",VLOOKUP(P52,名簿女子!$A$2:$K$101,11))","v":{"$error":"#N/A"}},null,null,null,null,null,{"$f":"IF(V52=\"\",\"\",VLOOKUP(V52,名簿女子!$A$2:$K$101,11))","v":{"$error":"#N/A"}},null,null,null,null,{"$f":"IF(AA52=\"\",\"\",VLOOKUP(AA52,名簿女子!$A$2:$K$101,11))","v":{"$error":"#N/A"}},null,null,null,null,null,{"$f":"IF(AG52=\"\",\"\",VLOOKUP(AG52,名簿女子!$A$2:$K$101,11))","v":{"$error":"#N/A"}},null,null,null,null,{"$f":"IF(AL52=\"\",\"\",VLOOKUP(AL52,名簿女子!$A$2:$K$101,11))","v":{"$error":"#N/A"}},null,null,null,null,null,{"$f":"IF(AR52=\"\",\"\",VLOOKUP(AR52,名簿女子!$A$2:$K$101,11))","v":{"$error":"#N/A"}},null,null,null,null,{"$f":"IF(AW52=\"\",\"\",VLOOKUP(AW52,名簿女子!$A$2:$K$101,11))","v":{"$error":"#N/A"}},null,null,null,null,null,{"$f":"IF(BC52=\"\",\"\",VLOOKUP(BC52,名簿女子!$A$2:$K$101,11))","v":{"$error":"#N/A"}},null,null,null,null,{"$f":"IF(BH52=\"\",\"\",VLOOKUP(BH52,名簿女子!$A$2:$K$101,11))","v":{"$error":"#N/A"}},null,null,null,null,null,{"$f":"IF(BN52=\"\",\"\",VLOOKUP(BN52,名簿女子!$A$2:$K$101,11))","v":{"$error":"#N/A"}},null,null,null,null,{"$f":"IF(BS52=\"\",\"\",VLOOKUP(BS52,名簿女子!$A$2:$K$101,11))","v":{"$error":"#N/A"}},null,null,null,null,null,{"$f":"IF(BY52=\"\",\"\",VLOOKUP(BY52,名簿女子!$A$2:$K$101,11))","v":{"$error":"#N/A"}},null,null,null,null,{"$f":"IF(CD52=\"\",\"\",VLOOKUP(CD52,名簿女子!$A$2:$K$101,11))","v":{"$error":"#N/A"}},null,null,null,null,null,{"$f":"IF(CJ52=\"\",\"\",VLOOKUP(CJ52,名簿女子!$A$2:$K$101,11))","v":{"$error":"#N/A"}}]
["ナンバー",{"$f":"IF(E52=\"\",\"\",VLOOKUP(E52,名簿女子!$A$2:$K$101,2))","v":{"$error":"#N/A"}},null,null,null,null,"ナンバー",{"$f":"IF(K52=\"\",\"\",VLOOKUP(K52,名簿女子!$A$2:$K$101,2))","v":{"$error":"#N/A"}},null,null,null,"ナンバー",{"$f":"IF(P52=\"\",\"\",VLOOKUP(P52,名簿女子!$A$2:$K$101,2))","v":{"$error":"#N/A"}},null,null,null,null,"ナンバー",{"$f":"IF(V52=\"\",\"\",VLOOKUP(V52,名簿女子!$A$2:$K$101,2))","v":{"$error":"#N/A"}},null,null,null,"ナンバー",{"$f":"IF(AA52=\"\",\"\",VLOOKUP(AA52,名簿女子!$A$2:$K$101,2))","v":{"$error":"#N/A"}},null,null,null,null,"ナンバー",{"$f":"IF(AG52=\"\",\"\",VLOOKUP(AG52,名簿女子!$A$2:$K$101,2))","v":{"$error":"#N/A"}},null,null,null,"ナンバー",{"$f":"IF(AL52=\"\",\"\",VLOOKUP(AL52,名簿女子!$A$2:$K$101,2))","v":{"$error":"#N/A"}},null,null,null,null,"ナンバー",{"$f":"IF(AR52=\"\",\"\",VLOOKUP(AR52,名簿女子!$A$2:$K$101,2))","v":{"$error":"#N/A"}},null,null,null,"ナンバー",{"$f":"IF(AW52=\"\",\"\",VLOOKUP(AW52,名簿女子!$A$2:$K$101,2))","v":{"$error":"#N/A"}},null,null,null,null,"ナンバー",{"$f":"IF(BC52=\"\",\"\",VLOOKUP(BC52,名簿女子!$A$2:$K$101,2))","v":{"$error":"#N/A"}},null,null,null,"ナンバー",{"$f":"IF(BH52=\"\",\"\",VLOOKUP(BH52,名簿女子!$A$2:$K$101,2))","v":{"$error":"#N/A"}},null,null,null,null,"ナンバー",{"$f":"IF(BN52=\"\",\"\",VLOOKUP(BN52,名簿女子!$A$2:$K$101,2))","v":{"$error":"#N/A"}},null,null,null,"ナンバー",{"$f":"IF(BS52=\"\",\"\",VLOOKUP(BS52,名簿女子!$A$2:$K$101,2))","v":{"$error":"#N/A"}},null,null,null,null,"ナンバー",{"$f":"IF(BY52=\"\",\"\",VLOOKUP(BY52,名簿女子!$A$2:$K$101,2))","v":{"$error":"#N/A"}},null,null,null,"ナンバー",{"$f":"IF(CD52=\"\",\"\",VLOOKUP(CD52,名簿女子!$A$2:$K$101,2))","v":{"$error":"#N/A"}},null,null,null,null,"ナンバー",{"$f":"IF(CJ52=\"\",\"\",VLOOKUP(CJ52,名簿女子!$A$2:$K$101,2))","v":{"$error":"#N/A"}}]
[]
["※女子は朱書きのこと",null,null,null,null,null,"※女子は朱書きのこと",null,null,null,null,"※女子は朱書きのこと",null,null,null,null,null,"※女子は朱書きのこと",null,null,null,null,"※女子は朱書きのこと",null,null,null,null,null,"※女子は朱書きのこと",null,null,null,null,"※女子は朱書きのこと",null,null,null,null,null,"※女子は朱書きのこと",null,null,null,null,"※女子は朱書きのこと",null,null,null,null,null,"※女子は朱書きのこと",null,null,null,null,"※女子は朱書きのこと",null,null,null,null,null,"※女子は朱書きのこと",null,null,null,null,"※女子は朱書きのこと",null,null,null,null,null,"※女子は朱書きのこと",null,null,null,null,"※女子は朱書きのこと",null,null,null,null,null,"※女子は朱書きのこと"]
["（ふりがな）",{"$f":"IF(E53=\"\",\"\",VLOOKUP(E53,名簿女子!$A$2:$K$101,4))","v":{"$error":"#N/A"}},{"$f":"IF(#REF!=\"\",\"\",VLOOKUP(#REF!,名簿男子!$A$2:$I$41,4))","v":{"$error":"#REF!"}},"性　　別","男　・　女",null,"（ふりがな）",{"$f":"IF(K53=\"\",\"\",VLOOKUP(K53,名簿女子!$A$2:$K$101,4))","v":{"$error":"#N/A"}},{"$f":"IF(#REF!=\"\",\"\",VLOOKUP(#REF!,名簿男子!$A$2:$I$41,4))","v":{"$error":"#REF!"}},"性　　別","男　・　女","（ふりがな）",{"$f":"IF(P53=\"\",\"\",VLOOKUP(P53,名簿女子!$A$2:$K$101,4))","v":{"$error":"#N/A"}},{"$f":"IF(#REF!=\"\",\"\",VLOOKUP(#REF!,名簿男子!$A$2:$I$41,4))","v":{"$error":"#REF!"}},"性　　別","男　・　女",null,"（ふりがな）",{"$f":"IF(V53=\"\",\"\",VLOOKUP(V53,名簿女子!$A$2:$K$101,4))","v":{"$error":"#N/A"}},{"$f":"IF(#REF!=\"\",\"\",VLOOKUP(#REF!,名簿男子!$A$2:$I$41,4))","v":{"$error":"#REF!"}},"性　　別","男　・　女","（ふりがな）",{"$f":"IF(AA53=\"\",\"\",VLOOKUP(AA53,名簿女子!$A$2:$K$101,4))","v":{"$error":"#N/A"}},{"$f":"IF(#REF!=\"\",\"\",VLOOKUP(#REF!,名簿男子!$A$2:$I$41,4))","v":{"$error":"#REF!"}},"性　　別","男　・　女",null,"（ふりがな）",{"$f":"IF(AG53=\"\",\"\",VLOOKUP(AG53,名簿女子!$A$2:$K$101,4))","v":{"$error":"#N/A"}},{"$f":"IF(#REF!=\"\",\"\",VLOOKUP(#REF!,名簿男子!$A$2:$I$41,4))","v":{"$error":"#REF!"}},"性　　別","男　・　女","（ふりがな）",{"$f":"IF(AL53=\"\",\"\",VLOOKUP(AL53,名簿女子!$A$2:$K$101,4))","v":{"$error":"#N/A"}},{"$f":"IF(#REF!=\"\",\"\",VLOOKUP(#REF!,名簿男子!$A$2:$I$41,4))","v":{"$error":"#REF!"}},"性　　別","男　・　女",null,"（ふりがな）",{"$f":"IF(AR53=\"\",\"\",VLOOKUP(AR53,名簿女子!$A$2:$K$101,4))","v":{"$error":"#N/A"}},{"$f":"IF(#REF!=\"\",\"\",VLOOKUP(#REF!,名簿男子!$A$2:$I$41,4))","v":{"$error":"#REF!"}},"性　　別","男　・　女","（ふりがな）",{"$f":"IF(AW53=\"\",\"\",VLOOKUP(AW53,名簿女子!$A$2:$K$101,4))","v":{"$error":"#N/A"}},{"$f":"IF(#REF!=\"\",\"\",VLOOKUP(#REF!,名簿男子!$A$2:$I$41,4))","v":{"$error":"#REF!"}},"性　　別","男　・　女",null,"（ふりがな）",{"$f":"IF(BC53=\"\",\"\",VLOOKUP(BC53,名簿女子!$A$2:$K$101,4))","v":{"$error":"#N/A"}},{"$f":"IF(#REF!=\"\",\"\",VLOOKUP(#REF!,名簿男子!$A$2:$I$41,4))","v":{"$error":"#REF!"}},"性　　別","男　・　女","（ふりがな）",{"$f":"IF(BH53=\"\",\"\",VLOOKUP(BH53,名簿女子!$A$2:$K$101,4))","v":{"$error":"#N/A"}},{"$f":"IF(#REF!=\"\",\"\",VLOOKUP(#REF!,名簿男子!$A$2:$I$41,4))","v":{"$error":"#REF!"}},"性　　別","男　・　女",null,"（ふりがな）",{"$f":"IF(BN53=\"\",\"\",VLOOKUP(BN53,名簿女子!$A$2:$K$101,4))","v":{"$error":"#N/A"}},{"$f":"IF(#REF!=\"\",\"\",VLOOKUP(#REF!,名簿男子!$A$2:$I$41,4))","v":{"$error":"#REF!"}},"性　　別","男　・　女","（ふりがな）",{"$f":"IF(BS53=\"\",\"\",VLOOKUP(BS53,名簿女子!$A$2:$K$101,4))","v":{"$error":"#N/A"}},{"$f":"IF(#REF!=\"\",\"\",VLOOKUP(#REF!,名簿男子!$A$2:$I$41,4))","v":{"$error":"#REF!"}},"性　　別","男　・　女",null,"（ふりがな）",{"$f":"IF(BY53=\"\",\"\",VLOOKUP(BY53,名簿女子!$A$2:$K$101,4))","v":{"$error":"#N/A"}},{"$f":"IF(#REF!=\"\",\"\",VLOOKUP(#REF!,名簿男子!$A$2:$I$41,4))","v":{"$error":"#REF!"}},"性　　別","男　・　女","（ふりがな）",{"$f":"IF(CD53=\"\",\"\",VLOOKUP(CD53,名簿女子!$A$2:$K$101,4))","v":{"$error":"#N/A"}},{"$f":"IF(#REF!=\"\",\"\",VLOOKUP(#REF!,名簿男子!$A$2:$I$41,4))","v":{"$error":"#REF!"}},"性　　別","男　・　女",null,"（ふりがな）",{"$f":"IF(CJ53=\"\",\"\",VLOOKUP(CJ53,名簿女子!$A$2:$K$101,4))","v":{"$error":"#N/A"}},{"$f":"IF(#REF!=\"\",\"\",VLOOKUP(#REF!,名簿男子!$A$2:$I$41,4))","v":{"$error":"#REF!"}},"性　　別","男　・　女"]
["氏　　　名",{"$f":"IF(E53=\"\",\"\",VLOOKUP(E53,名簿女子!$A$2:$K$101,3))","v":{"$error":"#N/A"}},{"$f":"IF(#REF!=\"\",\"\",VLOOKUP(#REF!,名簿男子!$A$2:$I$41,3))","v":{"$error":"#REF!"}},null,null,null,"氏　　　名",{"$f":"IF(K53=\"\",\"\",VLOOKUP(K53,名簿女子!$A$2:$K$101,3))","v":{"$error":"#N/A"}},{"$f":"IF(#REF!=\"\",\"\",VLOOKUP(#REF!,名簿男子!$A$2:$I$41,3))","v":{"$error":"#REF!"}},null,null,"氏　　　名",{"$f":"IF(P53=\"\",\"\",VLOOKUP(P53,名簿女子!$A$2:$K$101,3))","v":{"$error":"#N/A"}},{"$f":"IF(#REF!=\"\",\"\",VLOOKUP(#REF!,名簿男子!$A$2:$I$41,3))","v":{"$error":"#REF!"}},null,null,null,"氏　　　名",{"$f":"IF(V53=\"\",\"\",VLOOKUP(V53,名簿女子!$A$2:$K$101,3))","v":{"$error":"#N/A"}},{"$f":"IF(#REF!=\"\",\"\",VLOOKUP(#REF!,名簿男子!$A$2:$I$41,3))","v":{"$error":"#REF!"}},null,null,"氏　　　名",{"$f":"IF(AA53=\"\",\"\",VLOOKUP(AA53,名簿女子!$A$2:$K$101,3))","v":{"$error":"#N/A"}},{"$f":"IF(#REF!=\"\",\"\",VLOOKUP(#REF!,名簿男子!$A$2:$I$41,3))","v":{"$error":"#REF!"}},null,null,null,"氏　　　名",{"$f":"IF(AG53=\"\",\"\",VLOOKUP(AG53,名簿女子!$A$2:$K$101,3))","v":{"$error":"#N/A"}},{"$f":"IF(#REF!=\"\",\"\",VLOOKUP(#REF!,名簿男子!$A$2:$I$41,3))","v":{"$error":"#REF!"}},null,null,"氏　　　名",{"$f":"IF(AL53=\"\",\"\",VLOOKUP(AL53,名簿女子!$A$2:$K$101,3))","v":{"$error":"#N/A"}},{"$f":"IF(#REF!=\"\",\"\",VLOOKUP(#REF!,名簿男子!$A$2:$I$41,3))","v":{"$error":"#REF!"}},null,null,null,"氏　　　名",{"$f":"IF(AR53=\"\",\"\",VLOOKUP(AR53,名簿女子!$A$2:$K$101,3))","v":{"$error":"#N/A"}},{"$f":"IF(#REF!=\"\",\"\",VLOOKUP(#REF!,名簿男子!$A$2:$I$41,3))","v":{"$error":"#REF!"}},null,null,"氏　　　名",{"$f":"IF(AW53=\"\",\"\",VLOOKUP(AW53,名簿女子!$A$2:$K$101,3))","v":{"$error":"#N/A"}},{"$f":"IF(#REF!=\"\",\"\",VLOOKUP(#REF!,名簿男子!$A$2:$I$41,3))","v":{"$error":"#REF!"}},null,null,null,"氏　　　名",{"$f":"IF(BC53=\"\",\"\",VLOOKUP(BC53,名簿女子!$A$2:$K$101,3))","v":{"$error":"#N/A"}},{"$f":"IF(#REF!=\"\",\"\",VLOOKUP(#REF!,名簿男子!$A$2:$I$41,3))","v":{"$error":"#REF!"}},null,null,"氏　　　名",{"$f":"IF(BH53=\"\",\"\",VLOOKUP(BH53,名簿女子!$A$2:$K$101,3))","v":{"$error":"#N/A"}},{"$f":"IF(#REF!=\"\",\"\",VLOOKUP(#REF!,名簿男子!$A$2:$I$41,3))","v":{"$error":"#REF!"}},null,null,null,"氏　　　名",{"$f":"IF(BN53=\"\",\"\",VLOOKUP(BN53,名簿女子!$A$2:$K$101,3))","v":{"$error":"#N/A"}},{"$f":"IF(#REF!=\"\",\"\",VLOOKUP(#REF!,名簿男子!$A$2:$I$41,3))","v":{"$error":"#REF!"}},null,null,"氏　　　名",{"$f":"IF(BS53=\"\",\"\",VLOOKUP(BS53,名簿女子!$A$2:$K$101,3))","v":{"$error":"#N/A"}},{"$f":"IF(#REF!=\"\",\"\",VLOOKUP(#REF!,名簿男子!$A$2:$I$41,3))","v":{"$error":"#REF!"}},null,null,null,"氏　　　名",{"$f":"IF(BY53=\"\",\"\",VLOOKUP(BY53,名簿女子!$A$2:$K$101,3))","v":{"$error":"#N/A"}},{"$f":"IF(#REF!=\"\",\"\",VLOOKUP(#REF!,名簿男子!$A$2:$I$41,3))","v":{"$error":"#REF!"}},null,null,"氏　　　名",{"$f":"IF(CD53=\"\",\"\",VLOOKUP(CD53,名簿女子!$A$2:$K$101,3))","v":{"$error":"#N/A"}},{"$f":"IF(#REF!=\"\",\"\",VLOOKUP(#REF!,名簿男子!$A$2:$I$41,3))","v":{"$error":"#REF!"}},null,null,null,"氏　　　名",{"$f":"IF(CJ53=\"\",\"\",VLOOKUP(CJ53,名簿女子!$A$2:$K$101,3))","v":{"$error":"#N/A"}},{"$f":"IF(#REF!=\"\",\"\",VLOOKUP(#REF!,名簿男子!$A$2:$I$41,3))","v":{"$error":"#REF!"}}]
["所　　　属",{"$f":"様式１女子!E4","v":0},null,"学　　年",{"$f":"IF(E53=\"\",\"\",VLOOKUP(E53,名簿女子!$A$2:$K$101,6))","v":{"$error":"#N/A"}},null,"所　　　属",{"$f":"様式１女子!E4","v":0},null,"学　　年",{"$f":"IF(K53=\"\",\"\",VLOOKUP(K53,名簿女子!$A$2:$K$101,6))","v":{"$error":"#N/A"}},"所　　　属",{"$f":"様式１女子!E4","v":0},null,"学　　年",{"$f":"IF(P53=\"\",\"\",VLOOKUP(P53,名簿女子!$A$2:$K$101,6))","v":{"$error":"#N/A"}},null,"所　　　属",{"$f":"様式１女子!E4","v":0},null,"学　　年",{"$f":"IF(V53=\"\",\"\",VLOOKUP(V53,名簿女子!$A$2:$K$101,6))","v":{"$error":"#N/A"}},"所　　　属",{"$f":"様式１女子!E4","v":0},null,"学　　年",{"$f":"IF(AA53=\"\",\"\",VLOOKUP(AA53,名簿女子!$A$2:$K$101,6))","v":{"$error":"#N/A"}},null,"所　　　属",{"$f":"様式１女子!E4","v":0},null,"学　　年",{"$f":"IF(AG53=\"\",\"\",VLOOKUP(AG53,名簿女子!$A$2:$K$101,6))","v":{"$error":"#N/A"}},"所　　　属",{"$f":"様式１女子!E4","v":0},null,"学　　年",{"$f":"IF(AL53=\"\",\"\",VLOOKUP(AL53,名簿女子!$A$2:$K$101,6))","v":{"$error":"#N/A"}},null,"所　　　属",{"$f":"様式１女子!E4","v":0},null,"学　　年",{"$f":"IF(AR53=\"\",\"\",VLOOKUP(AR53,名簿女子!$A$2:$K$101,6))","v":{"$error":"#N/A"}},"所　　　属",{"$f":"様式１女子!E4","v":0},null,"学　　年",{"$f":"IF(AW53=\"\",\"\",VLOOKUP(AW53,名簿女子!$A$2:$K$101,6))","v":{"$error":"#N/A"}},null,"所　　　属",{"$f":"様式１女子!E4","v":0},null,"学　　年",{"$f":"IF(BC53=\"\",\"\",VLOOKUP(BC53,名簿女子!$A$2:$K$101,6))","v":{"$error":"#N/A"}},"所　　　属",{"$f":"様式１女子!E4","v":0},null,"学　　年",{"$f":"IF(BH53=\"\",\"\",VLOOKUP(BH53,名簿女子!$A$2:$K$101,6))","v":{"$error":"#N/A"}},null,"所　　　属",{"$f":"様式１女子!E4","v":0},null,"学　　年",{"$f":"IF(BN53=\"\",\"\",VLOOKUP(BN53,名簿女子!$A$2:$K$101,6))","v":{"$error":"#N/A"}},"所　　　属",{"$f":"様式１女子!E4","v":0},null,"学　　年",{"$f":"IF(BS53=\"\",\"\",VLOOKUP(BS53,名簿女子!$A$2:$K$101,6))","v":{"$error":"#N/A"}},null,"所　　　属",{"$f":"様式１女子!E4","v":0},null,"学　　年",{"$f":"IF(BY53=\"\",\"\",VLOOKUP(BY53,名簿女子!$A$2:$K$101,6))","v":{"$error":"#N/A"}},"所　　　属",{"$f":"様式１女子!E4","v":0},null,"学　　年",{"$f":"IF(CD53=\"\",\"\",VLOOKUP(CD53,名簿女子!$A$2:$K$101,6))","v":{"$error":"#N/A"}},null,"所　　　属",{"$f":"様式１女子!E4","v":0},null,"学　　年",{"$f":"IF(CJ53=\"\",\"\",VLOOKUP(CJ53,名簿女子!$A$2:$K$101,6))","v":{"$error":"#N/A"}}]
["学　　　校",null,null,"年　　齢",null,null,"学　　　校",null,null,"年　　齢",null,"学　　　校",null,null,"年　　齢",null,null,"学　　　校",null,null,"年　　齢",null,"学　　　校",null,null,"年　　齢",null,null,"学　　　校",null,null,"年　　齢",null,"学　　　校",null,null,"年　　齢",null,null,"学　　　校",null,null,"年　　齢",null,"学　　　校",null,null,"年　　齢",null,null,"学　　　校",null,null,"年　　齢",null,"学　　　校",null,null,"年　　齢",null,null,"学　　　校",null,null,"年　　齢",null,"学　　　校",null,null,"年　　齢",null,null,"学　　　校",null,null,"年　　齢",null,"学　　　校",null,null,"年　　齢",null,null,"学　　　校",null,null,"年　　齢"]
["種　　　目",{"$f":"IF(E53=\"\",\"\",VLOOKUP(E53,名簿女子!$A$2:$K$101,9))","v":{"$error":"#N/A"}},null,null,null,null,"種　　　目",{"$f":"IF(K53=\"\",\"\",VLOOKUP(K53,名簿女子!$A$2:$K$101,9))","v":{"$error":"#N/A"}},null,null,null,"種　　　目",{"$f":"IF(P53=\"\",\"\",VLOOKUP(P53,名簿女子!$A$2:$K$101,9))","v":{"$error":"#N/A"}},null,null,null,null,"種　　　目",{"$f":"IF(V53=\"\",\"\",VLOOKUP(V53,名簿女子!$A$2:$K$101,9))","v":{"$error":"#N/A"}},null,null,null,"種　　　目",{"$f":"IF(AA53=\"\",\"\",VLOOKUP(AA53,名簿女子!$A$2:$K$101,9))","v":{"$error":"#N/A"}},null,null,null,null,"種　　　目",{"$f":"IF(AG53=\"\",\"\",VLOOKUP(AG53,名簿女子!$A$2:$K$101,9))","v":{"$error":"#N/A"}},null,null,null,"種　　　目",{"$f":"IF(AL53=\"\",\"\",VLOOKUP(AL53,名簿女子!$A$2:$K$101,9))","v":{"$error":"#N/A"}},null,null,null,null,"種　　　目",{"$f":"IF(AR53=\"\",\"\",VLOOKUP(AR53,名簿女子!$A$2:$K$101,9))","v":{"$error":"#N/A"}},null,null,null,"種　　　目",{"$f":"IF(AW53=\"\",\"\",VLOOKUP(AW53,名簿女子!$A$2:$K$101,9))","v":{"$error":"#N/A"}},null,null,null,null,"種　　　目",{"$f":"IF(BC53=\"\",\"\",VLOOKUP(BC53,名簿女子!$A$2:$K$101,9))","v":{"$error":"#N/A"}},null,null,null,"種　　　目",{"$f":"IF(BH53=\"\",\"\",VLOOKUP(BH53,名簿女子!$A$2:$K$101,9))","v":{"$error":"#N/A"}},null,null,null,null,"種　　　目",{"$f":"IF(BN53=\"\",\"\",VLOOKUP(BN53,名簿女子!$A$2:$K$101,9))","v":{"$error":"#N/A"}},null,null,null,"種　　　目",{"$f":"IF(BS53=\"\",\"\",VLOOKUP(BS53,名簿女子!$A$2:$K$101,9))","v":{"$error":"#N/A"}},null,null,null,null,"種　　　目",{"$f":"IF(BY53=\"\",\"\",VLOOKUP(BY53,名簿女子!$A$2:$K$101,9))","v":{"$error":"#N/A"}},null,null,null,"種　　　目",{"$f":"IF(CD53=\"\",\"\",VLOOKUP(CD53,名簿女子!$A$2:$K$101,9))","v":{"$error":"#N/A"}},null,null,null,null,"種　　　目",{"$f":"IF(CJ53=\"\",\"\",VLOOKUP(CJ53,名簿女子!$A$2:$K$101,9))","v":{"$error":"#N/A"}}]
["最高記録",{"$f":"IF(E53=\"\",\"\",VLOOKUP(E53,名簿女子!$A$2:$K$101,10))","v":{"$error":"#N/A"}},"大　会　名　・　年　度",null,null,null,"最高記録",{"$f":"IF(K53=\"\",\"\",VLOOKUP(K53,名簿女子!$A$2:$K$101,10))","v":{"$error":"#N/A"}},"大　会　名　・　年　度",null,null,"最高記録",{"$f":"IF(P53=\"\",\"\",VLOOKUP(P53,名簿女子!$A$2:$K$101,10))","v":{"$error":"#N/A"}},"大　会　名　・　年　度",null,null,null,"最高記録",{"$f":"IF(V53=\"\",\"\",VLOOKUP(V53,名簿女子!$A$2:$K$101,10))","v":{"$error":"#N/A"}},"大　会　名　・　年　度",null,null,"最高記録",{"$f":"IF(AA53=\"\",\"\",VLOOKUP(AA53,名簿女子!$A$2:$K$101,10))","v":{"$error":"#N/A"}},"大　会　名　・　年　度",null,null,null,"最高記録",{"$f":"IF(AG53=\"\",\"\",VLOOKUP(AG53,名簿女子!$A$2:$K$101,10))","v":{"$error":"#N/A"}},"大　会　名　・　年　度",null,null,"最高記録",{"$f":"IF(AL53=\"\",\"\",VLOOKUP(AL53,名簿女子!$A$2:$K$101,10))","v":{"$error":"#N/A"}},"大　会　名　・　年　度",null,null,null,"最高記録",{"$f":"IF(AR53=\"\",\"\",VLOOKUP(AR53,名簿女子!$A$2:$K$101,10))","v":{"$error":"#N/A"}},"大　会　名　・　年　度",null,null,"最高記録",{"$f":"IF(AW53=\"\",\"\",VLOOKUP(AW53,名簿女子!$A$2:$K$101,10))","v":{"$error":"#N/A"}},"大　会　名　・　年　度",null,null,null,"最高記録",{"$f":"IF(BC53=\"\",\"\",VLOOKUP(BC53,名簿女子!$A$2:$K$101,10))","v":{"$error":"#N/A"}},"大　会　名　・　年　度",null,null,"最高記録",{"$f":"IF(BH53=\"\",\"\",VLOOKUP(BH53,名簿女子!$A$2:$K$101,10))","v":{"$error":"#N/A"}},"大　会　名　・　年　度",null,null,null,"最高記録",{"$f":"IF(BN53=\"\",\"\",VLOOKUP(BN53,名簿女子!$A$2:$K$101,10))","v":{"$error":"#N/A"}},"大　会　名　・　年　度",null,null,"最高記録",{"$f":"IF(BS53=\"\",\"\",VLOOKUP(BS53,名簿女子!$A$2:$K$101,10))","v":{"$error":"#N/A"}},"大　会　名　・　年　度",null,null,null,"最高記録",{"$f":"IF(BY53=\"\",\"\",VLOOKUP(BY53,名簿女子!$A$2:$K$101,10))","v":{"$error":"#N/A"}},"大　会　名　・　年　度",null,null,"最高記録",{"$f":"IF(CD53=\"\",\"\",VLOOKUP(CD53,名簿女子!$A$2:$K$101,10))","v":{"$error":"#N/A"}},"大　会　名　・　年　度",null,null,null,"最高記録",{"$f":"IF(CJ53=\"\",\"\",VLOOKUP(CJ53,名簿女子!$A$2:$K$101,10))","v":{"$error":"#N/A"}},"大　会　名　・　年　度"]
[null,null,{"$f":"IF(E53=\"\",\"\",VLOOKUP(E53,名簿女子!$A$2:$K$101,11))","v":{"$error":"#N/A"}},null,null,null,null,null,{"$f":"IF(K53=\"\",\"\",VLOOKUP(K53,名簿女子!$A$2:$K$101,11))","v":{"$error":"#N/A"}},null,null,null,null,{"$f":"IF(P53=\"\",\"\",VLOOKUP(P53,名簿女子!$A$2:$K$101,11))","v":{"$error":"#N/A"}},null,null,null,null,null,{"$f":"IF(V53=\"\",\"\",VLOOKUP(V53,名簿女子!$A$2:$K$101,11))","v":{"$error":"#N/A"}},null,null,null,null,{"$f":"IF(AA53=\"\",\"\",VLOOKUP(AA53,名簿女子!$A$2:$K$101,11))","v":{"$error":"#N/A"}},null,null,null,null,null,{"$f":"IF(AG53=\"\",\"\",VLOOKUP(AG53,名簿女子!$A$2:$K$101,11))","v":{"$error":"#N/A"}},null,null,null,null,{"$f":"IF(AL53=\"\",\"\",VLOOKUP(AL53,名簿女子!$A$2:$K$101,11))","v":{"$error":"#N/A"}},null,null,null,null,null,{"$f":"IF(AR53=\"\",\"\",VLOOKUP(AR53,名簿女子!$A$2:$K$101,11))","v":{"$error":"#N/A"}},null,null,null,null,{"$f":"IF(AW53=\"\",\"\",VLOOKUP(AW53,名簿女子!$A$2:$K$101,11))","v":{"$error":"#N/A"}},null,null,null,null,null,{"$f":"IF(BC53=\"\",\"\",VLOOKUP(BC53,名簿女子!$A$2:$K$101,11))","v":{"$error":"#N/A"}},null,null,null,null,{"$f":"IF(BH53=\"\",\"\",VLOOKUP(BH53,名簿女子!$A$2:$K$101,11))","v":{"$error":"#N/A"}},null,null,null,null,null,{"$f":"IF(BN53=\"\",\"\",VLOOKUP(BN53,名簿女子!$A$2:$K$101,11))","v":{"$error":"#N/A"}},null,null,null,null,{"$f":"IF(BS53=\"\",\"\",VLOOKUP(BS53,名簿女子!$A$2:$K$101,11))","v":{"$error":"#N/A"}},null,null,null,null,null,{"$f":"IF(BY53=\"\",\"\",VLOOKUP(BY53,名簿女子!$A$2:$K$101,11))","v":{"$error":"#N/A"}},null,null,null,null,{"$f":"IF(CD53=\"\",\"\",VLOOKUP(CD53,名簿女子!$A$2:$K$101,11))","v":{"$error":"#N/A"}},null,null,null,null,null,{"$f":"IF(CJ53=\"\",\"\",VLOOKUP(CJ53,名簿女子!$A$2:$K$101,11))","v":{"$error":"#N/A"}}]
["ナンバー",{"$f":"IF(E53=\"\",\"\",VLOOKUP(E53,名簿女子!$A$2:$K$101,2))","v":{"$error":"#N/A"}},null,null,null,null,"ナンバー",{"$f":"IF(K53=\"\",\"\",VLOOKUP(K53,名簿女子!$A$2:$K$101,2))","v":{"$error":"#N/A"}},null,null,null,"ナンバー",{"$f":"IF(P53=\"\",\"\",VLOOKUP(P53,名簿女子!$A$2:$K$101,2))","v":{"$error":"#N/A"}},null,null,null,null,"ナンバー",{"$f":"IF(V53=\"\",\"\",VLOOKUP(V53,名簿女子!$A$2:$K$101,2))","v":{"$error":"#N/A"}},null,null,null,"ナンバー",{"$f":"IF(AA53=\"\",\"\",VLOOKUP(AA53,名簿女子!$A$2:$K$101,2))","v":{"$error":"#N/A"}},null,null,null,null,"ナンバー",{"$f":"IF(AG53=\"\",\"\",VLOOKUP(AG53,名簿女子!$A$2:$K$101,2))","v":{"$error":"#N/A"}},null,null,null,"ナンバー",{"$f":"IF(AL53=\"\",\"\",VLOOKUP(AL53,名簿女子!$A$2:$K$101,2))","v":{"$error":"#N/A"}},null,null,null,null,"ナンバー",{"$f":"IF(AR53=\"\",\"\",VLOOKUP(AR53,名簿女子!$A$2:$K$101,2))","v":{"$error":"#N/A"}},null,null,null,"ナンバー",{"$f":"IF(AW53=\"\",\"\",VLOOKUP(AW53,名簿女子!$A$2:$K$101,2))","v":{"$error":"#N/A"}},null,null,null,null,"ナンバー",{"$f":"IF(BC53=\"\",\"\",VLOOKUP(BC53,名簿女子!$A$2:$K$101,2))","v":{"$error":"#N/A"}},null,null,null,"ナンバー",{"$f":"IF(BH53=\"\",\"\",VLOOKUP(BH53,名簿女子!$A$2:$K$101,2))","v":{"$error":"#N/A"}},null,null,null,null,"ナンバー",{"$f":"IF(BN53=\"\",\"\",VLOOKUP(BN53,名簿女子!$A$2:$K$101,2))","v":{"$error":"#N/A"}},null,null,null,"ナンバー",{"$f":"IF(BS53=\"\",\"\",VLOOKUP(BS53,名簿女子!$A$2:$K$101,2))","v":{"$error":"#N/A"}},null,null,null,null,"ナンバー",{"$f":"IF(BY53=\"\",\"\",VLOOKUP(BY53,名簿女子!$A$2:$K$101,2))","v":{"$error":"#N/A"}},null,null,null,"ナンバー",{"$f":"IF(CD53=\"\",\"\",VLOOKUP(CD53,名簿女子!$A$2:$K$101,2))","v":{"$error":"#N/A"}},null,null,null,null,"ナンバー",{"$f":"IF(CJ53=\"\",\"\",VLOOKUP(CJ53,名簿女子!$A$2:$K$101,2))","v":{"$error":"#N/A"}}]
[]
[]
[]
[]
[]
[]
[]
[]
[1,1,1,null,{"$f":"C50","v":1},null,null,null,null,null,{"$f":"C54","v":0},null,null,null,null,{"$f":"C58","v":0},null,null,null,null,null,{"$f":"C62","v":0},null,null,null,null,{"$f":"C66","v":0},null,null,null,null,null,{"$f":"C70","v":0},null,null,null,null,{"$f":"C74","v":0},null,null,null,null,null,{"$f":"C78","v":0},null,null,null,null,{"$f":"C82","v":0},null,null,null,null,null,{"$f":"C86","v":0},null,null,null,null,{"$f":"C90","v":0},null,null,null,null,null,{"$f":"C94","v":0},null,null,null,null,{"$f":"C98","v":0},null,null,null,null,null,{"$f":"C102","v":0},null,null,null,null,{"$f":"C106","v":0},null,null,null,null,null,{"$f":"C110","v":0}]
[null,2,2,null,{"$f":"C51","v":2},null,null,null,null,null,{"$f":"C55","v":0},null,null,null,null,{"$f":"C59","v":0},null,null,null,null,null,{"$f":"C63","v":0},null,null,null,null,{"$f":"C67","v":0},null,null,null,null,null,{"$f":"C71","v":0},null,null,null,null,{"$f":"C75","v":0},null,null,null,null,null,{"$f":"C79","v":0},null,null,null,null,{"$f":"C83","v":0},null,null,null,null,null,{"$f":"C87","v":0},null,null,null,null,{"$f":"C91","v":0},null,null,null,null,null,{"$f":"C95","v":0},null,null,null,null,{"$f":"C99","v":0},null,null,null,null,null,{"$f":"C103","v":0},null,null,null,null,{"$f":"C107","v":0},null,null,null,null,null,{"$f":"C111","v":0}]
[null,null,null,null,0,null,null,null,null,null,0,null,null,null,null,0,null,null,null,null,null,0,null,null,null,null,0,null,null,null,null,null,0,null,null,null,null,0,null,null,null,null,null,0,null,null,null,null,0,null,null,null,null,null,0,null,null,null,null,0,null,null,null,null,null,0,null,null,null,null,0,null,null,null,null,null,0,null,null,null,null,0,null,null,null,null,null,0]
[null,null,null,null,0,null,null,null,null,null,0,null,null,null,null,0,null,null,null,null,null,0,null,null,null,null,0,null,null,null,null,null,0,null,null,null,null,0,null,null,null,null,null,0,null,null,null,null,0,null,null,null,null,null,0,null,null,null,null,0,null,null,null,null,null,0,null,null,null,null,0,null,null,null,null,null,0,null,null,null,null,0,null,null,null,null,null,0]
[]
[]
[]
[]
[]
[]
[]
[]
[]
[]
[]
[]
[]
[]
[]
[]
[]
[]
[]
[]
[]
[]
[]
[]
[]
[]
[]
[]
[]
[]
[]
[]
[]
[]
[]
[]
[]
[]
[]
[]
[]
[]
[]
[]
[]
[]
[2]

{"sheet":"東山・名和ｼｽﾃﾑ用選手ﾃﾞｰﾀ女子","index":8,"n_rows":27,"n_cols":8,"rows_kept":27,"cut":false,"hidden":false,"merged":[[0,0,0,1],[0,2,0,5],[0,7,5,9]]}
["入力方法をよく読んで\n入力すること",null,"選手出場データ女子（必須）",null,null,null,null,"※黄色いセルに必要事項を入力する。\n\n※選手データ提出ファイルに、値のみ貼り付けをする。"]
["ナンバー\n（半角数字）","競技者名(外字不可)\n(姓と名の間に半角ｽﾍﾟｰｽ)","氏名ﾌﾘｶﾞﾅ\n(半角ｶﾅ)\n姓名間半角ｽﾍﾟｰｽ","学年\n(半角)","学校名・所属名\n(○○小･○○中･○○高)\n(ｱﾙﾌｧﾍﾞｯﾄ・ｶﾀｶﾅは半角)","学校名・所属名\nﾌﾘｶﾞﾅ(半角ｶﾅ)","都道\n府県"]
[{"$f":"様式１女子!A9","v":""},{"$f":"VLOOKUP($A3,名簿女子!$B$2:$H$101,2,0)","v":{"$error":"#N/A"}},{"$f":"VLOOKUP($A3,名簿女子!$B$2:$H$101,4,0)","v":{"$error":"#N/A"}},{"$f":"VLOOKUP($A3,名簿女子!$B$2:$H$101,5,0)","v":{"$error":"#N/A"}},null,null,"鳥取"]
[{"$f":"様式１女子!A11","v":""},{"$f":"VLOOKUP($A4,名簿女子!$B$2:$H$101,2,0)","v":{"$error":"#N/A"}},{"$f":"VLOOKUP($A4,名簿女子!$B$2:$H$101,4,0)","v":{"$error":"#N/A"}},{"$f":"VLOOKUP($A4,名簿女子!$B$2:$H$101,5,0)","v":{"$error":"#N/A"}},{"$f":"$E$3","v":0},{"$f":"$F$3","v":0},{"$f":"$G$3","v":"鳥取"}]
[{"$f":"様式１女子!A13","v":""},{"$f":"VLOOKUP($A5,名簿女子!$B$2:$H$101,2,0)","v":{"$error":"#N/A"}},{"$f":"VLOOKUP($A5,名簿女子!$B$2:$H$101,4,0)","v":{"$error":"#N/A"}},{"$f":"VLOOKUP($A5,名簿女子!$B$2:$H$101,5,0)","v":{"$error":"#N/A"}},{"$f":"$E$3","v":0},{"$f":"$F$3","v":0},{"$f":"$G$3","v":"鳥取"}]
[{"$f":"様式１女子!A15","v":""},{"$f":"VLOOKUP($A6,名簿女子!$B$2:$H$101,2,0)","v":{"$error":"#N/A"}},{"$f":"VLOOKUP($A6,名簿女子!$B$2:$H$101,4,0)","v":{"$error":"#N/A"}},{"$f":"VLOOKUP($A6,名簿女子!$B$2:$H$101,5,0)","v":{"$error":"#N/A"}},0,0,"鳥取"]
[{"$f":"様式１女子!A17","v":""},{"$f":"VLOOKUP($A7,名簿女子!$B$2:$H$101,2,0)","v":{"$error":"#N/A"}},{"$f":"VLOOKUP($A7,名簿女子!$B$2:$H$101,4,0)","v":{"$error":"#N/A"}},{"$f":"VLOOKUP($A7,名簿女子!$B$2:$H$101,5,0)","v":{"$error":"#N/A"}},0,0,"鳥取"]
[{"$f":"様式１女子!A19","v":""},{"$f":"VLOOKUP($A8,名簿女子!$B$2:$H$101,2,0)","v":{"$error":"#N/A"}},{"$f":"VLOOKUP($A8,名簿女子!$B$2:$H$101,4,0)","v":{"$error":"#N/A"}},{"$f":"VLOOKUP($A8,名簿女子!$B$2:$H$101,5,0)","v":{"$error":"#N/A"}},0,0,"鳥取"]
[{"$f":"様式１女子!A21","v":""},{"$f":"VLOOKUP($A9,名簿女子!$B$2:$H$101,2,0)","v":{"$error":"#N/A"}},{"$f":"VLOOKUP($A9,名簿女子!$B$2:$H$101,4,0)","v":{"$error":"#N/A"}},{"$f":"VLOOKUP($A9,名簿女子!$B$2:$H$101,5,0)","v":{"$error":"#N/A"}},0,0,"鳥取"]
[{"$f":"様式１女子!A23","v":""},{"$f":"VLOOKUP($A10,名簿女子!$B$2:$H$101,2,0)","v":{"$error":"#N/A"}},{"$f":"VLOOKUP($A10,名簿女子!$B$2:$H$101,4,0)","v":{"$error":"#N/A"}},{"$f":"VLOOKUP($A10,名簿女子!$B$2:$H$101,5,0)","v":{"$error":"#N/A"}},0,0,"鳥取"]
[{"$f":"様式１女子!A25","v":""},{"$f":"VLOOKUP($A11,名簿女子!$B$2:$H$101,2,0)","v":{"$error":"#N/A"}},{"$f":"VLOOKUP($A11,名簿女子!$B$2:$H$101,4,0)","v":{"$error":"#N/A"}},{"$f":"VLOOKUP($A11,名簿女子!$B$2:$H$101,5,0)","v":{"$error":"#N/A"}},0,0,"鳥取"]
[{"$f":"様式１女子!A27","v":""},{"$f":"VLOOKUP($A12,名簿女子!$B$2:$H$101,2,0)","v":{"$error":"#N/A"}},{"$f":"VLOOKUP($A12,名簿女子!$B$2:$H$101,4,0)","v":{"$error":"#N/A"}},{"$f":"VLOOKUP($A12,名簿女子!$B$2:$H$101,5,0)","v":{"$error":"#N/A"}},0,0,"鳥取"]
[{"$f":"様式１女子!A29","v":""},{"$f":"VLOOKUP($A13,名簿女子!$B$2:$H$101,2,0)","v":{"$error":"#N/A"}},{"$f":"VLOOKUP($A13,名簿女子!$B$2:$H$101,4,0)","v":{"$error":"#N/A"}},{"$f":"VLOOKUP($A13,名簿女子!$B$2:$H$101,5,0)","v":{"$error":"#N/A"}},0,0,"鳥取"]
[{"$f":"様式１女子!A31","v":""},{"$f":"VLOOKUP($A14,名簿女子!$B$2:$H$101,2,0)","v":{"$error":"#N/A"}},{"$f":"VLOOKUP($A14,名簿女子!$B$2:$H$101,4,0)","v":{"$error":"#N/A"}},{"$f":"VLOOKUP($A14,名簿女子!$B$2:$H$101,5,0)","v":{"$error":"#N/A"}},0,0,"鳥取"]
[{"$f":"様式１女子!A33","v":""},{"$f":"VLOOKUP($A15,名簿女子!$B$2:$H$101,2,0)","v":{"$error":"#N/A"}},{"$f":"VLOOKUP($A15,名簿女子!$B$2:$H$101,4,0)","v":{"$error":"#N/A"}},{"$f":"VLOOKUP($A15,名簿女子!$B$2:$H$101,5,0)","v":{"$error":"#N/A"}},0,0,"鳥取"]
[{"$f":"様式１女子!A35","v":""},{"$f":"VLOOKUP($A16,名簿女子!$B$2:$H$101,2,0)","v":{"$error":"#N/A"}},{"$f":"VLOOKUP($A16,名簿女子!$B$2:$H$101,4,0)","v":{"$error":"#N/A"}},{"$f":"VLOOKUP($A16,名簿女子!$B$2:$H$101,5,0)","v":{"$error":"#N/A"}},0,0,"鳥取"]
[{"$f":"様式１女子!A37","v":""},{"$f":"VLOOKUP($A17,名簿女子!$B$2:$H$101,2,0)","v":{"$error":"#N/A"}},{"$f":"VLOOKUP($A17,名簿女子!$B$2:$H$101,4,0)","v":{"$error":"#N/A"}},{"$f":"VLOOKUP($A17,名簿女子!$B$2:$H$101,5,0)","v":{"$error":"#N/A"}},0,0,"鳥取"]
[{"$f":"様式１女子!A39","v":""},{"$f":"VLOOKUP($A18,名簿女子!$B$2:$H$101,2,0)","v":{"$error":"#N/A"}},{"$f":"VLOOKUP($A18,名簿女子!$B$2:$H$101,4,0)","v":{"$error":"#N/A"}},{"$f":"VLOOKUP($A18,名簿女子!$B$2:$H$101,5,0)","v":{"$error":"#N/A"}},0,0,"鳥取"]
[{"$f":"様式１女子!A41","v":""},{"$f":"VLOOKUP($A19,名簿女子!$B$2:$H$101,2,0)","v":{"$error":"#N/A"}},{"$f":"VLOOKUP($A19,名簿女子!$B$2:$H$101,4,0)","v":{"$error":"#N/A"}},{"$f":"VLOOKUP($A19,名簿女子!$B$2:$H$101,5,0)","v":{"$error":"#N/A"}},0,0,"鳥取"]
[{"$f":"様式１女子!A43","v":""},{"$f":"VLOOKUP($A20,名簿女子!$B$2:$H$101,2,0)","v":{"$error":"#N/A"}},{"$f":"VLOOKUP($A20,名簿女子!$B$2:$H$101,4,0)","v":{"$error":"#N/A"}},{"$f":"VLOOKUP($A20,名簿女子!$B$2:$H$101,5,0)","v":{"$error":"#N/A"}},0,0,"鳥取"]
[{"$f":"様式１女子!A45","v":""},{"$f":"VLOOKUP($A21,名簿女子!$B$2:$H$101,2,0)","v":{"$error":"#N/A"}},{"$f":"VLOOKUP($A21,名簿女子!$B$2:$H$101,4,0)","v":{"$error":"#N/A"}},{"$f":"VLOOKUP($A21,名簿女子!$B$2:$H$101,5,0)","v":{"$error":"#N/A"}},0,0,"鳥取"]
[{"$f":"様式１女子!A47","v":""},{"$f":"VLOOKUP($A22,名簿女子!$B$2:$H$101,2,0)","v":{"$error":"#N/A"}},{"$f":"VLOOKUP($A22,名簿女子!$B$2:$H$101,4,0)","v":{"$error":"#N/A"}},{"$f":"VLOOKUP($A22,名簿女子!$B$2:$H$101,5,0)","v":{"$error":"#N/A"}},0,0,"鳥取"]
[{"$f":"様式１女子!A49","v":""},{"$f":"VLOOKUP($A23,名簿女子!$B$2:$H$101,2,0)","v":{"$error":"#N/A"}},{"$f":"VLOOKUP($A23,名簿女子!$B$2:$H$101,4,0)","v":{"$error":"#N/A"}},{"$f":"VLOOKUP($A23,名簿女子!$B$2:$H$101,5,0)","v":{"$error":"#N/A"}},0,0,"鳥取"]
[{"$f":"様式１女子!A51","v":""},{"$f":"VLOOKUP($A24,名簿女子!$B$2:$H$101,2,0)","v":{"$error":"#N/A"}},{"$f":"VLOOKUP($A24,名簿女子!$B$2:$H$101,4,0)","v":{"$error":"#N/A"}},{"$f":"VLOOKUP($A24,名簿女子!$B$2:$H$101,5,0)","v":{"$error":"#N/A"}},0,0,"鳥取"]
[{"$f":"様式１女子!A53","v":""},{"$f":"VLOOKUP($A25,名簿女子!$B$2:$H$101,2,0)","v":{"$error":"#N/A"}},{"$f":"VLOOKUP($A25,名簿女子!$B$2:$H$101,4,0)","v":{"$error":"#N/A"}},{"$f":"VLOOKUP($A25,名簿女子!$B$2:$H$101,5,0)","v":{"$error":"#N/A"}},0,0,"鳥取"]
[{"$f":"様式１女子!A55","v":""},{"$f":"VLOOKUP($A26,名簿女子!$B$2:$H$101,2,0)","v":{"$error":"#N/A"}},{"$f":"VLOOKUP($A26,名簿女子!$B$2:$H$101,4,0)","v":{"$error":"#N/A"}},{"$f":"VLOOKUP($A26,名簿女子!$B$2:$H$101,5,0)","v":{"$error":"#N/A"}},0,0,"鳥取"]
[{"$f":"様式１女子!A57","v":""},{"$f":"VLOOKUP($A27,名簿女子!$B$2:$H$101,2,0)","v":{"$error":"#N/A"}},{"$f":"VLOOKUP($A27,名簿女子!$B$2:$H$101,4,0)","v":{"$error":"#N/A"}},{"$f":"VLOOKUP($A27,名簿女子!$B$2:$H$101,5,0)","v":{"$error":"#N/A"}},0,0,"鳥取"]

{"sheet":"様式２リレー","index":9,"n_rows":101,"n_cols":27,"rows_kept":101,"cut":false,"hidden":false,"merged":[[46,1,46,3],[46,7,46,9],[47,2,47,3],[47,8,47,9],[48,2,48,3],[48,8,48,9],[52,2,52,3],[52,8,52,9],[49,2,49,3],[49,8,49,9],[50,2,50,3],[50,8,50,9],[51,2,51,3],[51,8,51,9],[38,8,38,9],[44,0,44,4],[44,6,44,10],[45,1,45,2],[45,7,45,8],[38,2,38,3],[35,2,35,3],[35,8,35,9],[36,2,36,3],[36,8,36,9],[37,2,37,3],[37,8,37,9],[32,1,32,3],[32,7,32,9],[33,2,33,3],[33,8,33,9],[34,2,34,3],[34,8,34,9],[31,1,31,2],[31,7,31,8],[4,7,4,9],[3,1,3,2],[3,7,3,8],[19,2,19,3],[19,8,19,9],[5,8,5,9],[4,1,4,3],[9,2,9,3],[10,2,10,3],[5,2,5,3],[16,0,16,4],[16,6,16,10],[18,1,18,3],[18,7,18,9],[1,12,2,14],[30,0,30,4],[30,6,30,10],[2,6,2,10],[2,0,2,4],[12,12,15,14],[20,2,20,3],[20,8,20,9],[6,2,6,3],[7,2,7,3],[8,2,8,3],[7,8,7,9],[8,8,8,9],[6,8,6,9],[17,1,17,2],[17,7,17,8],[9,8,9,9],[10,8,10,9],[21,2,21,3],[22,2,22,3],[23,2,23,3],[24,2,24,3],[21,8,21,9],[22,8,22,9],[23,8,23,9],[24,8,24,9]]}
["様式２",null,null,null,null,null,null,null,null,null,null,null,null,null,null,null,"入力\n番号","ナンバー","名　前","ふりがな","学年",null,"入力\n番号","ナンバー","名　前","ふりがな","学年"]
["※女子は朱書きのこと",null,null,null,null,null,"※女子は朱書きのこと",null,null,null,null,null,"右の入力番号を入力すると、選手の名前等が自動で入力される。",null,null,null,{"$f":"IF(名簿男子!A2=\"\",\"\",名簿男子!A2)","v":1},{"$f":"IF(名簿男子!B2=\"\",\"\",名簿男子!B2)","v":""},{"$f":"IF(名簿男子!C2=\"\",\"\",名簿男子!C2)","v":""},{"$f":"IF(名簿男子!E2=\"\",\"\",名簿男子!E2)","v":""},{"$f":"IF(名簿男子!F2=\"\",\"\",名簿男子!F2)","v":""},null,{"$f":"IF(名簿女子!A2=\"\",\"\",名簿女子!A2)","v":1},{"$f":"IF(名簿女子!B2=\"\",\"\",名簿女子!B2)","v":""},{"$f":"IF(名簿女子!C2=\"\",\"\",名簿女子!C2)","v":""},{"$f":"IF(名簿女子!E2=\"\",\"\",名簿女子!E2)","v":""},{"$f":"IF(名簿女子!F2=\"\",\"\",名簿女子!F2)","v":""}]
["　　４　　×　　　　100　　　ｍR　　　　　申込票　　　　　　　　　　　　　　　　　　　　男　・　女",null,null,null,null,null,"　　４　　×　　　　100　　　ｍR　　　　　申込票　　　　　　　　　　　　　　　　　　　　男　・　女",null,null,null,null,null,null,null,null,null,{"$f":"IF(名簿男子!A3=\"\",\"\",名簿男子!A3)","v":2},{"$f":"IF(名簿男子!B3=\"\",\"\",名簿男子!B3)","v":""},{"$f":"IF(名簿男子!C3=\"\",\"\",名簿男子!C3)","v":""},{"$f":"IF(名簿男子!E3=\"\",\"\",名簿男子!E3)","v":""},{"$f":"IF(名簿男子!F3=\"\",\"\",名簿男子!F3)","v":""},null,{"$f":"IF(名簿女子!A3=\"\",\"\",名簿女子!A3)","v":2},{"$f":"IF(名簿女子!B3=\"\",\"\",名簿女子!B3)","v":""},{"$f":"IF(名簿女子!C3=\"\",\"\",名簿女子!C3)","v":""},{"$f":"IF(名簿女子!E3=\"\",\"\",名簿女子!E3)","v":""},{"$f":"IF(名簿女子!F3=\"\",\"\",名簿女子!F3)","v":""}]
["所　　属",null,null,"最高タイム",null,null,"所　　属",null,null,"最高タイム",null,null,null,null,null,null,{"$f":"IF(名簿男子!A4=\"\",\"\",名簿男子!A4)","v":3},{"$f":"IF(名簿男子!B4=\"\",\"\",名簿男子!B4)","v":""},{"$f":"IF(名簿男子!C4=\"\",\"\",名簿男子!C4)","v":""},{"$f":"IF(名簿男子!E4=\"\",\"\",名簿男子!E4)","v":""},{"$f":"IF(名簿男子!F4=\"\",\"\",名簿男子!F4)","v":""},null,{"$f":"IF(名簿女子!A4=\"\",\"\",名簿女子!A4)","v":3},{"$f":"IF(名簿女子!B4=\"\",\"\",名簿女子!B4)","v":""},{"$f":"IF(名簿女子!C4=\"\",\"\",名簿女子!C4)","v":""},{"$f":"IF(名簿女子!E4=\"\",\"\",名簿女子!E4)","v":""},{"$f":"IF(名簿女子!F4=\"\",\"\",名簿女子!F4)","v":""}]
["ナンバー","氏　　　　　　名　　　（ふ　り　が　な）",null,null,"学　　年",null,"ナンバー","氏　　　　　　名　　　（ふ　り　が　な）",null,null,"学　　年",null,"入力番号",null,"入力番号",null,{"$f":"IF(名簿男子!A5=\"\",\"\",名簿男子!A5)","v":4},{"$f":"IF(名簿男子!B5=\"\",\"\",名簿男子!B5)","v":""},{"$f":"IF(名簿男子!C5=\"\",\"\",名簿男子!C5)","v":""},{"$f":"IF(名簿男子!E5=\"\",\"\",名簿男子!E5)","v":""},{"$f":"IF(名簿男子!F5=\"\",\"\",名簿男子!F5)","v":""},null,{"$f":"IF(名簿女子!A5=\"\",\"\",名簿女子!A5)","v":4},{"$f":"IF(名簿女子!B5=\"\",\"\",名簿女子!B5)","v":""},{"$f":"IF(名簿女子!C5=\"\",\"\",名簿女子!C5)","v":""},{"$f":"IF(名簿女子!E5=\"\",\"\",名簿女子!E5)","v":""},{"$f":"IF(名簿女子!F5=\"\",\"\",名簿女子!F5)","v":""}]
[{"$f":"IF(M6=\"\",\"\",VLOOKUP(M6,$Q$2:$U$101,2))","v":""},{"$f":"IF(M6=\"\",\"\",VLOOKUP(M6,$Q$2:$U$101,3))","v":""},{"$f":"IF(M6=\"\",\"\",VLOOKUP(M6,$Q$2:$U$101,4))","v":""},{"$f":"IF(P6=\"\",\"\",VLOOKUP(P6,$Q$2:$U$101,2))","v":""},{"$f":"IF(M6=\"\",\"\",VLOOKUP(M6,$Q$2:$U$101,5))","v":""},null,{"$f":"IF(O6=\"\",\"\",VLOOKUP(O6,$W$2:$AA$101,2))","v":""},{"$f":"IF(O6=\"\",\"\",VLOOKUP(O6,$W$2:$AA$101,3))","v":""},{"$f":"IF(O6=\"\",\"\",VLOOKUP(O6,$W$2:$AA$101,4))","v":""},{"$f":"IF(R6=\"\",\"\",VLOOKUP(R6,$W$2:$AA$101,2))","v":""},{"$f":"IF(O6=\"\",\"\",VLOOKUP(O6,$W$2:$AA$101,5))","v":""},null,2,null,1,null,{"$f":"IF(名簿男子!A6=\"\",\"\",名簿男子!A6)","v":5},{"$f":"IF(名簿男子!B6=\"\",\"\",名簿男子!B6)","v":""},{"$f":"IF(名簿男子!C6=\"\",\"\",名簿男子!C6)","v":""},{"$f":"IF(名簿男子!E6=\"\",\"\",名簿男子!E6)","v":""},{"$f":"IF(名簿男子!F6=\"\",\"\",名簿男子!F6)","v":""},null,{"$f":"IF(名簿女子!A6=\"\",\"\",名簿女子!A6)","v":5},{"$f":"IF(名簿女子!B6=\"\",\"\",名簿女子!B6)","v":""},{"$f":"IF(名簿女子!C6=\"\",\"\",名簿女子!C6)","v":""},{"$f":"IF(名簿女子!E6=\"\",\"\",名簿女子!E6)","v":""},{"$f":"IF(名簿女子!F6=\"\",\"\",名簿女子!F6)","v":""}]
[{"$f":"IF(M7=\"\",\"\",VLOOKUP(M7,$Q$2:$U$101,2))","v":""},{"$f":"IF(M7=\"\",\"\",VLOOKUP(M7,$Q$2:$U$101,3))","v":""},{"$f":"IF(M7=\"\",\"\",VLOOKUP(M7,$Q$2:$U$101,4))","v":""},{"$f":"IF(P7=\"\",\"\",VLOOKUP(P7,$Q$2:$U$101,2))","v":""},{"$f":"IF(M7=\"\",\"\",VLOOKUP(M7,$Q$2:$U$101,5))","v":""},null,"","","",{"$f":"IF(R7=\"\",\"\",VLOOKUP(R7,$W$2:$AA$101,2))","v":""},"",null,8,null,5,null,{"$f":"IF(名簿男子!A7=\"\",\"\",名簿男子!A7)","v":6},{"$f":"IF(名簿男子!B7=\"\",\"\",名簿男子!B7)","v":""},{"$f":"IF(名簿男子!C7=\"\",\"\",名簿男子!C7)","v":""},{"$f":"IF(名簿男子!E7=\"\",\"\",名簿男子!E7)","v":""},{"$f":"IF(名簿男子!F7=\"\",\"\",名簿男子!F7)","v":""},null,{"$f":"IF(名簿女子!A7=\"\",\"\",名簿女子!A7)","v":6},{"$f":"IF(名簿女子!B7=\"\",\"\",名簿女子!B7)","v":""},{"$f":"IF(名簿女子!C7=\"\",\"\",名簿女子!C7)","v":""},{"$f":"IF(名簿女子!E7=\"\",\"\",名簿女子!E7)","v":""},{"$f":"IF(名簿女子!F7=\"\",\"\",名簿女子!F7)","v":""}]
["","","","","",null,"","","","","",null,18,null,12,null,{"$f":"IF(名簿男子!A8=\"\",\"\",名簿男子!A8)","v":7},{"$f":"IF(名簿男子!B8=\"\",\"\",名簿男子!B8)","v":""},{"$f":"IF(名簿男子!C8=\"\",\"\",名簿男子!C8)","v":""},{"$f":"IF(名簿男子!E8=\"\",\"\",名簿男子!E8)","v":""},{"$f":"IF(名簿男子!F8=\"\",\"\",名簿男子!F8)","v":""},null,{"$f":"IF(名簿女子!A8=\"\",\"\",名簿女子!A8)","v":7},{"$f":"IF(名簿女子!B8=\"\",\"\",名簿女子!B8)","v":""},{"$f":"IF(名簿女子!C8=\"\",\"\",名簿女子!C8)","v":""},{"$f":"IF(名簿女子!E8=\"\",\"\",名簿女子!E8)","v":""},{"$f":"IF(名簿女子!F8=\"\",\"\",名簿女子!F8)","v":""}]
["","","","","",null,"","","","","",null,22,null,15,null,{"$f":"IF(名簿男子!A9=\"\",\"\",名簿男子!A9)","v":8},{"$f":"IF(名簿男子!B9=\"\",\"\",名簿男子!B9)","v":""},{"$f":"IF(名簿男子!C9=\"\",\"\",名簿男子!C9)","v":""},{"$f":"IF(名簿男子!E9=\"\",\"\",名簿男子!E9)","v":""},{"$f":"IF(名簿男子!F9=\"\",\"\",名簿男子!F9)","v":""},null,{"$f":"IF(名簿女子!A9=\"\",\"\",名簿女子!A9)","v":8},{"$f":"IF(名簿女子!B9=\"\",\"\",名簿女子!B9)","v":""},{"$f":"IF(名簿女子!C9=\"\",\"\",名簿女子!C9)","v":""},{"$f":"IF(名簿女子!E9=\"\",\"\",名簿女子!E9)","v":""},{"$f":"IF(名簿女子!F9=\"\",\"\",名簿女子!F9)","v":""}]
["","","","","",null,"","","","","",null,null,null,23,null,{"$f":"IF(名簿男子!A10=\"\",\"\",名簿男子!A10)","v":9},{"$f":"IF(名簿男子!B10=\"\",\"\",名簿男子!B10)","v":""},{"$f":"IF(名簿男子!C10=\"\",\"\",名簿男子!C10)","v":""},{"$f":"IF(名簿男子!E10=\"\",\"\",名簿男子!E10)","v":""},{"$f":"IF(名簿男子!F10=\"\",\"\",名簿男子!F10)","v":""},null,{"$f":"IF(名簿女子!A10=\"\",\"\",名簿女子!A10)","v":9},{"$f":"IF(名簿女子!B10=\"\",\"\",名簿女子!B10)","v":""},{"$f":"IF(名簿女子!C10=\"\",\"\",名簿女子!C10)","v":""},{"$f":"IF(名簿女子!E10=\"\",\"\",名簿女子!E10)","v":""},{"$f":"IF(名簿女子!F10=\"\",\"\",名簿女子!F10)","v":""}]
["","","","","",null,"","","","","",null,null,null,null,null,{"$f":"IF(名簿男子!A11=\"\",\"\",名簿男子!A11)","v":10},{"$f":"IF(名簿男子!B11=\"\",\"\",名簿男子!B11)","v":""},{"$f":"IF(名簿男子!C11=\"\",\"\",名簿男子!C11)","v":""},{"$f":"IF(名簿男子!E11=\"\",\"\",名簿男子!E11)","v":""},{"$f":"IF(名簿男子!F11=\"\",\"\",名簿男子!F11)","v":""},null,{"$f":"IF(名簿女子!A11=\"\",\"\",名簿女子!A11)","v":10},{"$f":"IF(名簿女子!B11=\"\",\"\",名簿女子!B11)","v":""},{"$f":"IF(名簿女子!C11=\"\",\"\",名簿女子!C11)","v":""},{"$f":"IF(名簿女子!E11=\"\",\"\",名簿女子!E11)","v":""},{"$f":"IF(名簿女子!F11=\"\",\"\",名簿女子!F11)","v":""}]
[null,null,null,null,null,null,null,null,null,null,null,null,null,null,null,null,{"$f":"IF(名簿男子!A12=\"\",\"\",名簿男子!A12)","v":11},{"$f":"IF(名簿男子!B12=\"\",\"\",名簿男子!B12)","v":""},{"$f":"IF(名簿男子!C12=\"\",\"\",名簿男子!C12)","v":""},{"$f":"IF(名簿男子!E12=\"\",\"\",名簿男子!E12)","v":""},{"$f":"IF(名簿男子!F12=\"\",\"\",名簿男子!F12)","v":""},null,{"$f":"IF(名簿女子!A12=\"\",\"\",名簿女子!A12)","v":11},{"$f":"IF(名簿女子!B12=\"\",\"\",名簿女子!B12)","v":""},{"$f":"IF(名簿女子!C12=\"\",\"\",名簿女子!C12)","v":""},{"$f":"IF(名簿女子!E12=\"\",\"\",名簿女子!E12)","v":""},{"$f":"IF(名簿女子!F12=\"\",\"\",名簿女子!F12)","v":""}]
[null,null,null,null,null,null,null,null,null,null,null,null,"種目名・所属・最高タイムは直接入力する。その他は自動入力される。",null,null,null,{"$f":"IF(名簿男子!A13=\"\",\"\",名簿男子!A13)","v":12},{"$f":"IF(名簿男子!B13=\"\",\"\",名簿男子!B13)","v":""},{"$f":"IF(名簿男子!C13=\"\",\"\",名簿男子!C13)","v":""},{"$f":"IF(名簿男子!E13=\"\",\"\",名簿男子!E13)","v":""},{"$f":"IF(名簿男子!F13=\"\",\"\",名簿男子!F13)","v":""},null,{"$f":"IF(名簿女子!A13=\"\",\"\",名簿女子!A13)","v":12},{"$f":"IF(名簿女子!B13=\"\",\"\",名簿女子!B13)","v":""},{"$f":"IF(名簿女子!C13=\"\",\"\",名簿女子!C13)","v":""},{"$f":"IF(名簿女子!E13=\"\",\"\",名簿女子!E13)","v":""},{"$f":"IF(名簿女子!F13=\"\",\"\",名簿女子!F13)","v":""}]
[null,null,null,null,null,null,null,null,null,null,null,null,null,null,null,null,{"$f":"IF(名簿男子!A14=\"\",\"\",名簿男子!A14)","v":13},{"$f":"IF(名簿男子!B14=\"\",\"\",名簿男子!B14)","v":""},{"$f":"IF(名簿男子!C14=\"\",\"\",名簿男子!C14)","v":""},{"$f":"IF(名簿男子!E14=\"\",\"\",名簿男子!E14)","v":""},{"$f":"IF(名簿男子!F14=\"\",\"\",名簿男子!F14)","v":""},null,{"$f":"IF(名簿女子!A14=\"\",\"\",名簿女子!A14)","v":13},{"$f":"IF(名簿女子!B14=\"\",\"\",名簿女子!B14)","v":""},{"$f":"IF(名簿女子!C14=\"\",\"\",名簿女子!C14)","v":""},{"$f":"IF(名簿女子!E14=\"\",\"\",名簿女子!E14)","v":""},{"$f":"IF(名簿女子!F14=\"\",\"\",名簿女子!F14)","v":""}]
[null,null,null,null,null,null,null,null,null,null,null,null,null,null,null,null,{"$f":"IF(名簿男子!A15=\"\",\"\",名簿男子!A15)","v":14},{"$f":"IF(名簿男子!B15=\"\",\"\",名簿男子!B15)","v":""},{"$f":"IF(名簿男子!C15=\"\",\"\",名簿男子!C15)","v":""},{"$f":"IF(名簿男子!E15=\"\",\"\",名簿男子!E15)","v":""},{"$f":"IF(名簿男子!F15=\"\",\"\",名簿男子!F15)","v":""},null,{"$f":"IF(名簿女子!A15=\"\",\"\",名簿女子!A15)","v":14},{"$f":"IF(名簿女子!B15=\"\",\"\",名簿女子!B15)","v":""},{"$f":"IF(名簿女子!C15=\"\",\"\",名簿女子!C15)","v":""},{"$f":"IF(名簿女子!E15=\"\",\"\",名簿女子!E15)","v":""},{"$f":"IF(名簿女子!F15=\"\",\"\",名簿女子!F15)","v":""}]
["※女子は朱書きのこと",null,null,null,null,null,"※女子は朱書きのこと",null,null,null,null,null,null,null,null,null,{"$f":"IF(名簿男子!A16=\"\",\"\",名簿男子!A16)","v":15},{"$f":"IF(名簿男子!B16=\"\",\"\",名簿男子!B16)","v":""},{"$f":"IF(名簿男子!C16=\"\",\"\",名簿男子!C16)","v":""},{"$f":"IF(名簿男子!E16=\"\",\"\",名簿男子!E16)","v":""},{"$f":"IF(名簿男子!F16=\"\",\"\",名簿男子!F16)","v":""},null,{"$f":"IF(名簿女子!A16=\"\",\"\",名簿女子!A16)","v":15},{"$f":"IF(名簿女子!B16=\"\",\"\",名簿女子!B16)","v":""},{"$f":"IF(名簿女子!C16=\"\",\"\",名簿女子!C16)","v":""},{"$f":"IF(名簿女子!E16=\"\",\"\",名簿女子!E16)","v":""},{"$f":"IF(名簿女子!F16=\"\",\"\",名簿女子!F16)","v":""}]
["　　低学年　４　×　100　　　ｍR　　　　　申込票　　　　　　　　　　　　　　　　　　男　・　女",null,null,null,null,null,"　　低学年　４　×　100　　　ｍR　　　　　申込票　　　　　　　　　　　　　　　　　　男　・　女",null,null,null,null,null,null,null,null,null,{"$f":"IF(名簿男子!A17=\"\",\"\",名簿男子!A17)","v":16},{"$f":"IF(名簿男子!B17=\"\",\"\",名簿男子!B17)","v":""},{"$f":"IF(名簿男子!C17=\"\",\"\",名簿男子!C17)","v":""},{"$f":"IF(名簿男子!E17=\"\",\"\",名簿男子!E17)","v":""},{"$f":"IF(名簿男子!F17=\"\",\"\",名簿男子!F17)","v":""},null,{"$f":"IF(名簿女子!A17=\"\",\"\",名簿女子!A17)","v":16},{"$f":"IF(名簿女子!B17=\"\",\"\",名簿女子!B17)","v":""},{"$f":"IF(名簿女子!C17=\"\",\"\",名簿女子!C17)","v":""},{"$f":"IF(名簿女子!E17=\"\",\"\",名簿女子!E17)","v":""},{"$f":"IF(名簿女子!F17=\"\",\"\",名簿女子!F17)","v":""}]
["所　　属",null,null,"最高タイム",null,null,"所　　属",null,null,"最高タイム",null,null,null,null,null,null,{"$f":"IF(名簿男子!A18=\"\",\"\",名簿男子!A18)","v":17},{"$f":"IF(名簿男子!B18=\"\",\"\",名簿男子!B18)","v":""},{"$f":"IF(名簿男子!C18=\"\",\"\",名簿男子!C18)","v":""},{"$f":"IF(名簿男子!E18=\"\",\"\",名簿男子!E18)","v":""},{"$f":"IF(名簿男子!F18=\"\",\"\",名簿男子!F18)","v":""},null,{"$f":"IF(名簿女子!A18=\"\",\"\",名簿女子!A18)","v":17},{"$f":"IF(名簿女子!B18=\"\",\"\",名簿女子!B18)","v":""},{"$f":"IF(名簿女子!C18=\"\",\"\",名簿女子!C18)","v":""},{"$f":"IF(名簿女子!E18=\"\",\"\",名簿女子!E18)","v":""},{"$f":"IF(名簿女子!F18=\"\",\"\",名簿女子!F18)","v":""}]
["ナンバー","氏　　　　　　名　　　（ふ　り　が　な）",null,null,"学　　年",null,"ナンバー","氏　　　　　　名　　　（ふ　り　が　な）",null,null,"学　　年",null,"入力番号",null,"入力番号",null,{"$f":"IF(名簿男子!A19=\"\",\"\",名簿男子!A19)","v":18},{"$f":"IF(名簿男子!B19=\"\",\"\",名簿男子!B19)","v":""},{"$f":"IF(名簿男子!C19=\"\",\"\",名簿男子!C19)","v":""},{"$f":"IF(名簿男子!E19=\"\",\"\",名簿男子!E19)","v":""},{"$f":"IF(名簿男子!F19=\"\",\"\",名簿男子!F19)","v":""},null,{"$f":"IF(名簿女子!A19=\"\",\"\",名簿女子!A19)","v":18},{"$f":"IF(名簿女子!B19=\"\",\"\",名簿女子!B19)","v":""},{"$f":"IF(名簿女子!C19=\"\",\"\",名簿女子!C19)","v":""},{"$f":"IF(名簿女子!E19=\"\",\"\",名簿女子!E19)","v":""},{"$f":"IF(名簿女子!F19=\"\",\"\",名簿女子!F19)","v":""}]
[{"$f":"IF(M20=\"\",\"\",VLOOKUP(M20,$Q$2:$U$101,2))","v":""},{"$f":"IF(M20=\"\",\"\",VLOOKUP(M20,$Q$2:$U$101,3))","v":""},{"$f":"IF(M20=\"\",\"\",VLOOKUP(M20,$Q$2:$U$101,4))","v":""},{"$f":"IF(P19=\"\",\"\",VLOOKUP(P19,$Q$2:$U$101,2))","v":""},{"$f":"IF(M20=\"\",\"\",VLOOKUP(M20,$Q$2:$U$101,5))","v":""},null,{"$f":"IF(O20=\"\",\"\",VLOOKUP(O20,$W$2:$AA$101,2))","v":""},{"$f":"IF(O20=\"\",\"\",VLOOKUP(O20,$W$2:$AA$101,3))","v":""},{"$f":"IF(O20=\"\",\"\",VLOOKUP(O20,$W$2:$AA$101,4))","v":""},{"$f":"IF(R19=\"\",\"\",VLOOKUP(R19,$W$2:$AA$101,2))","v":""},{"$f":"IF(O20=\"\",\"\",VLOOKUP(O20,$W$2:$AA$101,5))","v":""},null,19,null,12,null,{"$f":"IF(名簿男子!A20=\"\",\"\",名簿男子!A20)","v":19},{"$f":"IF(名簿男子!B20=\"\",\"\",名簿男子!B20)","v":""},{"$f":"IF(名簿男子!C20=\"\",\"\",名簿男子!C20)","v":""},{"$f":"IF(名簿男子!E20=\"\",\"\",名簿男子!E20)","v":""},{"$f":"IF(名簿男子!F20=\"\",\"\",名簿男子!F20)","v":""},null,{"$f":"IF(名簿女子!A20=\"\",\"\",名簿女子!A20)","v":19},{"$f":"IF(名簿女子!B20=\"\",\"\",名簿女子!B20)","v":""},{"$f":"IF(名簿女子!C20=\"\",\"\",名簿女子!C20)","v":""},{"$f":"IF(名簿女子!E20=\"\",\"\",名簿女子!E20)","v":""},{"$f":"IF(名簿女子!F20=\"\",\"\",名簿女子!F20)","v":""}]
["",{"$f":"IF(M21=\"\",\"\",VLOOKUP(M21,$Q$2:$U$101,3))","v":""},{"$f":"IF(M21=\"\",\"\",VLOOKUP(M21,$Q$2:$U$101,4))","v":""},"",{"$f":"IF(M21=\"\",\"\",VLOOKUP(M21,$Q$2:$U$101,5))","v":""},null,"","","","","",null,24,null,20,null,{"$f":"IF(名簿男子!A21=\"\",\"\",名簿男子!A21)","v":20},{"$f":"IF(名簿男子!B21=\"\",\"\",名簿男子!B21)","v":""},{"$f":"IF(名簿男子!C21=\"\",\"\",名簿男子!C21)","v":""},{"$f":"IF(名簿男子!E21=\"\",\"\",名簿男子!E21)","v":""},{"$f":"IF(名簿男子!F21=\"\",\"\",名簿男子!F21)","v":""},null,{"$f":"IF(名簿女子!A21=\"\",\"\",名簿女子!A21)","v":20},{"$f":"IF(名簿女子!B21=\"\",\"\",名簿女子!B21)","v":""},{"$f":"IF(名簿女子!C21=\"\",\"\",名簿女子!C21)","v":""},{"$f":"IF(名簿女子!E21=\"\",\"\",名簿女子!E21)","v":""},{"$f":"IF(名簿女子!F21=\"\",\"\",名簿女子!F21)","v":""}]
["","","","","",null,"","","","","",null,27,null,26,null,{"$f":"IF(名簿男子!A22=\"\",\"\",名簿男子!A22)","v":21},{"$f":"IF(名簿男子!B22=\"\",\"\",名簿男子!B22)","v":""},{"$f":"IF(名簿男子!C22=\"\",\"\",名簿男子!C22)","v":""},{"$f":"IF(名簿男子!E22=\"\",\"\",名簿男子!E22)","v":""},{"$f":"IF(名簿男子!F22=\"\",\"\",名簿男子!F22)","v":""},null,{"$f":"IF(名簿女子!A22=\"\",\"\",名簿女子!A22)","v":21},{"$f":"IF(名簿女子!B22=\"\",\"\",名簿女子!B22)","v":""},{"$f":"IF(名簿女子!C22=\"\",\"\",名簿女子!C22)","v":""},{"$f":"IF(名簿女子!E22=\"\",\"\",名簿女子!E22)","v":""},{"$f":"IF(名簿女子!F22=\"\",\"\",名簿女子!F22)","v":""}]
["","","","","",null,"","","","","",null,28,null,27,null,{"$f":"IF(名簿男子!A23=\"\",\"\",名簿男子!A23)","v":22},{"$f":"IF(名簿男子!B23=\"\",\"\",名簿男子!B23)","v":""},{"$f":"IF(名簿男子!C23=\"\",\"\",名簿男子!C23)","v":""},{"$f":"IF(名簿男子!E23=\"\",\"\",名簿男子!E23)","v":""},{"$f":"IF(名簿男子!F23=\"\",\"\",名簿男子!F23)","v":""},null,{"$f":"IF(名簿女子!A23=\"\",\"\",名簿女子!A23)","v":22},{"$f":"IF(名簿女子!B23=\"\",\"\",名簿女子!B23)","v":""},{"$f":"IF(名簿女子!C23=\"\",\"\",名簿女子!C23)","v":""},{"$f":"IF(名簿女子!E23=\"\",\"\",名簿女子!E23)","v":""},{"$f":"IF(名簿女子!F23=\"\",\"\",名簿女子!F23)","v":""}]
["","","","","",null,"","","","","",null,30,null,null,null,{"$f":"IF(名簿男子!A24=\"\",\"\",名簿男子!A24)","v":23},{"$f":"IF(名簿男子!B24=\"\",\"\",名簿男子!B24)","v":""},{"$f":"IF(名簿男子!C24=\"\",\"\",名簿男子!C24)","v":""},{"$f":"IF(名簿男子!E24=\"\",\"\",名簿男子!E24)","v":""},{"$f":"IF(名簿男子!F24=\"\",\"\",名簿男子!F24)","v":""},null,{"$f":"IF(名簿女子!A24=\"\",\"\",名簿女子!A24)","v":23},{"$f":"IF(名簿女子!B24=\"\",\"\",名簿女子!B24)","v":""},{"$f":"IF(名簿女子!C24=\"\",\"\",名簿女子!C24)","v":""},{"$f":"IF(名簿女子!E24=\"\",\"\",名簿女子!E24)","v":""},{"$f":"IF(名簿女子!F24=\"\",\"\",名簿女子!F24)","v":""}]
["","","","","",null,"","","","","",null,null,null,null,null,{"$f":"IF(名簿男子!A25=\"\",\"\",名簿男子!A25)","v":24},{"$f":"IF(名簿男子!B25=\"\",\"\",名簿男子!B25)","v":""},{"$f":"IF(名簿男子!C25=\"\",\"\",名簿男子!C25)","v":""},{"$f":"IF(名簿男子!E25=\"\",\"\",名簿男子!E25)","v":""},{"$f":"IF(名簿男子!F25=\"\",\"\",名簿男子!F25)","v":""},null,{"$f":"IF(名簿女子!A25=\"\",\"\",名簿女子!A25)","v":24},{"$f":"IF(名簿女子!B25=\"\",\"\",名簿女子!B25)","v":""},{"$f":"IF(名簿女子!C25=\"\",\"\",名簿女子!C25)","v":""},{"$f":"IF(名簿女子!E25=\"\",\"\",名簿女子!E25)","v":""},{"$f":"IF(名簿女子!F25=\"\",\"\",名簿女子!F25)","v":""}]
[null,null,null,null,null,null,null,null,null,null,null,null,null,null,null,null,{"$f":"IF(名簿男子!A26=\"\",\"\",名簿男子!A26)","v":25},{"$f":"IF(名簿男子!B26=\"\",\"\",名簿男子!B26)","v":""},{"$f":"IF(名簿男子!C26=\"\",\"\",名簿男子!C26)","v":""},{"$f":"IF(名簿男子!E26=\"\",\"\",名簿男子!E26)","v":""},{"$f":"IF(名簿男子!F26=\"\",\"\",名簿男子!F26)","v":""},null,{"$f":"IF(名簿女子!A26=\"\",\"\",名簿女子!A26)","v":25},{"$f":"IF(名簿女子!B26=\"\",\"\",名簿女子!B26)","v":""},{"$f":"IF(名簿女子!C26=\"\",\"\",名簿女子!C26)","v":""},{"$f":"IF(名簿女子!E26=\"\",\"\",名簿女子!E26)","v":""},{"$f":"IF(名簿女子!F26=\"\",\"\",名簿女子!F26)","v":""}]
[null,null,null,null,null,null,null,null,null,null,null,null,null,null,null,null,{"$f":"IF(名簿男子!A27=\"\",\"\",名簿男子!A27)","v":26},{"$f":"IF(名簿男子!B27=\"\",\"\",名簿男子!B27)","v":""},{"$f":"IF(名簿男子!C27=\"\",\"\",名簿男子!C27)","v":""},{"$f":"IF(名簿男子!E27=\"\",\"\",名簿男子!E27)","v":""},{"$f":"IF(名簿男子!F27=\"\",\"\",名簿男子!F27)","v":""},null,{"$f":"IF(名簿女子!A27=\"\",\"\",名簿女子!A27)","v":26},{"$f":"IF(名簿女子!B27=\"\",\"\",名簿女子!B27)","v":""},{"$f":"IF(名簿女子!C27=\"\",\"\",名簿女子!C27)","v":""},{"$f":"IF(名簿女子!E27=\"\",\"\",名簿女子!E27)","v":""},{"$f":"IF(名簿女子!F27=\"\",\"\",名簿女子!F27)","v":""}]
[null,null,null,null,null,null,null,null,null,null,null,null,null,null,null,null,{"$f":"IF(名簿男子!A28=\"\",\"\",名簿男子!A28)","v":27},{"$f":"IF(名簿男子!B28=\"\",\"\",名簿男子!B28)","v":""},{"$f":"IF(名簿男子!C28=\"\",\"\",名簿男子!C28)","v":""},{"$f":"IF(名簿男子!E28=\"\",\"\",名簿男子!E28)","v":""},{"$f":"IF(名簿男子!F28=\"\",\"\",名簿男子!F28)","v":""},null,{"$f":"IF(名簿女子!A28=\"\",\"\",名簿女子!A28)","v":27},{"$f":"IF(名簿女子!B28=\"\",\"\",名簿女子!B28)","v":""},{"$f":"IF(名簿女子!C28=\"\",\"\",名簿女子!C28)","v":""},{"$f":"IF(名簿女子!E28=\"\",\"\",名簿女子!E28)","v":""},{"$f":"IF(名簿女子!F28=\"\",\"\",名簿女子!F28)","v":""}]
[null,null,null,null,null,null,null,null,null,null,null,null,null,null,null,null,{"$f":"IF(名簿男子!A29=\"\",\"\",名簿男子!A29)","v":28},{"$f":"IF(名簿男子!B29=\"\",\"\",名簿男子!B29)","v":""},{"$f":"IF(名簿男子!C29=\"\",\"\",名簿男子!C29)","v":""},{"$f":"IF(名簿男子!E29=\"\",\"\",名簿男子!E29)","v":""},{"$f":"IF(名簿男子!F29=\"\",\"\",名簿男子!F29)","v":""},null,{"$f":"IF(名簿女子!A29=\"\",\"\",名簿女子!A29)","v":28},{"$f":"IF(名簿女子!B29=\"\",\"\",名簿女子!B29)","v":""},{"$f":"IF(名簿女子!C29=\"\",\"\",名簿女子!C29)","v":""},{"$f":"IF(名簿女子!E29=\"\",\"\",名簿女子!E29)","v":""},{"$f":"IF(名簿女子!F29=\"\",\"\",名簿女子!F29)","v":""}]
["※女子は朱書きのこと",null,null,null,null,null,"※女子は朱書きのこと",null,null,null,null,null,null,null,null,null,{"$f":"IF(名簿男子!A30=\"\",\"\",名簿男子!A30)","v":29},{"$f":"IF(名簿男子!B30=\"\",\"\",名簿男子!B30)","v":""},{"$f":"IF(名簿男子!C30=\"\",\"\",名簿男子!C30)","v":""},{"$f":"IF(名簿男子!E30=\"\",\"\",名簿男子!E30)","v":""},{"$f":"IF(名簿男子!F30=\"\",\"\",名簿男子!F30)","v":""},null,{"$f":"IF(名簿女子!A30=\"\",\"\",名簿女子!A30)","v":29},{"$f":"IF(名簿女子!B30=\"\",\"\",名簿女子!B30)","v":""},{"$f":"IF(名簿女子!C30=\"\",\"\",名簿女子!C30)","v":""},{"$f":"IF(名簿女子!E30=\"\",\"\",名簿女子!E30)","v":""},{"$f":"IF(名簿女子!F30=\"\",\"\",名簿女子!F30)","v":""}]
["　　４　　×　　　　100　　　ｍR　　　　　申込票　　　　　　　　　　　　　　　　　　　　男　・　女",null,null,null,null,null,"　　４　　×　　　　100　　　ｍR　　　　　申込票　　　　　　　　　　　　　　　　　　　　男　・　女",null,null,null,null,null,null,null,null,null,{"$f":"IF(名簿男子!A31=\"\",\"\",名簿男子!A31)","v":30},{"$f":"IF(名簿男子!B31=\"\",\"\",名簿男子!B31)","v":""},{"$f":"IF(名簿男子!C31=\"\",\"\",名簿男子!C31)","v":""},{"$f":"IF(名簿男子!E31=\"\",\"\",名簿男子!E31)","v":""},{"$f":"IF(名簿男子!F31=\"\",\"\",名簿男子!F31)","v":""},null,{"$f":"IF(名簿女子!A31=\"\",\"\",名簿女子!A31)","v":30},{"$f":"IF(名簿女子!B31=\"\",\"\",名簿女子!B31)","v":""},{"$f":"IF(名簿女子!C31=\"\",\"\",名簿女子!C31)","v":""},{"$f":"IF(名簿女子!E31=\"\",\"\",名簿女子!E31)","v":""},{"$f":"IF(名簿女子!F31=\"\",\"\",名簿女子!F31)","v":""}]
["所　　属",null,null,"最高タイム",null,null,"所　　属",null,null,"最高タイム",null,null,null,null,null,null,{"$f":"IF(名簿男子!A32=\"\",\"\",名簿男子!A32)","v":31},{"$f":"IF(名簿男子!B32=\"\",\"\",名簿男子!B32)","v":""},{"$f":"IF(名簿男子!C32=\"\",\"\",名簿男子!C32)","v":""},{"$f":"IF(名簿男子!E32=\"\",\"\",名簿男子!E32)","v":""},{"$f":"IF(名簿男子!F32=\"\",\"\",名簿男子!F32)","v":""},null,{"$f":"IF(名簿女子!A32=\"\",\"\",名簿女子!A32)","v":31},{"$f":"IF(名簿女子!B32=\"\",\"\",名簿女子!B32)","v":""},{"$f":"IF(名簿女子!C32=\"\",\"\",名簿女子!C32)","v":""},{"$f":"IF(名簿女子!E32=\"\",\"\",名簿女子!E32)","v":""},{"$f":"IF(名簿女子!F32=\"\",\"\",名簿女子!F32)","v":""}]
["ナンバー","氏　　　　　　名　　　（ふ　り　が　な）",null,null,"学　　年",null,"ナンバー","氏　　　　　　名　　　（ふ　り　が　な）",null,null,"学　　年",null,"入力番号",null,"入力番号",null,{"$f":"IF(名簿男子!A33=\"\",\"\",名簿男子!A33)","v":32},{"$f":"IF(名簿男子!B33=\"\",\"\",名簿男子!B33)","v":""},{"$f":"IF(名簿男子!C33=\"\",\"\",名簿男子!C33)","v":""},{"$f":"IF(名簿男子!E33=\"\",\"\",名簿男子!E33)","v":""},{"$f":"IF(名簿男子!F33=\"\",\"\",名簿男子!F33)","v":""},null,{"$f":"IF(名簿女子!A33=\"\",\"\",名簿女子!A33)","v":32},{"$f":"IF(名簿女子!B33=\"\",\"\",名簿女子!B33)","v":""},{"$f":"IF(名簿女子!C33=\"\",\"\",名簿女子!C33)","v":""},{"$f":"IF(名簿女子!E33=\"\",\"\",名簿女子!E33)","v":""},{"$f":"IF(名簿女子!F33=\"\",\"\",名簿女子!F33)","v":""}]
[{"$f":"IF(M34=\"\",\"\",VLOOKUP(M34,$Q$2:$U$101,2))","v":""},{"$f":"IF(M34=\"\",\"\",VLOOKUP(M34,$Q$2:$U$101,3))","v":""},{"$f":"IF(M34=\"\",\"\",VLOOKUP(M34,$Q$2:$U$101,4))","v":""},{"$f":"IF(P33=\"\",\"\",VLOOKUP(P33,$Q$2:$U$101,2))","v":""},{"$f":"IF(M34=\"\",\"\",VLOOKUP(M34,$Q$2:$U$101,5))","v":""},null,{"$f":"IF(O34=\"\",\"\",VLOOKUP(O34,$W$2:$AA$101,2))","v":""},{"$f":"IF(O34=\"\",\"\",VLOOKUP(O34,$W$2:$AA$101,3))","v":""},{"$f":"IF(O34=\"\",\"\",VLOOKUP(O34,$W$2:$AA$101,4))","v":""},{"$f":"IF(R33=\"\",\"\",VLOOKUP(R33,$W$2:$AA$101,2))","v":""},{"$f":"IF(O34=\"\",\"\",VLOOKUP(O34,$W$2:$AA$101,5))","v":""},null,null,null,null,null,{"$f":"IF(名簿男子!A34=\"\",\"\",名簿男子!A34)","v":33},{"$f":"IF(名簿男子!B34=\"\",\"\",名簿男子!B34)","v":""},{"$f":"IF(名簿男子!C34=\"\",\"\",名簿男子!C34)","v":""},{"$f":"IF(名簿男子!E34=\"\",\"\",名簿男子!E34)","v":""},{"$f":"IF(名簿男子!F34=\"\",\"\",名簿男子!F34)","v":""},null,{"$f":"IF(名簿女子!A34=\"\",\"\",名簿女子!A34)","v":33},{"$f":"IF(名簿女子!B34=\"\",\"\",名簿女子!B34)","v":""},{"$f":"IF(名簿女子!C34=\"\",\"\",名簿女子!C34)","v":""},{"$f":"IF(名簿女子!E34=\"\",\"\",名簿女子!E34)","v":""},{"$f":"IF(名簿女子!F34=\"\",\"\",名簿女子!F34)","v":""}]
["",{"$f":"IF(M35=\"\",\"\",VLOOKUP(M35,$Q$2:$U$101,3))","v":""},{"$f":"IF(M35=\"\",\"\",VLOOKUP(M35,$Q$2:$U$101,4))","v":""},"",{"$f":"IF(M35=\"\",\"\",VLOOKUP(M35,$Q$2:$U$101,5))","v":""},null,"","","","","",null,null,null,null,null,{"$f":"IF(名簿男子!A35=\"\",\"\",名簿男子!A35)","v":34},{"$f":"IF(名簿男子!B35=\"\",\"\",名簿男子!B35)","v":""},{"$f":"IF(名簿男子!C35=\"\",\"\",名簿男子!C35)","v":""},{"$f":"IF(名簿男子!E35=\"\",\"\",名簿男子!E35)","v":""},{"$f":"IF(名簿男子!F35=\"\",\"\",名簿男子!F35)","v":""},null,{"$f":"IF(名簿女子!A35=\"\",\"\",名簿女子!A35)","v":34},{"$f":"IF(名簿女子!B35=\"\",\"\",名簿女子!B35)","v":""},{"$f":"IF(名簿女子!C35=\"\",\"\",名簿女子!C35)","v":""},{"$f":"IF(名簿女子!E35=\"\",\"\",名簿女子!E35)","v":""},{"$f":"IF(名簿女子!F35=\"\",\"\",名簿女子!F35)","v":""}]
["","","","","",null,"","","","","",null,null,null,null,null,{"$f":"IF(名簿男子!A36=\"\",\"\",名簿男子!A36)","v":35},{"$f":"IF(名簿男子!B36=\"\",\"\",名簿男子!B36)","v":""},{"$f":"IF(名簿男子!C36=\"\",\"\",名簿男子!C36)","v":""},{"$f":"IF(名簿男子!E36=\"\",\"\",名簿男子!E36)","v":""},{"$f":"IF(名簿男子!F36=\"\",\"\",名簿男子!F36)","v":""},null,{"$f":"IF(名簿女子!A36=\"\",\"\",名簿女子!A36)","v":35},{"$f":"IF(名簿女子!B36=\"\",\"\",名簿女子!B36)","v":""},{"$f":"IF(名簿女子!C36=\"\",\"\",名簿女子!C36)","v":""},{"$f":"IF(名簿女子!E36=\"\",\"\",名簿女子!E36)","v":""},{"$f":"IF(名簿女子!F36=\"\",\"\",名簿女子!F36)","v":""}]
["","","","","",null,"","","","","",null,null,null,null,null,{"$f":"IF(名簿男子!A37=\"\",\"\",名簿男子!A37)","v":36},{"$f":"IF(名簿男子!B37=\"\",\"\",名簿男子!B37)","v":""},{"$f":"IF(名簿男子!C37=\"\",\"\",名簿男子!C37)","v":""},{"$f":"IF(名簿男子!E37=\"\",\"\",名簿男子!E37)","v":""},{"$f":"IF(名簿男子!F37=\"\",\"\",名簿男子!F37)","v":""},null,{"$f":"IF(名簿女子!A37=\"\",\"\",名簿女子!A37)","v":36},{"$f":"IF(名簿女子!B37=\"\",\"\",名簿女子!B37)","v":""},{"$f":"IF(名簿女子!C37=\"\",\"\",名簿女子!C37)","v":""},{"$f":"IF(名簿女子!E37=\"\",\"\",名簿女子!E37)","v":""},{"$f":"IF(名簿女子!F37=\"\",\"\",名簿女子!F37)","v":""}]
["","","","","",null,"","","","","",null,null,null,null,null,{"$f":"IF(名簿男子!A38=\"\",\"\",名簿男子!A38)","v":37},{"$f":"IF(名簿男子!B38=\"\",\"\",名簿男子!B38)","v":""},{"$f":"IF(名簿男子!C38=\"\",\"\",名簿男子!C38)","v":""},{"$f":"IF(名簿男子!E38=\"\",\"\",名簿男子!E38)","v":""},{"$f":"IF(名簿男子!F38=\"\",\"\",名簿男子!F38)","v":""},null,{"$f":"IF(名簿女子!A38=\"\",\"\",名簿女子!A38)","v":37},{"$f":"IF(名簿女子!B38=\"\",\"\",名簿女子!B38)","v":""},{"$f":"IF(名簿女子!C38=\"\",\"\",名簿女子!C38)","v":""},{"$f":"IF(名簿女子!E38=\"\",\"\",名簿女子!E38)","v":""},{"$f":"IF(名簿女子!F38=\"\",\"\",名簿女子!F38)","v":""}]
["","","","","",null,"","","","","",null,null,null,null,null,{"$f":"IF(名簿男子!A39=\"\",\"\",名簿男子!A39)","v":38},{"$f":"IF(名簿男子!B39=\"\",\"\",名簿男子!B39)","v":""},{"$f":"IF(名簿男子!C39=\"\",\"\",名簿男子!C39)","v":""},{"$f":"IF(名簿男子!E39=\"\",\"\",名簿男子!E39)","v":""},{"$f":"IF(名簿男子!F39=\"\",\"\",名簿男子!F39)","v":""},null,{"$f":"IF(名簿女子!A39=\"\",\"\",名簿女子!A39)","v":38},{"$f":"IF(名簿女子!B39=\"\",\"\",名簿女子!B39)","v":""},{"$f":"IF(名簿女子!C39=\"\",\"\",名簿女子!C39)","v":""},{"$f":"IF(名簿女子!E39=\"\",\"\",名簿女子!E39)","v":""},{"$f":"IF(名簿女子!F39=\"\",\"\",名簿女子!F39)","v":""}]
[null,null,null,null,null,null,null,null,null,null,null,null,null,null,null,null,{"$f":"IF(名簿男子!A40=\"\",\"\",名簿男子!A40)","v":39},{"$f":"IF(名簿男子!B40=\"\",\"\",名簿男子!B40)","v":""},{"$f":"IF(名簿男子!C40=\"\",\"\",名簿男子!C40)","v":""},{"$f":"IF(名簿男子!E40=\"\",\"\",名簿男子!E40)","v":""},{"$f":"IF(名簿男子!F40=\"\",\"\",名簿男子!F40)","v":""},null,{"$f":"IF(名簿女子!A40=\"\",\"\",名簿女子!A40)","v":39},{"$f":"IF(名簿女子!B40=\"\",\"\",名簿女子!B40)","v":""},{"$f":"IF(名簿女子!C40=\"\",\"\",名簿女子!C40)","v":""},{"$f":"IF(名簿女子!E40=\"\",\"\",名簿女子!E40)","v":""},{"$f":"IF(名簿女子!F40=\"\",\"\",名簿女子!F40)","v":""}]
[null,null,null,null,null,null,null,null,null,null,null,null,null,null,null,null,{"$f":"IF(名簿男子!A41=\"\",\"\",名簿男子!A41)","v":40},{"$f":"IF(名簿男子!B41=\"\",\"\",名簿男子!B41)","v":""},{"$f":"IF(名簿男子!C41=\"\",\"\",名簿男子!C41)","v":""},{"$f":"IF(名簿男子!E41=\"\",\"\",名簿男子!E41)","v":""},{"$f":"IF(名簿男子!F41=\"\",\"\",名簿男子!F41)","v":""},null,{"$f":"IF(名簿女子!A41=\"\",\"\",名簿女子!A41)","v":40},{"$f":"IF(名簿女子!B41=\"\",\"\",名簿女子!B41)","v":""},{"$f":"IF(名簿女子!C41=\"\",\"\",名簿女子!C41)","v":""},{"$f":"IF(名簿女子!E41=\"\",\"\",名簿女子!E41)","v":""},{"$f":"IF(名簿女子!F41=\"\",\"\",名簿女子!F41)","v":""}]
[null,null,null,null,null,null,null,null,null,null,null,null,null,null,null,null,{"$f":"IF(名簿男子!A42=\"\",\"\",名簿男子!A42)","v":41},{"$f":"IF(名簿男子!B42=\"\",\"\",名簿男子!B42)","v":""},{"$f":"IF(名簿男子!C42=\"\",\"\",名簿男子!C42)","v":""},{"$f":"IF(名簿男子!E42=\"\",\"\",名簿男子!E42)","v":""},{"$f":"IF(名簿男子!F42=\"\",\"\",名簿男子!F42)","v":""},null,{"$f":"IF(名簿女子!A42=\"\",\"\",名簿女子!A42)","v":41},{"$f":"IF(名簿女子!B42=\"\",\"\",名簿女子!B42)","v":""},{"$f":"IF(名簿女子!C42=\"\",\"\",名簿女子!C42)","v":""},{"$f":"IF(名簿女子!E42=\"\",\"\",名簿女子!E42)","v":""},{"$f":"IF(名簿女子!F42=\"\",\"\",名簿女子!F42)","v":""}]
[null,null,null,null,null,null,null,null,null,null,null,null,null,null,null,null,{"$f":"IF(名簿男子!A43=\"\",\"\",名簿男子!A43)","v":42},{"$f":"IF(名簿男子!B43=\"\",\"\",名簿男子!B43)","v":""},{"$f":"IF(名簿男子!C43=\"\",\"\",名簿男子!C43)","v":""},{"$f":"IF(名簿男子!E43=\"\",\"\",名簿男子!E43)","v":""},{"$f":"IF(名簿男子!F43=\"\",\"\",名簿男子!F43)","v":""},null,{"$f":"IF(名簿女子!A43=\"\",\"\",名簿女子!A43)","v":42},{"$f":"IF(名簿女子!B43=\"\",\"\",名簿女子!B43)","v":""},{"$f":"IF(名簿女子!C43=\"\",\"\",名簿女子!C43)","v":""},{"$f":"IF(名簿女子!E43=\"\",\"\",名簿女子!E43)","v":""},{"$f":"IF(名簿女子!F43=\"\",\"\",名簿女子!F43)","v":""}]
["※女子は朱書きのこと",null,null,null,null,null,"※女子は朱書きのこと",null,null,null,null,null,null,null,null,null,{"$f":"IF(名簿男子!A44=\"\",\"\",名簿男子!A44)","v":43},{"$f":"IF(名簿男子!B44=\"\",\"\",名簿男子!B44)","v":""},{"$f":"IF(名簿男子!C44=\"\",\"\",名簿男子!C44)","v":""},{"$f":"IF(名簿男子!E44=\"\",\"\",名簿男子!E44)","v":""},{"$f":"IF(名簿男子!F44=\"\",\"\",名簿男子!F44)","v":""},null,{"$f":"IF(名簿女子!A44=\"\",\"\",名簿女子!A44)","v":43},{"$f":"IF(名簿女子!B44=\"\",\"\",名簿女子!B44)","v":""},{"$f":"IF(名簿女子!C44=\"\",\"\",名簿女子!C44)","v":""},{"$f":"IF(名簿女子!E44=\"\",\"\",名簿女子!E44)","v":""},{"$f":"IF(名簿女子!F44=\"\",\"\",名簿女子!F44)","v":""}]
["　　低学年　４　×　100　　　ｍR　　　　　申込票　　　　　　　　　　　　　　　　　　男　・　女",null,null,null,null,null,"　　低学年　４　×　100　　　ｍR　　　　　申込票　　　　　　　　　　　　　　　　　　男　・　女",null,null,null,null,null,null,null,null,null,{"$f":"IF(名簿男子!A45=\"\",\"\",名簿男子!A45)","v":44},{"$f":"IF(名簿男子!B45=\"\",\"\",名簿男子!B45)","v":""},{"$f":"IF(名簿男子!C45=\"\",\"\",名簿男子!C45)","v":""},{"$f":"IF(名簿男子!E45=\"\",\"\",名簿男子!E45)","v":""},{"$f":"IF(名簿男子!F45=\"\",\"\",名簿男子!F45)","v":""},null,{"$f":"IF(名簿女子!A45=\"\",\"\",名簿女子!A45)","v":44},{"$f":"IF(名簿女子!B45=\"\",\"\",名簿女子!B45)","v":""},{"$f":"IF(名簿女子!C45=\"\",\"\",名簿女子!C45)","v":""},{"$f":"IF(名簿女子!E45=\"\",\"\",名簿女子!E45)","v":""},{"$f":"IF(名簿女子!F45=\"\",\"\",名簿女子!F45)","v":""}]
["所　　属","岸本中学校",null,"最高タイム",null,null,"所　　属",null,null,"最高タイム",null,null,null,null,null,null,{"$f":"IF(名簿男子!A46=\"\",\"\",名簿男子!A46)","v":45},{"$f":"IF(名簿男子!B46=\"\",\"\",名簿男子!B46)","v":""},{"$f":"IF(名簿男子!C46=\"\",\"\",名簿男子!C46)","v":""},{"$f":"IF(名簿男子!E46=\"\",\"\",名簿男子!E46)","v":""},{"$f":"IF(名簿男子!F46=\"\",\"\",名簿男子!F46)","v":""},null,{"$f":"IF(名簿女子!A46=\"\",\"\",名簿女子!A46)","v":45},{"$f":"IF(名簿女子!B46=\"\",\"\",名簿女子!B46)","v":""},{"$f":"IF(名簿女子!C46=\"\",\"\",名簿女子!C46)","v":""},{"$f":"IF(名簿女子!E46=\"\",\"\",名簿女子!E46)","v":""},{"$f":"IF(名簿女子!F46=\"\",\"\",名簿女子!F46)","v":""}]
["ナンバー","氏　　　　　　名　　　（ふ　り　が　な）",null,null,"学　　年",null,"ナンバー","氏　　　　　　名　　　（ふ　り　が　な）",null,null,"学　　年",null,"入力番号",null,"入力番号",null,{"$f":"IF(名簿男子!A47=\"\",\"\",名簿男子!A47)","v":46},{"$f":"IF(名簿男子!B47=\"\",\"\",名簿男子!B47)","v":""},{"$f":"IF(名簿男子!C47=\"\",\"\",名簿男子!C47)","v":""},{"$f":"IF(名簿男子!E47=\"\",\"\",名簿男子!E47)","v":""},{"$f":"IF(名簿男子!F47=\"\",\"\",名簿男子!F47)","v":""},null,{"$f":"IF(名簿女子!A47=\"\",\"\",名簿女子!A47)","v":46},{"$f":"IF(名簿女子!B47=\"\",\"\",名簿女子!B47)","v":""},{"$f":"IF(名簿女子!C47=\"\",\"\",名簿女子!C47)","v":""},{"$f":"IF(名簿女子!E47=\"\",\"\",名簿女子!E47)","v":""},{"$f":"IF(名簿女子!F47=\"\",\"\",名簿女子!F47)","v":""}]
[{"$f":"IF(M48=\"\",\"\",VLOOKUP(M48,$Q$2:$U$101,2))","v":""},{"$f":"IF(M48=\"\",\"\",VLOOKUP(M48,$Q$2:$U$101,3))","v":""},{"$f":"IF(M48=\"\",\"\",VLOOKUP(M48,$Q$2:$U$101,4))","v":""},{"$f":"IF(P46=\"\",\"\",VLOOKUP(P46,$Q$2:$U$101,2))","v":""},{"$f":"IF(M48=\"\",\"\",VLOOKUP(M48,$Q$2:$U$101,5))","v":""},null,{"$f":"IF(O48=\"\",\"\",VLOOKUP(O48,$W$2:$AA$101,2))","v":""},{"$f":"IF(O48=\"\",\"\",VLOOKUP(O48,$W$2:$AA$101,3))","v":""},{"$f":"IF(O48=\"\",\"\",VLOOKUP(O48,$W$2:$AA$101,4))","v":""},{"$f":"IF(R46=\"\",\"\",VLOOKUP(R46,$W$2:$AA$101,2))","v":""},{"$f":"IF(O48=\"\",\"\",VLOOKUP(O48,$W$2:$AA$101,5))","v":""},null,null,null,null,null,{"$f":"IF(名簿男子!A48=\"\",\"\",名簿男子!A48)","v":47},{"$f":"IF(名簿男子!B48=\"\",\"\",名簿男子!B48)","v":""},{"$f":"IF(名簿男子!C48=\"\",\"\",名簿男子!C48)","v":""},{"$f":"IF(名簿男子!E48=\"\",\"\",名簿男子!E48)","v":""},{"$f":"IF(名簿男子!F48=\"\",\"\",名簿男子!F48)","v":""},null,{"$f":"IF(名簿女子!A48=\"\",\"\",名簿女子!A48)","v":47},{"$f":"IF(名簿女子!B48=\"\",\"\",名簿女子!B48)","v":""},{"$f":"IF(名簿女子!C48=\"\",\"\",名簿女子!C48)","v":""},{"$f":"IF(名簿女子!E48=\"\",\"\",名簿女子!E48)","v":""},{"$f":"IF(名簿女子!F48=\"\",\"\",名簿女子!F48)","v":""}]
["",{"$f":"IF(M49=\"\",\"\",VLOOKUP(M49,$Q$2:$U$101,3))","v":""},{"$f":"IF(M49=\"\",\"\",VLOOKUP(M49,$Q$2:$U$101,4))","v":""},"",{"$f":"IF(M49=\"\",\"\",VLOOKUP(M49,$Q$2:$U$101,5))","v":""},null,"","","","","",null,null,null,null,null,{"$f":"IF(名簿男子!A49=\"\",\"\",名簿男子!A49)","v":48},{"$f":"IF(名簿男子!B49=\"\",\"\",名簿男子!B49)","v":""},{"$f":"IF(名簿男子!C49=\"\",\"\",名簿男子!C49)","v":""},{"$f":"IF(名簿男子!E49=\"\",\"\",名簿男子!E49)","v":""},{"$f":"IF(名簿男子!F49=\"\",\"\",名簿男子!F49)","v":""},null,{"$f":"IF(名簿女子!A49=\"\",\"\",名簿女子!A49)","v":48},{"$f":"IF(名簿女子!B49=\"\",\"\",名簿女子!B49)","v":""},{"$f":"IF(名簿女子!C49=\"\",\"\",名簿女子!C49)","v":""},{"$f":"IF(名簿女子!E49=\"\",\"\",名簿女子!E49)","v":""},{"$f":"IF(名簿女子!F49=\"\",\"\",名簿女子!F49)","v":""}]
["","","","","",null,"","","","","",null,null,null,null,null,{"$f":"IF(名簿男子!A50=\"\",\"\",名簿男子!A50)","v":49},{"$f":"IF(名簿男子!B50=\"\",\"\",名簿男子!B50)","v":""},{"$f":"IF(名簿男子!C50=\"\",\"\",名簿男子!C50)","v":""},{"$f":"IF(名簿男子!E50=\"\",\"\",名簿男子!E50)","v":""},{"$f":"IF(名簿男子!F50=\"\",\"\",名簿男子!F50)","v":""},null,{"$f":"IF(名簿女子!A50=\"\",\"\",名簿女子!A50)","v":49},{"$f":"IF(名簿女子!B50=\"\",\"\",名簿女子!B50)","v":""},{"$f":"IF(名簿女子!C50=\"\",\"\",名簿女子!C50)","v":""},{"$f":"IF(名簿女子!E50=\"\",\"\",名簿女子!E50)","v":""},{"$f":"IF(名簿女子!F50=\"\",\"\",名簿女子!F50)","v":""}]
["","","","","",null,"","","","","",null,null,null,null,null,{"$f":"IF(名簿男子!A51=\"\",\"\",名簿男子!A51)","v":50},{"$f":"IF(名簿男子!B51=\"\",\"\",名簿男子!B51)","v":""},{"$f":"IF(名簿男子!C51=\"\",\"\",名簿男子!C51)","v":""},{"$f":"IF(名簿男子!E51=\"\",\"\",名簿男子!E51)","v":""},{"$f":"IF(名簿男子!F51=\"\",\"\",名簿男子!F51)","v":""},null,{"$f":"IF(名簿女子!A51=\"\",\"\",名簿女子!A51)","v":50},{"$f":"IF(名簿女子!B51=\"\",\"\",名簿女子!B51)","v":""},{"$f":"IF(名簿女子!C51=\"\",\"\",名簿女子!C51)","v":""},{"$f":"IF(名簿女子!E51=\"\",\"\",名簿女子!E51)","v":""},{"$f":"IF(名簿女子!F51=\"\",\"\",名簿女子!F51)","v":""}]
["","","","","",null,"","","","","",null,null,null,null,null,{"$f":"IF(名簿男子!A52=\"\",\"\",名簿男子!A52)","v":51},{"$f":"IF(名簿男子!B52=\"\",\"\",名簿男子!B52)","v":""},{"$f":"IF(名簿男子!C52=\"\",\"\",名簿男子!C52)","v":""},{"$f":"IF(名簿男子!E52=\"\",\"\",名簿男子!E52)","v":""},{"$f":"IF(名簿男子!F52=\"\",\"\",名簿男子!F52)","v":""},null,{"$f":"IF(名簿女子!A52=\"\",\"\",名簿女子!A52)","v":51},{"$f":"IF(名簿女子!B52=\"\",\"\",名簿女子!B52)","v":""},{"$f":"IF(名簿女子!C52=\"\",\"\",名簿女子!C52)","v":""},{"$f":"IF(名簿女子!E52=\"\",\"\",名簿女子!E52)","v":""},{"$f":"IF(名簿女子!F52=\"\",\"\",名簿女子!F52)","v":""}]
["","","","","",null,"","","","","",null,null,null,null,null,{"$f":"IF(名簿男子!A53=\"\",\"\",名簿男子!A53)","v":52},{"$f":"IF(名簿男子!B53=\"\",\"\",名簿男子!B53)","v":""},{"$f":"IF(名簿男子!C53=\"\",\"\",名簿男子!C53)","v":""},{"$f":"IF(名簿男子!E53=\"\",\"\",名簿男子!E53)","v":""},{"$f":"IF(名簿男子!F53=\"\",\"\",名簿男子!F53)","v":""},null,{"$f":"IF(名簿女子!A53=\"\",\"\",名簿女子!A53)","v":52},{"$f":"IF(名簿女子!B53=\"\",\"\",名簿女子!B53)","v":""},{"$f":"IF(名簿女子!C53=\"\",\"\",名簿女子!C53)","v":""},{"$f":"IF(名簿女子!E53=\"\",\"\",名簿女子!E53)","v":""},{"$f":"IF(名簿女子!F53=\"\",\"\",名簿女子!F53)","v":""}]
[null,null,null,null,null,null,null,null,null,null,null,null,null,null,null,null,{"$f":"IF(名簿男子!A54=\"\",\"\",名簿男子!A54)","v":53},{"$f":"IF(名簿男子!B54=\"\",\"\",名簿男子!B54)","v":""},{"$f":"IF(名簿男子!C54=\"\",\"\",名簿男子!C54)","v":""},{"$f":"IF(名簿男子!E54=\"\",\"\",名簿男子!E54)","v":""},{"$f":"IF(名簿男子!F54=\"\",\"\",名簿男子!F54)","v":""},null,{"$f":"IF(名簿女子!A54=\"\",\"\",名簿女子!A54)","v":53},{"$f":"IF(名簿女子!B54=\"\",\"\",名簿女子!B54)","v":""},{"$f":"IF(名簿女子!C54=\"\",\"\",名簿女子!C54)","v":""},{"$f":"IF(名簿女子!E54=\"\",\"\",名簿女子!E54)","v":""},{"$f":"IF(名簿女子!F54=\"\",\"\",名簿女子!F54)","v":""}]
[null,null,null,null,null,null,null,null,null,null,null,null,null,null,null,null,{"$f":"IF(名簿男子!A55=\"\",\"\",名簿男子!A55)","v":54},{"$f":"IF(名簿男子!B55=\"\",\"\",名簿男子!B55)","v":""},{"$f":"IF(名簿男子!C55=\"\",\"\",名簿男子!C55)","v":""},{"$f":"IF(名簿男子!E55=\"\",\"\",名簿男子!E55)","v":""},{"$f":"IF(名簿男子!F55=\"\",\"\",名簿男子!F55)","v":""},null,{"$f":"IF(名簿女子!A55=\"\",\"\",名簿女子!A55)","v":54},{"$f":"IF(名簿女子!B55=\"\",\"\",名簿女子!B55)","v":""},{"$f":"IF(名簿女子!C55=\"\",\"\",名簿女子!C55)","v":""},{"$f":"IF(名簿女子!E55=\"\",\"\",名簿女子!E55)","v":""},{"$f":"IF(名簿女子!F55=\"\",\"\",名簿女子!F55)","v":""}]
[null,null,null,null,null,null,null,null,null,null,null,null,null,null,null,null,{"$f":"IF(名簿男子!A56=\"\",\"\",名簿男子!A56)","v":55},{"$f":"IF(名簿男子!B56=\"\",\"\",名簿男子!B56)","v":""},{"$f":"IF(名簿男子!C56=\"\",\"\",名簿男子!C56)","v":""},{"$f":"IF(名簿男子!E56=\"\",\"\",名簿男子!E56)","v":""},{"$f":"IF(名簿男子!F56=\"\",\"\",名簿男子!F56)","v":""},null,{"$f":"IF(名簿女子!A56=\"\",\"\",名簿女子!A56)","v":55},{"$f":"IF(名簿女子!B56=\"\",\"\",名簿女子!B56)","v":""},{"$f":"IF(名簿女子!C56=\"\",\"\",名簿女子!C56)","v":""},{"$f":"IF(名簿女子!E56=\"\",\"\",名簿女子!E56)","v":""},{"$f":"IF(名簿女子!F56=\"\",\"\",名簿女子!F56)","v":""}]
[null,null,null,null,null,null,null,null,null,null,null,null,null,null,null,null,{"$f":"IF(名簿男子!A57=\"\",\"\",名簿男子!A57)","v":56},{"$f":"IF(名簿男子!B57=\"\",\"\",名簿男子!B57)","v":""},{"$f":"IF(名簿男子!C57=\"\",\"\",名簿男子!C57)","v":""},{"$f":"IF(名簿男子!E57=\"\",\"\",名簿男子!E57)","v":""},{"$f":"IF(名簿男子!F57=\"\",\"\",名簿男子!F57)","v":""},null,{"$f":"IF(名簿女子!A57=\"\",\"\",名簿女子!A57)","v":56},{"$f":"IF(名簿女子!B57=\"\",\"\",名簿女子!B57)","v":""},{"$f":"IF(名簿女子!C57=\"\",\"\",名簿女子!C57)","v":""},{"$f":"IF(名簿女子!E57=\"\",\"\",名簿女子!E57)","v":""},{"$f":"IF(名簿女子!F57=\"\",\"\",名簿女子!F57)","v":""}]
[null,null,null,null,null,null,null,null,null,null,null,null,null,null,null,null,{"$f":"IF(名簿男子!A58=\"\",\"\",名簿男子!A58)","v":57},{"$f":"IF(名簿男子!B58=\"\",\"\",名簿男子!B58)","v":""},{"$f":"IF(名簿男子!C58=\"\",\"\",名簿男子!C58)","v":""},{"$f":"IF(名簿男子!E58=\"\",\"\",名簿男子!E58)","v":""},{"$f":"IF(名簿男子!F58=\"\",\"\",名簿男子!F58)","v":""},null,{"$f":"IF(名簿女子!A58=\"\",\"\",名簿女子!A58)","v":57},{"$f":"IF(名簿女子!B58=\"\",\"\",名簿女子!B58)","v":""},{"$f":"IF(名簿女子!C58=\"\",\"\",名簿女子!C58)","v":""},{"$f":"IF(名簿女子!E58=\"\",\"\",名簿女子!E58)","v":""},{"$f":"IF(名簿女子!F58=\"\",\"\",名簿女子!F58)","v":""}]
[null,null,null,null,null,null,null,null,null,null,null,null,null,null,null,null,{"$f":"IF(名簿男子!A59=\"\",\"\",名簿男子!A59)","v":58},{"$f":"IF(名簿男子!B59=\"\",\"\",名簿男子!B59)","v":""},{"$f":"IF(名簿男子!C59=\"\",\"\",名簿男子!C59)","v":""},{"$f":"IF(名簿男子!E59=\"\",\"\",名簿男子!E59)","v":""},{"$f":"IF(名簿男子!F59=\"\",\"\",名簿男子!F59)","v":""},null,{"$f":"IF(名簿女子!A59=\"\",\"\",名簿女子!A59)","v":58},{"$f":"IF(名簿女子!B59=\"\",\"\",名簿女子!B59)","v":""},{"$f":"IF(名簿女子!C59=\"\",\"\",名簿女子!C59)","v":""},{"$f":"IF(名簿女子!E59=\"\",\"\",名簿女子!E59)","v":""},{"$f":"IF(名簿女子!F59=\"\",\"\",名簿女子!F59)","v":""}]
[null,null,null,null,null,null,null,null,null,null,null,null,null,null,null,null,{"$f":"IF(名簿男子!A60=\"\",\"\",名簿男子!A60)","v":59},{"$f":"IF(名簿男子!B60=\"\",\"\",名簿男子!B60)","v":""},{"$f":"IF(名簿男子!C60=\"\",\"\",名簿男子!C60)","v":""},{"$f":"IF(名簿男子!E60=\"\",\"\",名簿男子!E60)","v":""},{"$f":"IF(名簿男子!F60=\"\",\"\",名簿男子!F60)","v":""},null,{"$f":"IF(名簿女子!A60=\"\",\"\",名簿女子!A60)","v":59},{"$f":"IF(名簿女子!B60=\"\",\"\",名簿女子!B60)","v":""},{"$f":"IF(名簿女子!C60=\"\",\"\",名簿女子!C60)","v":""},{"$f":"IF(名簿女子!E60=\"\",\"\",名簿女子!E60)","v":""},{"$f":"IF(名簿女子!F60=\"\",\"\",名簿女子!F60)","v":""}]
[null,null,null,null,null,null,null,null,null,null,null,null,null,null,null,null,{"$f":"IF(名簿男子!A61=\"\",\"\",名簿男子!A61)","v":60},{"$f":"IF(名簿男子!B61=\"\",\"\",名簿男子!B61)","v":""},{"$f":"IF(名簿男子!C61=\"\",\"\",名簿男子!C61)","v":""},{"$f":"IF(名簿男子!E61=\"\",\"\",名簿男子!E61)","v":""},{"$f":"IF(名簿男子!F61=\"\",\"\",名簿男子!F61)","v":""},null,{"$f":"IF(名簿女子!A61=\"\",\"\",名簿女子!A61)","v":60},{"$f":"IF(名簿女子!B61=\"\",\"\",名簿女子!B61)","v":""},{"$f":"IF(名簿女子!C61=\"\",\"\",名簿女子!C61)","v":""},{"$f":"IF(名簿女子!E61=\"\",\"\",名簿女子!E61)","v":""},{"$f":"IF(名簿女子!F61=\"\",\"\",名簿女子!F61)","v":""}]
[null,null,null,null,null,null,null,null,null,null,null,null,null,null,null,null,{"$f":"IF(名簿男子!A62=\"\",\"\",名簿男子!A62)","v":61},{"$f":"IF(名簿男子!B62=\"\",\"\",名簿男子!B62)","v":""},{"$f":"IF(名簿男子!C62=\"\",\"\",名簿男子!C62)","v":""},{"$f":"IF(名簿男子!E62=\"\",\"\",名簿男子!E62)","v":""},{"$f":"IF(名簿男子!F62=\"\",\"\",名簿男子!F62)","v":""},null,{"$f":"IF(名簿女子!A62=\"\",\"\",名簿女子!A62)","v":61},{"$f":"IF(名簿女子!B62=\"\",\"\",名簿女子!B62)","v":""},{"$f":"IF(名簿女子!C62=\"\",\"\",名簿女子!C62)","v":""},{"$f":"IF(名簿女子!E62=\"\",\"\",名簿女子!E62)","v":""},{"$f":"IF(名簿女子!F62=\"\",\"\",名簿女子!F62)","v":""}]
[null,null,null,null,null,null,null,null,null,null,null,null,null,null,null,null,{"$f":"IF(名簿男子!A63=\"\",\"\",名簿男子!A63)","v":62},{"$f":"IF(名簿男子!B63=\"\",\"\",名簿男子!B63)","v":""},{"$f":"IF(名簿男子!C63=\"\",\"\",名簿男子!C63)","v":""},{"$f":"IF(名簿男子!E63=\"\",\"\",名簿男子!E63)","v":""},{"$f":"IF(名簿男子!F63=\"\",\"\",名簿男子!F63)","v":""},null,{"$f":"IF(名簿女子!A63=\"\",\"\",名簿女子!A63)","v":62},{"$f":"IF(名簿女子!B63=\"\",\"\",名簿女子!B63)","v":""},{"$f":"IF(名簿女子!C63=\"\",\"\",名簿女子!C63)","v":""},{"$f":"IF(名簿女子!E63=\"\",\"\",名簿女子!E63)","v":""},{"$f":"IF(名簿女子!F63=\"\",\"\",名簿女子!F63)","v":""}]
[null,null,null,null,null,null,null,null,null,null,null,null,null,null,null,null,{"$f":"IF(名簿男子!A64=\"\",\"\",名簿男子!A64)","v":63},{"$f":"IF(名簿男子!B64=\"\",\"\",名簿男子!B64)","v":""},{"$f":"IF(名簿男子!C64=\"\",\"\",名簿男子!C64)","v":""},{"$f":"IF(名簿男子!E64=\"\",\"\",名簿男子!E64)","v":""},{"$f":"IF(名簿男子!F64=\"\",\"\",名簿男子!F64)","v":""},null,{"$f":"IF(名簿女子!A64=\"\",\"\",名簿女子!A64)","v":63},{"$f":"IF(名簿女子!B64=\"\",\"\",名簿女子!B64)","v":""},{"$f":"IF(名簿女子!C64=\"\",\"\",名簿女子!C64)","v":""},{"$f":"IF(名簿女子!E64=\"\",\"\",名簿女子!E64)","v":""},{"$f":"IF(名簿女子!F64=\"\",\"\",名簿女子!F64)","v":""}]
[null,null,null,null,null,null,null,null,null,null,null,null,null,null,null,null,{"$f":"IF(名簿男子!A65=\"\",\"\",名簿男子!A65)","v":64},{"$f":"IF(名簿男子!B65=\"\",\"\",名簿男子!B65)","v":""},{"$f":"IF(名簿男子!C65=\"\",\"\",名簿男子!C65)","v":""},{"$f":"IF(名簿男子!E65=\"\",\"\",名簿男子!E65)","v":""},{"$f":"IF(名簿男子!F65=\"\",\"\",名簿男子!F65)","v":""},null,{"$f":"IF(名簿女子!A65=\"\",\"\",名簿女子!A65)","v":64},{"$f":"IF(名簿女子!B65=\"\",\"\",名簿女子!B65)","v":""},{"$f":"IF(名簿女子!C65=\"\",\"\",名簿女子!C65)","v":""},{"$f":"IF(名簿女子!E65=\"\",\"\",名簿女子!E65)","v":""},{"$f":"IF(名簿女子!F65=\"\",\"\",名簿女子!F65)","v":""}]
[null,null,null,null,null,null,null,null,null,null,null,null,null,null,null,null,{"$f":"IF(名簿男子!A66=\"\",\"\",名簿男子!A66)","v":65},{"$f":"IF(名簿男子!B66=\"\",\"\",名簿男子!B66)","v":""},{"$f":"IF(名簿男子!C66=\"\",\"\",名簿男子!C66)","v":""},{"$f":"IF(名簿男子!E66=\"\",\"\",名簿男子!E66)","v":""},{"$f":"IF(名簿男子!F66=\"\",\"\",名簿男子!F66)","v":""},null,{"$f":"IF(名簿女子!A66=\"\",\"\",名簿女子!A66)","v":65},{"$f":"IF(名簿女子!B66=\"\",\"\",名簿女子!B66)","v":""},{"$f":"IF(名簿女子!C66=\"\",\"\",名簿女子!C66)","v":""},{"$f":"IF(名簿女子!E66=\"\",\"\",名簿女子!E66)","v":""},{"$f":"IF(名簿女子!F66=\"\",\"\",名簿女子!F66)","v":""}]
[null,null,null,null,null,null,null,null,null,null,null,null,null,null,null,null,{"$f":"IF(名簿男子!A67=\"\",\"\",名簿男子!A67)","v":66},{"$f":"IF(名簿男子!B67=\"\",\"\",名簿男子!B67)","v":""},{"$f":"IF(名簿男子!C67=\"\",\"\",名簿男子!C67)","v":""},{"$f":"IF(名簿男子!E67=\"\",\"\",名簿男子!E67)","v":""},{"$f":"IF(名簿男子!F67=\"\",\"\",名簿男子!F67)","v":""},null,{"$f":"IF(名簿女子!A67=\"\",\"\",名簿女子!A67)","v":66},{"$f":"IF(名簿女子!B67=\"\",\"\",名簿女子!B67)","v":""},{"$f":"IF(名簿女子!C67=\"\",\"\",名簿女子!C67)","v":""},{"$f":"IF(名簿女子!E67=\"\",\"\",名簿女子!E67)","v":""},{"$f":"IF(名簿女子!F67=\"\",\"\",名簿女子!F67)","v":""}]
[null,null,null,null,null,null,null,null,null,null,null,null,null,null,null,null,{"$f":"IF(名簿男子!A68=\"\",\"\",名簿男子!A68)","v":67},{"$f":"IF(名簿男子!B68=\"\",\"\",名簿男子!B68)","v":""},{"$f":"IF(名簿男子!C68=\"\",\"\",名簿男子!C68)","v":""},{"$f":"IF(名簿男子!E68=\"\",\"\",名簿男子!E68)","v":""},{"$f":"IF(名簿男子!F68=\"\",\"\",名簿男子!F68)","v":""},null,{"$f":"IF(名簿女子!A68=\"\",\"\",名簿女子!A68)","v":67},{"$f":"IF(名簿女子!B68=\"\",\"\",名簿女子!B68)","v":""},{"$f":"IF(名簿女子!C68=\"\",\"\",名簿女子!C68)","v":""},{"$f":"IF(名簿女子!E68=\"\",\"\",名簿女子!E68)","v":""},{"$f":"IF(名簿女子!F68=\"\",\"\",名簿女子!F68)","v":""}]
[null,null,null,null,null,null,null,null,null,null,null,null,null,null,null,null,{"$f":"IF(名簿男子!A69=\"\",\"\",名簿男子!A69)","v":68},{"$f":"IF(名簿男子!B69=\"\",\"\",名簿男子!B69)","v":""},{"$f":"IF(名簿男子!C69=\"\",\"\",名簿男子!C69)","v":""},{"$f":"IF(名簿男子!E69=\"\",\"\",名簿男子!E69)","v":""},{"$f":"IF(名簿男子!F69=\"\",\"\",名簿男子!F69)","v":""},null,{"$f":"IF(名簿女子!A69=\"\",\"\",名簿女子!A69)","v":68},{"$f":"IF(名簿女子!B69=\"\",\"\",名簿女子!B69)","v":""},{"$f":"IF(名簿女子!C69=\"\",\"\",名簿女子!C69)","v":""},{"$f":"IF(名簿女子!E69=\"\",\"\",名簿女子!E69)","v":""},{"$f":"IF(名簿女子!F69=\"\",\"\",名簿女子!F69)","v":""}]
[null,null,null,null,null,null,null,null,null,null,null,null,null,null,null,null,{"$f":"IF(名簿男子!A70=\"\",\"\",名簿男子!A70)","v":69},{"$f":"IF(名簿男子!B70=\"\",\"\",名簿男子!B70)","v":""},{"$f":"IF(名簿男子!C70=\"\",\"\",名簿男子!C70)","v":""},{"$f":"IF(名簿男子!E70=\"\",\"\",名簿男子!E70)","v":""},{"$f":"IF(名簿男子!F70=\"\",\"\",名簿男子!F70)","v":""},null,{"$f":"IF(名簿女子!A70=\"\",\"\",名簿女子!A70)","v":69},{"$f":"IF(名簿女子!B70=\"\",\"\",名簿女子!B70)","v":""},{"$f":"IF(名簿女子!C70=\"\",\"\",名簿女子!C70)","v":""},{"$f":"IF(名簿女子!E70=\"\",\"\",名簿女子!E70)","v":""},{"$f":"IF(名簿女子!F70=\"\",\"\",名簿女子!F70)","v":""}]
[null,null,null,null,null,null,null,null,null,null,null,null,null,null,null,null,{"$f":"IF(名簿男子!A71=\"\",\"\",名簿男子!A71)","v":70},{"$f":"IF(名簿男子!B71=\"\",\"\",名簿男子!B71)","v":""},{"$f":"IF(名簿男子!C71=\"\",\"\",名簿男子!C71)","v":""},{"$f":"IF(名簿男子!E71=\"\",\"\",名簿男子!E71)","v":""},{"$f":"IF(名簿男子!F71=\"\",\"\",名簿男子!F71)","v":""},null,{"$f":"IF(名簿女子!A71=\"\",\"\",名簿女子!A71)","v":70},{"$f":"IF(名簿女子!B71=\"\",\"\",名簿女子!B71)","v":""},{"$f":"IF(名簿女子!C71=\"\",\"\",名簿女子!C71)","v":""},{"$f":"IF(名簿女子!E71=\"\",\"\",名簿女子!E71)","v":""},{"$f":"IF(名簿女子!F71=\"\",\"\",名簿女子!F71)","v":""}]
[null,null,null,null,null,null,null,null,null,null,null,null,null,null,null,null,{"$f":"IF(名簿男子!A72=\"\",\"\",名簿男子!A72)","v":71},{"$f":"IF(名簿男子!B72=\"\",\"\",名簿男子!B72)","v":""},{"$f":"IF(名簿男子!C72=\"\",\"\",名簿男子!C72)","v":""},{"$f":"IF(名簿男子!E72=\"\",\"\",名簿男子!E72)","v":""},{"$f":"IF(名簿男子!F72=\"\",\"\",名簿男子!F72)","v":""},null,{"$f":"IF(名簿女子!A72=\"\",\"\",名簿女子!A72)","v":71},{"$f":"IF(名簿女子!B72=\"\",\"\",名簿女子!B72)","v":""},{"$f":"IF(名簿女子!C72=\"\",\"\",名簿女子!C72)","v":""},{"$f":"IF(名簿女子!E72=\"\",\"\",名簿女子!E72)","v":""},{"$f":"IF(名簿女子!F72=\"\",\"\",名簿女子!F72)","v":""}]
[null,null,null,null,null,null,null,null,null,null,null,null,null,null,null,null,{"$f":"IF(名簿男子!A73=\"\",\"\",名簿男子!A73)","v":72},{"$f":"IF(名簿男子!B73=\"\",\"\",名簿男子!B73)","v":""},{"$f":"IF(名簿男子!C73=\"\",\"\",名簿男子!C73)","v":""},{"$f":"IF(名簿男子!E73=\"\",\"\",名簿男子!E73)","v":""},{"$f":"IF(名簿男子!F73=\"\",\"\",名簿男子!F73)","v":""},null,{"$f":"IF(名簿女子!A73=\"\",\"\",名簿女子!A73)","v":72},{"$f":"IF(名簿女子!B73=\"\",\"\",名簿女子!B73)","v":""},{"$f":"IF(名簿女子!C73=\"\",\"\",名簿女子!C73)","v":""},{"$f":"IF(名簿女子!E73=\"\",\"\",名簿女子!E73)","v":""},{"$f":"IF(名簿女子!F73=\"\",\"\",名簿女子!F73)","v":""}]
[null,null,null,null,null,null,null,null,null,null,null,null,null,null,null,null,{"$f":"IF(名簿男子!A74=\"\",\"\",名簿男子!A74)","v":73},{"$f":"IF(名簿男子!B74=\"\",\"\",名簿男子!B74)","v":""},{"$f":"IF(名簿男子!C74=\"\",\"\",名簿男子!C74)","v":""},{"$f":"IF(名簿男子!E74=\"\",\"\",名簿男子!E74)","v":""},{"$f":"IF(名簿男子!F74=\"\",\"\",名簿男子!F74)","v":""},null,{"$f":"IF(名簿女子!A74=\"\",\"\",名簿女子!A74)","v":73},{"$f":"IF(名簿女子!B74=\"\",\"\",名簿女子!B74)","v":""},{"$f":"IF(名簿女子!C74=\"\",\"\",名簿女子!C74)","v":""},{"$f":"IF(名簿女子!E74=\"\",\"\",名簿女子!E74)","v":""},{"$f":"IF(名簿女子!F74=\"\",\"\",名簿女子!F74)","v":""}]
[null,null,null,null,null,null,null,null,null,null,null,null,null,null,null,null,{"$f":"IF(名簿男子!A75=\"\",\"\",名簿男子!A75)","v":74},{"$f":"IF(名簿男子!B75=\"\",\"\",名簿男子!B75)","v":""},{"$f":"IF(名簿男子!C75=\"\",\"\",名簿男子!C75)","v":""},{"$f":"IF(名簿男子!E75=\"\",\"\",名簿男子!E75)","v":""},{"$f":"IF(名簿男子!F75=\"\",\"\",名簿男子!F75)","v":""},null,{"$f":"IF(名簿女子!A75=\"\",\"\",名簿女子!A75)","v":74},{"$f":"IF(名簿女子!B75=\"\",\"\",名簿女子!B75)","v":""},{"$f":"IF(名簿女子!C75=\"\",\"\",名簿女子!C75)","v":""},{"$f":"IF(名簿女子!E75=\"\",\"\",名簿女子!E75)","v":""},{"$f":"IF(名簿女子!F75=\"\",\"\",名簿女子!F75)","v":""}]
[null,null,null,null,null,null,null,null,null,null,null,null,null,null,null,null,{"$f":"IF(名簿男子!A76=\"\",\"\",名簿男子!A76)","v":75},{"$f":"IF(名簿男子!B76=\"\",\"\",名簿男子!B76)","v":""},{"$f":"IF(名簿男子!C76=\"\",\"\",名簿男子!C76)","v":""},{"$f":"IF(名簿男子!E76=\"\",\"\",名簿男子!E76)","v":""},{"$f":"IF(名簿男子!F76=\"\",\"\",名簿男子!F76)","v":""},null,{"$f":"IF(名簿女子!A76=\"\",\"\",名簿女子!A76)","v":75},{"$f":"IF(名簿女子!B76=\"\",\"\",名簿女子!B76)","v":""},{"$f":"IF(名簿女子!C76=\"\",\"\",名簿女子!C76)","v":""},{"$f":"IF(名簿女子!E76=\"\",\"\",名簿女子!E76)","v":""},{"$f":"IF(名簿女子!F76=\"\",\"\",名簿女子!F76)","v":""}]
[null,null,null,null,null,null,null,null,null,null,null,null,null,null,null,null,{"$f":"IF(名簿男子!A77=\"\",\"\",名簿男子!A77)","v":76},{"$f":"IF(名簿男子!B77=\"\",\"\",名簿男子!B77)","v":""},{"$f":"IF(名簿男子!C77=\"\",\"\",名簿男子!C77)","v":""},{"$f":"IF(名簿男子!E77=\"\",\"\",名簿男子!E77)","v":""},{"$f":"IF(名簿男子!F77=\"\",\"\",名簿男子!F77)","v":""},null,{"$f":"IF(名簿女子!A77=\"\",\"\",名簿女子!A77)","v":76},{"$f":"IF(名簿女子!B77=\"\",\"\",名簿女子!B77)","v":""},{"$f":"IF(名簿女子!C77=\"\",\"\",名簿女子!C77)","v":""},{"$f":"IF(名簿女子!E77=\"\",\"\",名簿女子!E77)","v":""},{"$f":"IF(名簿女子!F77=\"\",\"\",名簿女子!F77)","v":""}]
[null,null,null,null,null,null,null,null,null,null,null,null,null,null,null,null,{"$f":"IF(名簿男子!A78=\"\",\"\",名簿男子!A78)","v":77},{"$f":"IF(名簿男子!B78=\"\",\"\",名簿男子!B78)","v":""},{"$f":"IF(名簿男子!C78=\"\",\"\",名簿男子!C78)","v":""},{"$f":"IF(名簿男子!E78=\"\",\"\",名簿男子!E78)","v":""},{"$f":"IF(名簿男子!F78=\"\",\"\",名簿男子!F78)","v":""},null,{"$f":"IF(名簿女子!A78=\"\",\"\",名簿女子!A78)","v":77},{"$f":"IF(名簿女子!B78=\"\",\"\",名簿女子!B78)","v":""},{"$f":"IF(名簿女子!C78=\"\",\"\",名簿女子!C78)","v":""},{"$f":"IF(名簿女子!E78=\"\",\"\",名簿女子!E78)","v":""},{"$f":"IF(名簿女子!F78=\"\",\"\",名簿女子!F78)","v":""}]
[null,null,null,null,null,null,null,null,null,null,null,null,null,null,null,null,{"$f":"IF(名簿男子!A79=\"\",\"\",名簿男子!A79)","v":78},{"$f":"IF(名簿男子!B79=\"\",\"\",名簿男子!B79)","v":""},{"$f":"IF(名簿男子!C79=\"\",\"\",名簿男子!C79)","v":""},{"$f":"IF(名簿男子!E79=\"\",\"\",名簿男子!E79)","v":""},{"$f":"IF(名簿男子!F79=\"\",\"\",名簿男子!F79)","v":""},null,{"$f":"IF(名簿女子!A79=\"\",\"\",名簿女子!A79)","v":78},{"$f":"IF(名簿女子!B79=\"\",\"\",名簿女子!B79)","v":""},{"$f":"IF(名簿女子!C79=\"\",\"\",名簿女子!C79)","v":""},{"$f":"IF(名簿女子!E79=\"\",\"\",名簿女子!E79)","v":""},{"$f":"IF(名簿女子!F79=\"\",\"\",名簿女子!F79)","v":""}]
[null,null,null,null,null,null,null,null,null,null,null,null,null,null,null,null,{"$f":"IF(名簿男子!A80=\"\",\"\",名簿男子!A80)","v":79},{"$f":"IF(名簿男子!B80=\"\",\"\",名簿男子!B80)","v":""},{"$f":"IF(名簿男子!C80=\"\",\"\",名簿男子!C80)","v":""},{"$f":"IF(名簿男子!E80=\"\",\"\",名簿男子!E80)","v":""},{"$f":"IF(名簿男子!F80=\"\",\"\",名簿男子!F80)","v":""},null,{"$f":"IF(名簿女子!A80=\"\",\"\",名簿女子!A80)","v":79},{"$f":"IF(名簿女子!B80=\"\",\"\",名簿女子!B80)","v":""},{"$f":"IF(名簿女子!C80=\"\",\"\",名簿女子!C80)","v":""},{"$f":"IF(名簿女子!E80=\"\",\"\",名簿女子!E80)","v":""},{"$f":"IF(名簿女子!F80=\"\",\"\",名簿女子!F80)","v":""}]
[null,null,null,null,null,null,null,null,null,null,null,null,null,null,null,null,{"$f":"IF(名簿男子!A81=\"\",\"\",名簿男子!A81)","v":80},{"$f":"IF(名簿男子!B81=\"\",\"\",名簿男子!B81)","v":""},{"$f":"IF(名簿男子!C81=\"\",\"\",名簿男子!C81)","v":""},{"$f":"IF(名簿男子!E81=\"\",\"\",名簿男子!E81)","v":""},{"$f":"IF(名簿男子!F81=\"\",\"\",名簿男子!F81)","v":""},null,{"$f":"IF(名簿女子!A81=\"\",\"\",名簿女子!A81)","v":80},{"$f":"IF(名簿女子!B81=\"\",\"\",名簿女子!B81)","v":""},{"$f":"IF(名簿女子!C81=\"\",\"\",名簿女子!C81)","v":""},{"$f":"IF(名簿女子!E81=\"\",\"\",名簿女子!E81)","v":""},{"$f":"IF(名簿女子!F81=\"\",\"\",名簿女子!F81)","v":""}]
[null,null,null,null,null,null,null,null,null,null,null,null,null,null,null,null,{"$f":"IF(名簿男子!A82=\"\",\"\",名簿男子!A82)","v":81},{"$f":"IF(名簿男子!B82=\"\",\"\",名簿男子!B82)","v":""},{"$f":"IF(名簿男子!C82=\"\",\"\",名簿男子!C82)","v":""},{"$f":"IF(名簿男子!E82=\"\",\"\",名簿男子!E82)","v":""},{"$f":"IF(名簿男子!F82=\"\",\"\",名簿男子!F82)","v":""},null,{"$f":"IF(名簿女子!A82=\"\",\"\",名簿女子!A82)","v":81},{"$f":"IF(名簿女子!B82=\"\",\"\",名簿女子!B82)","v":""},{"$f":"IF(名簿女子!C82=\"\",\"\",名簿女子!C82)","v":""},{"$f":"IF(名簿女子!E82=\"\",\"\",名簿女子!E82)","v":""},{"$f":"IF(名簿女子!F82=\"\",\"\",名簿女子!F82)","v":""}]
[null,null,null,null,null,null,null,null,null,null,null,null,null,null,null,null,{"$f":"IF(名簿男子!A83=\"\",\"\",名簿男子!A83)","v":82},{"$f":"IF(名簿男子!B83=\"\",\"\",名簿男子!B83)","v":""},{"$f":"IF(名簿男子!C83=\"\",\"\",名簿男子!C83)","v":""},{"$f":"IF(名簿男子!E83=\"\",\"\",名簿男子!E83)","v":""},{"$f":"IF(名簿男子!F83=\"\",\"\",名簿男子!F83)","v":""},null,{"$f":"IF(名簿女子!A83=\"\",\"\",名簿女子!A83)","v":82},{"$f":"IF(名簿女子!B83=\"\",\"\",名簿女子!B83)","v":""},{"$f":"IF(名簿女子!C83=\"\",\"\",名簿女子!C83)","v":""},{"$f":"IF(名簿女子!E83=\"\",\"\",名簿女子!E83)","v":""},{"$f":"IF(名簿女子!F83=\"\",\"\",名簿女子!F83)","v":""}]
[null,null,null,null,null,null,null,null,null,null,null,null,null,null,null,null,{"$f":"IF(名簿男子!A84=\"\",\"\",名簿男子!A84)","v":83},{"$f":"IF(名簿男子!B84=\"\",\"\",名簿男子!B84)","v":""},{"$f":"IF(名簿男子!C84=\"\",\"\",名簿男子!C84)","v":""},{"$f":"IF(名簿男子!E84=\"\",\"\",名簿男子!E84)","v":""},{"$f":"IF(名簿男子!F84=\"\",\"\",名簿男子!F84)","v":""},null,{"$f":"IF(名簿女子!A84=\"\",\"\",名簿女子!A84)","v":83},{"$f":"IF(名簿女子!B84=\"\",\"\",名簿女子!B84)","v":""},{"$f":"IF(名簿女子!C84=\"\",\"\",名簿女子!C84)","v":""},{"$f":"IF(名簿女子!E84=\"\",\"\",名簿女子!E84)","v":""},{"$f":"IF(名簿女子!F84=\"\",\"\",名簿女子!F84)","v":""}]
[null,null,null,null,null,null,null,null,null,null,null,null,null,null,null,null,{"$f":"IF(名簿男子!A85=\"\",\"\",名簿男子!A85)","v":84},{"$f":"IF(名簿男子!B85=\"\",\"\",名簿男子!B85)","v":""},{"$f":"IF(名簿男子!C85=\"\",\"\",名簿男子!C85)","v":""},{"$f":"IF(名簿男子!E85=\"\",\"\",名簿男子!E85)","v":""},{"$f":"IF(名簿男子!F85=\"\",\"\",名簿男子!F85)","v":""},null,{"$f":"IF(名簿女子!A85=\"\",\"\",名簿女子!A85)","v":84},{"$f":"IF(名簿女子!B85=\"\",\"\",名簿女子!B85)","v":""},{"$f":"IF(名簿女子!C85=\"\",\"\",名簿女子!C85)","v":""},{"$f":"IF(名簿女子!E85=\"\",\"\",名簿女子!E85)","v":""},{"$f":"IF(名簿女子!F85=\"\",\"\",名簿女子!F85)","v":""}]
[null,null,null,null,null,null,null,null,null,null,null,null,null,null,null,null,{"$f":"IF(名簿男子!A86=\"\",\"\",名簿男子!A86)","v":85},{"$f":"IF(名簿男子!B86=\"\",\"\",名簿男子!B86)","v":""},{"$f":"IF(名簿男子!C86=\"\",\"\",名簿男子!C86)","v":""},{"$f":"IF(名簿男子!E86=\"\",\"\",名簿男子!E86)","v":""},{"$f":"IF(名簿男子!F86=\"\",\"\",名簿男子!F86)","v":""},null,{"$f":"IF(名簿女子!A86=\"\",\"\",名簿女子!A86)","v":85},{"$f":"IF(名簿女子!B86=\"\",\"\",名簿女子!B86)","v":""},{"$f":"IF(名簿女子!C86=\"\",\"\",名簿女子!C86)","v":""},{"$f":"IF(名簿女子!E86=\"\",\"\",名簿女子!E86)","v":""},{"$f":"IF(名簿女子!F86=\"\",\"\",名簿女子!F86)","v":""}]
[null,null,null,null,null,null,null,null,null,null,null,null,null,null,null,null,{"$f":"IF(名簿男子!A87=\"\",\"\",名簿男子!A87)","v":86},{"$f":"IF(名簿男子!B87=\"\",\"\",名簿男子!B87)","v":""},{"$f":"IF(名簿男子!C87=\"\",\"\",名簿男子!C87)","v":""},{"$f":"IF(名簿男子!E87=\"\",\"\",名簿男子!E87)","v":""},{"$f":"IF(名簿男子!F87=\"\",\"\",名簿男子!F87)","v":""},null,{"$f":"IF(名簿女子!A87=\"\",\"\",名簿女子!A87)","v":86},{"$f":"IF(名簿女子!B87=\"\",\"\",名簿女子!B87)","v":""},{"$f":"IF(名簿女子!C87=\"\",\"\",名簿女子!C87)","v":""},{"$f":"IF(名簿女子!E87=\"\",\"\",名簿女子!E87)","v":""},{"$f":"IF(名簿女子!F87=\"\",\"\",名簿女子!F87)","v":""}]
[null,null,null,null,null,null,null,null,null,null,null,null,null,null,null,null,{"$f":"IF(名簿男子!A88=\"\",\"\",名簿男子!A88)","v":87},{"$f":"IF(名簿男子!B88=\"\",\"\",名簿男子!B88)","v":""},{"$f":"IF(名簿男子!C88=\"\",\"\",名簿男子!C88)","v":""},{"$f":"IF(名簿男子!E88=\"\",\"\",名簿男子!E88)","v":""},{"$f":"IF(名簿男子!F88=\"\",\"\",名簿男子!F88)","v":""},null,{"$f":"IF(名簿女子!A88=\"\",\"\",名簿女子!A88)","v":87},{"$f":"IF(名簿女子!B88=\"\",\"\",名簿女子!B88)","v":""},{"$f":"IF(名簿女子!C88=\"\",\"\",名簿女子!C88)","v":""},{"$f":"IF(名簿女子!E88=\"\",\"\",名簿女子!E88)","v":""},{"$f":"IF(名簿女子!F88=\"\",\"\",名簿女子!F88)","v":""}]
[null,null,null,null,null,null,null,null,null,null,null,null,null,null,null,null,{"$f":"IF(名簿男子!A89=\"\",\"\",名簿男子!A89)","v":88},{"$f":"IF(名簿男子!B89=\"\",\"\",名簿男子!B89)","v":""},{"$f":"IF(名簿男子!C89=\"\",\"\",名簿男子!C89)","v":""},{"$f":"IF(名簿男子!E89=\"\",\"\",名簿男子!E89)","v":""},{"$f":"IF(名簿男子!F89=\"\",\"\",名簿男子!F89)","v":""},null,{"$f":"IF(名簿女子!A89=\"\",\"\",名簿女子!A89)","v":88},{"$f":"IF(名簿女子!B89=\"\",\"\",名簿女子!B89)","v":""},{"$f":"IF(名簿女子!C89=\"\",\"\",名簿女子!C89)","v":""},{"$f":"IF(名簿女子!E89=\"\",\"\",名簿女子!E89)","v":""},{"$f":"IF(名簿女子!F89=\"\",\"\",名簿女子!F89)","v":""}]
[null,null,null,null,null,null,null,null,null,null,null,null,null,null,null,null,{"$f":"IF(名簿男子!A90=\"\",\"\",名簿男子!A90)","v":89},{"$f":"IF(名簿男子!B90=\"\",\"\",名簿男子!B90)","v":""},{"$f":"IF(名簿男子!C90=\"\",\"\",名簿男子!C90)","v":""},{"$f":"IF(名簿男子!E90=\"\",\"\",名簿男子!E90)","v":""},{"$f":"IF(名簿男子!F90=\"\",\"\",名簿男子!F90)","v":""},null,{"$f":"IF(名簿女子!A90=\"\",\"\",名簿女子!A90)","v":89},{"$f":"IF(名簿女子!B90=\"\",\"\",名簿女子!B90)","v":""},{"$f":"IF(名簿女子!C90=\"\",\"\",名簿女子!C90)","v":""},{"$f":"IF(名簿女子!E90=\"\",\"\",名簿女子!E90)","v":""},{"$f":"IF(名簿女子!F90=\"\",\"\",名簿女子!F90)","v":""}]
[null,null,null,null,null,null,null,null,null,null,null,null,null,null,null,null,{"$f":"IF(名簿男子!A91=\"\",\"\",名簿男子!A91)","v":90},{"$f":"IF(名簿男子!B91=\"\",\"\",名簿男子!B91)","v":""},{"$f":"IF(名簿男子!C91=\"\",\"\",名簿男子!C91)","v":""},{"$f":"IF(名簿男子!E91=\"\",\"\",名簿男子!E91)","v":""},{"$f":"IF(名簿男子!F91=\"\",\"\",名簿男子!F91)","v":""},null,{"$f":"IF(名簿女子!A91=\"\",\"\",名簿女子!A91)","v":90},{"$f":"IF(名簿女子!B91=\"\",\"\",名簿女子!B91)","v":""},{"$f":"IF(名簿女子!C91=\"\",\"\",名簿女子!C91)","v":""},{"$f":"IF(名簿女子!E91=\"\",\"\",名簿女子!E91)","v":""},{"$f":"IF(名簿女子!F91=\"\",\"\",名簿女子!F91)","v":""}]
[null,null,null,null,null,null,null,null,null,null,null,null,null,null,null,null,{"$f":"IF(名簿男子!A92=\"\",\"\",名簿男子!A92)","v":91},{"$f":"IF(名簿男子!B92=\"\",\"\",名簿男子!B92)","v":""},{"$f":"IF(名簿男子!C92=\"\",\"\",名簿男子!C92)","v":""},{"$f":"IF(名簿男子!E92=\"\",\"\",名簿男子!E92)","v":""},{"$f":"IF(名簿男子!F92=\"\",\"\",名簿男子!F92)","v":""},null,{"$f":"IF(名簿女子!A92=\"\",\"\",名簿女子!A92)","v":91},{"$f":"IF(名簿女子!B92=\"\",\"\",名簿女子!B92)","v":""},{"$f":"IF(名簿女子!C92=\"\",\"\",名簿女子!C92)","v":""},{"$f":"IF(名簿女子!E92=\"\",\"\",名簿女子!E92)","v":""},{"$f":"IF(名簿女子!F92=\"\",\"\",名簿女子!F92)","v":""}]
[null,null,null,null,null,null,null,null,null,null,null,null,null,null,null,null,{"$f":"IF(名簿男子!A93=\"\",\"\",名簿男子!A93)","v":92},{"$f":"IF(名簿男子!B93=\"\",\"\",名簿男子!B93)","v":""},{"$f":"IF(名簿男子!C93=\"\",\"\",名簿男子!C93)","v":""},{"$f":"IF(名簿男子!E93=\"\",\"\",名簿男子!E93)","v":""},{"$f":"IF(名簿男子!F93=\"\",\"\",名簿男子!F93)","v":""},null,{"$f":"IF(名簿女子!A93=\"\",\"\",名簿女子!A93)","v":92},{"$f":"IF(名簿女子!B93=\"\",\"\",名簿女子!B93)","v":""},{"$f":"IF(名簿女子!C93=\"\",\"\",名簿女子!C93)","v":""},{"$f":"IF(名簿女子!E93=\"\",\"\",名簿女子!E93)","v":""},{"$f":"IF(名簿女子!F93=\"\",\"\",名簿女子!F93)","v":""}]
[null,null,null,null,null,null,null,null,null,null,null,null,null,null,null,null,{"$f":"IF(名簿男子!A94=\"\",\"\",名簿男子!A94)","v":93},{"$f":"IF(名簿男子!B94=\"\",\"\",名簿男子!B94)","v":""},{"$f":"IF(名簿男子!C94=\"\",\"\",名簿男子!C94)","v":""},{"$f":"IF(名簿男子!E94=\"\",\"\",名簿男子!E94)","v":""},{"$f":"IF(名簿男子!F94=\"\",\"\",名簿男子!F94)","v":""},null,{"$f":"IF(名簿女子!A94=\"\",\"\",名簿女子!A94)","v":93},{"$f":"IF(名簿女子!B94=\"\",\"\",名簿女子!B94)","v":""},{"$f":"IF(名簿女子!C94=\"\",\"\",名簿女子!C94)","v":""},{"$f":"IF(名簿女子!E94=\"\",\"\",名簿女子!E94)","v":""},{"$f":"IF(名簿女子!F94=\"\",\"\",名簿女子!F94)","v":""}]
[null,null,null,null,null,null,null,null,null,null,null,null,null,null,null,null,{"$f":"IF(名簿男子!A95=\"\",\"\",名簿男子!A95)","v":94},{"$f":"IF(名簿男子!B95=\"\",\"\",名簿男子!B95)","v":""},{"$f":"IF(名簿男子!C95=\"\",\"\",名簿男子!C95)","v":""},{"$f":"IF(名簿男子!E95=\"\",\"\",名簿男子!E95)","v":""},{"$f":"IF(名簿男子!F95=\"\",\"\",名簿男子!F95)","v":""},null,{"$f":"IF(名簿女子!A95=\"\",\"\",名簿女子!A95)","v":94},{"$f":"IF(名簿女子!B95=\"\",\"\",名簿女子!B95)","v":""},{"$f":"IF(名簿女子!C95=\"\",\"\",名簿女子!C95)","v":""},{"$f":"IF(名簿女子!E95=\"\",\"\",名簿女子!E95)","v":""},{"$f":"IF(名簿女子!F95=\"\",\"\",名簿女子!F95)","v":""}]
[null,null,null,null,null,null,null,null,null,null,null,null,null,null,null,null,{"$f":"IF(名簿男子!A96=\"\",\"\",名簿男子!A96)","v":95},{"$f":"IF(名簿男子!B96=\"\",\"\",名簿男子!B96)","v":""},{"$f":"IF(名簿男子!C96=\"\",\"\",名簿男子!C96)","v":""},{"$f":"IF(名簿男子!E96=\"\",\"\",名簿男子!E96)","v":""},{"$f":"IF(名簿男子!F96=\"\",\"\",名簿男子!F96)","v":""},null,{"$f":"IF(名簿女子!A96=\"\",\"\",名簿女子!A96)","v":95},{"$f":"IF(名簿女子!B96=\"\",\"\",名簿女子!B96)","v":""},{"$f":"IF(名簿女子!C96=\"\",\"\",名簿女子!C96)","v":""},{"$f":"IF(名簿女子!E96=\"\",\"\",名簿女子!E96)","v":""},{"$f":"IF(名簿女子!F96=\"\",\"\",名簿女子!F96)","v":""}]
[null,null,null,null,null,null,null,null,null,null,null,null,null,null,null,null,{"$f":"IF(名簿男子!A97=\"\",\"\",名簿男子!A97)","v":96},{"$f":"IF(名簿男子!B97=\"\",\"\",名簿男子!B97)","v":""},{"$f":"IF(名簿男子!C97=\"\",\"\",名簿男子!C97)","v":""},{"$f":"IF(名簿男子!E97=\"\",\"\",名簿男子!E97)","v":""},{"$f":"IF(名簿男子!F97=\"\",\"\",名簿男子!F97)","v":""},null,{"$f":"IF(名簿女子!A97=\"\",\"\",名簿女子!A97)","v":96},{"$f":"IF(名簿女子!B97=\"\",\"\",名簿女子!B97)","v":""},{"$f":"IF(名簿女子!C97=\"\",\"\",名簿女子!C97)","v":""},{"$f":"IF(名簿女子!E97=\"\",\"\",名簿女子!E97)","v":""},{"$f":"IF(名簿女子!F97=\"\",\"\",名簿女子!F97)","v":""}]
[null,null,null,null,null,null,null,null,null,null,null,null,null,null,null,null,{"$f":"IF(名簿男子!A98=\"\",\"\",名簿男子!A98)","v":97},{"$f":"IF(名簿男子!B98=\"\",\"\",名簿男子!B98)","v":""},{"$f":"IF(名簿男子!C98=\"\",\"\",名簿男子!C98)","v":""},{"$f":"IF(名簿男子!E98=\"\",\"\",名簿男子!E98)","v":""},{"$f":"IF(名簿男子!F98=\"\",\"\",名簿男子!F98)","v":""},null,{"$f":"IF(名簿女子!A98=\"\",\"\",名簿女子!A98)","v":97},{"$f":"IF(名簿女子!B98=\"\",\"\",名簿女子!B98)","v":""},{"$f":"IF(名簿女子!C98=\"\",\"\",名簿女子!C98)","v":""},{"$f":"IF(名簿女子!E98=\"\",\"\",名簿女子!E98)","v":""},{"$f":"IF(名簿女子!F98=\"\",\"\",名簿女子!F98)","v":""}]
[null,null,null,null,null,null,null,null,null,null,null,null,null,null,null,null,{"$f":"IF(名簿男子!A99=\"\",\"\",名簿男子!A99)","v":98},{"$f":"IF(名簿男子!B99=\"\",\"\",名簿男子!B99)","v":""},{"$f":"IF(名簿男子!C99=\"\",\"\",名簿男子!C99)","v":""},{"$f":"IF(名簿男子!E99=\"\",\"\",名簿男子!E99)","v":""},{"$f":"IF(名簿男子!F99=\"\",\"\",名簿男子!F99)","v":""},null,{"$f":"IF(名簿女子!A99=\"\",\"\",名簿女子!A99)","v":98},{"$f":"IF(名簿女子!B99=\"\",\"\",名簿女子!B99)","v":""},{"$f":"IF(名簿女子!C99=\"\",\"\",名簿女子!C99)","v":""},{"$f":"IF(名簿女子!E99=\"\",\"\",名簿女子!E99)","v":""},{"$f":"IF(名簿女子!F99=\"\",\"\",名簿女子!F99)","v":""}]
[null,null,null,null,null,null,null,null,null,null,null,null,null,null,null,null,{"$f":"IF(名簿男子!A100=\"\",\"\",名簿男子!A100)","v":99},{"$f":"IF(名簿男子!B100=\"\",\"\",名簿男子!B100)","v":""},{"$f":"IF(名簿男子!C100=\"\",\"\",名簿男子!C100)","v":""},{"$f":"IF(名簿男子!E100=\"\",\"\",名簿男子!E100)","v":""},{"$f":"IF(名簿男子!F100=\"\",\"\",名簿男子!F100)","v":""},null,{"$f":"IF(名簿女子!A100=\"\",\"\",名簿女子!A100)","v":99},{"$f":"IF(名簿女子!B100=\"\",\"\",名簿女子!B100)","v":""},{"$f":"IF(名簿女子!C100=\"\",\"\",名簿女子!C100)","v":""},{"$f":"IF(名簿女子!E100=\"\",\"\",名簿女子!E100)","v":""},{"$f":"IF(名簿女子!F100=\"\",\"\",名簿女子!F100)","v":""}]
[null,null,null,null,null,null,null,null,null,null,null,null,null,null,null,null,{"$f":"IF(名簿男子!A101=\"\",\"\",名簿男子!A101)","v":100},{"$f":"IF(名簿男子!B101=\"\",\"\",名簿男子!B101)","v":""},{"$f":"IF(名簿男子!C101=\"\",\"\",名簿男子!C101)","v":""},{"$f":"IF(名簿男子!E101=\"\",\"\",名簿男子!E101)","v":""},{"$f":"IF(名簿男子!F101=\"\",\"\",名簿男子!F101)","v":""},null,{"$f":"IF(名簿女子!A101=\"\",\"\",名簿女子!A101)","v":100},{"$f":"IF(名簿女子!B101=\"\",\"\",名簿女子!B101)","v":""},{"$f":"IF(名簿女子!C101=\"\",\"\",名簿女子!C101)","v":""},{"$f":"IF(名簿女子!E101=\"\",\"\",名簿女子!E101)","v":""},{"$f":"IF(名簿女子!F101=\"\",\"\",名簿女子!F101)","v":""}]

{"sheet":"様式３男子","index":10,"n_rows":101,"n_cols":22,"rows_kept":101,"cut":false,"hidden":false,"merged":[[0,0,0,2],[0,11,1,14],[2,11,3,14],[4,11,5,14],[1,16,6,18]]}
[null,null,null,"申込一覧表",null,null,null,null,null,null,null,"伯耆町立岸本中学校",null,null,null,null,null,null,null,"番号","名前","種目"]
[null,null,null,null,null,null,null,null,null,null,"所属名",null,null,null,null,null,"番号を入れると種目と記録が自動で入力される。必要に応じて大会専用申し込みファイルにコピー＆ペーストする。",null,null,{"$f":"名簿男子!A2","v":1},{"$f":"名簿男子!C2","v":0},{"$f":"名簿男子!I2","v":0}]
[null,null,null,null,null,null,null,null,null,null,null,"竹下　悠也　　　　　　　印",null,null,null,null,null,null,null,{"$f":"名簿男子!A3","v":2},{"$f":"名簿男子!C3","v":0},{"$f":"名簿男子!I3","v":0}]
[null,null,null,null,null,null,null,null,null,null,"責任者",null,null,null,null,null,null,null,null,{"$f":"名簿男子!A4","v":3},{"$f":"名簿男子!C4","v":0},{"$f":"名簿男子!I4","v":0}]
[null,null,null,null,null,null,null,null,null,null,null,"（学校）0859-68-2260（携帯）090-2869-8138",null,null,null,null,null,null,null,{"$f":"名簿男子!A5","v":4},{"$f":"名簿男子!C5","v":0},{"$f":"名簿男子!I5","v":0}]
[null,null,null,null,null,null,null,null,null,null,"連絡先",null,null,null,null,null,null,null,null,{"$f":"名簿男子!A6","v":5},{"$f":"名簿男子!C6","v":0},{"$f":"名簿男子!I6","v":0}]
[null,null,null,null,null,null,null,null,null,null,null,null,null,null,null,null,null,null,null,{"$f":"名簿男子!A7","v":6},{"$f":"名簿男子!C7","v":0},{"$f":"名簿男子!I7","v":0}]
["ナンバー","氏　　　名","学年","フリガナ","性別","種目１","記録","種目２","記録","種目３","記録","4×100m","記録","4×   m","記録",null,"種目１","種目２","種目３",{"$f":"名簿男子!A8","v":7},{"$f":"名簿男子!C8","v":0},{"$f":"名簿男子!I8","v":0}]
[{"$f":"IF($Q9=\"\",\"\",VLOOKUP($Q9,名簿男子!$A$2:$K$101,2))","v":0},{"$f":"IF($Q9=\"\",\"\",VLOOKUP($Q9,名簿男子!$A$2:$K$101,3))","v":0},{"$f":"IF($Q9=\"\",\"\",VLOOKUP($Q9,名簿男子!$A$2:$K$101,6))","v":0},{"$f":"IF($Q9=\"\",\"\",VLOOKUP($Q9,名簿男子!$A$2:$K$101,5))","v":0},{"$f":"IF($Q9=\"\",\"\",VLOOKUP($Q9,名簿男子!$A$2:$K$101,8))","v":"男"},{"$f":"IF($Q9=\"\",\"\",VLOOKUP($Q9,名簿男子!$A$2:$K$101,9))","v":0},{"$f":"IF($Q9=\"\",\"\",VLOOKUP($Q9,名簿男子!$A$2:$K$101,10))","v":0},{"$f":"IF($R9=\"\",\"\",VLOOKUP($R9,名簿男子!$A$2:$K$101,9))","v":""},{"$f":"IF($R9=\"\",\"\",VLOOKUP($R9,名簿男子!$A$2:$K$101,10))","v":""},{"$f":"IF($S9=\"\",\"\",VLOOKUP($S9,名簿男子!$A$2:$K$101,9))","v":""},{"$f":"IF($S9=\"\",\"\",VLOOKUP($S9,名簿男子!$A$2:$K$101,10))","v":""},null,null,null,null,null,1,null,null,{"$f":"名簿男子!A9","v":8},{"$f":"名簿男子!C9","v":0},{"$f":"名簿男子!I9","v":0}]
[{"$f":"IF($Q10=\"\",\"\",VLOOKUP($Q10,名簿男子!$A$2:$K$101,2))","v":""},{"$f":"IF($Q10=\"\",\"\",VLOOKUP($Q10,名簿男子!$A$2:$K$101,3))","v":""},{"$f":"IF($Q10=\"\",\"\",VLOOKUP($Q10,名簿男子!$A$2:$K$101,6))","v":""},{"$f":"IF($Q10=\"\",\"\",VLOOKUP($Q10,名簿男子!$A$2:$K$101,5))","v":""},{"$f":"IF($Q10=\"\",\"\",VLOOKUP($Q10,名簿男子!$A$2:$K$101,8))","v":""},{"$f":"IF($Q10=\"\",\"\",VLOOKUP($Q10,名簿男子!$A$2:$K$101,9))","v":""},{"$f":"IF($Q10=\"\",\"\",VLOOKUP($Q10,名簿男子!$A$2:$K$101,10))","v":""},{"$f":"IF($R10=\"\",\"\",VLOOKUP($R10,名簿男子!$A$2:$K$101,9))","v":""},{"$f":"IF($R10=\"\",\"\",VLOOKUP($R10,名簿男子!$A$2:$K$101,10))","v":""},{"$f":"IF($S10=\"\",\"\",VLOOKUP($S10,名簿男子!$A$2:$K$101,9))","v":""},{"$f":"IF($S10=\"\",\"\",VLOOKUP($S10,名簿男子!$A$2:$K$101,10))","v":""},null,null,null,null,null,null,null,null,{"$f":"名簿男子!A10","v":9},{"$f":"名簿男子!C10","v":0},{"$f":"名簿男子!I10","v":0}]
[{"$f":"IF($Q11=\"\",\"\",VLOOKUP($Q11,名簿男子!$A$2:$K$101,2))","v":""},{"$f":"IF($Q11=\"\",\"\",VLOOKUP($Q11,名簿男子!$A$2:$K$101,3))","v":""},{"$f":"IF($Q11=\"\",\"\",VLOOKUP($Q11,名簿男子!$A$2:$K$101,6))","v":""},{"$f":"IF($Q11=\"\",\"\",VLOOKUP($Q11,名簿男子!$A$2:$K$101,5))","v":""},{"$f":"IF($Q11=\"\",\"\",VLOOKUP($Q11,名簿男子!$A$2:$K$101,8))","v":""},{"$f":"IF($Q11=\"\",\"\",VLOOKUP($Q11,名簿男子!$A$2:$K$101,9))","v":""},{"$f":"IF($Q11=\"\",\"\",VLOOKUP($Q11,名簿男子!$A$2:$K$101,10))","v":""},{"$f":"IF($R11=\"\",\"\",VLOOKUP($R11,名簿男子!$A$2:$K$101,9))","v":""},{"$f":"IF($R11=\"\",\"\",VLOOKUP($R11,名簿男子!$A$2:$K$101,10))","v":""},{"$f":"IF($S11=\"\",\"\",VLOOKUP($S11,名簿男子!$A$2:$K$101,9))","v":""},{"$f":"IF($S11=\"\",\"\",VLOOKUP($S11,名簿男子!$A$2:$K$101,10))","v":""},null,null,null,null,null,null,null,null,{"$f":"名簿男子!A11","v":10},{"$f":"名簿男子!C11","v":0},{"$f":"名簿男子!I11","v":0}]
[{"$f":"IF($Q12=\"\",\"\",VLOOKUP($Q12,名簿男子!$A$2:$K$101,2))","v":""},{"$f":"IF($Q12=\"\",\"\",VLOOKUP($Q12,名簿男子!$A$2:$K$101,3))","v":""},{"$f":"IF($Q12=\"\",\"\",VLOOKUP($Q12,名簿男子!$A$2:$K$101,6))","v":""},{"$f":"IF($Q12=\"\",\"\",VLOOKUP($Q12,名簿男子!$A$2:$K$101,5))","v":""},{"$f":"IF($Q12=\"\",\"\",VLOOKUP($Q12,名簿男子!$A$2:$K$101,8))","v":""},{"$f":"IF($Q12=\"\",\"\",VLOOKUP($Q12,名簿男子!$A$2:$K$101,9))","v":""},{"$f":"IF($Q12=\"\",\"\",VLOOKUP($Q12,名簿男子!$A$2:$K$101,10))","v":""},{"$f":"IF($R12=\"\",\"\",VLOOKUP($R12,名簿男子!$A$2:$K$101,9))","v":""},{"$f":"IF($R12=\"\",\"\",VLOOKUP($R12,名簿男子!$A$2:$K$101,10))","v":""},{"$f":"IF($S12=\"\",\"\",VLOOKUP($S12,名簿男子!$A$2:$K$101,9))","v":""},{"$f":"IF($S12=\"\",\"\",VLOOKUP($S12,名簿男子!$A$2:$K$101,10))","v":""},null,null,null,null,null,null,null,null,{"$f":"名簿男子!A12","v":11},{"$f":"名簿男子!C12","v":0},{"$f":"名簿男子!I12","v":0}]
[{"$f":"IF($Q13=\"\",\"\",VLOOKUP($Q13,名簿男子!$A$2:$K$101,2))","v":""},{"$f":"IF($Q13=\"\",\"\",VLOOKUP($Q13,名簿男子!$A$2:$K$101,3))","v":""},{"$f":"IF($Q13=\"\",\"\",VLOOKUP($Q13,名簿男子!$A$2:$K$101,6))","v":""},{"$f":"IF($Q13=\"\",\"\",VLOOKUP($Q13,名簿男子!$A$2:$K$101,5))","v":""},{"$f":"IF($Q13=\"\",\"\",VLOOKUP($Q13,名簿男子!$A$2:$K$101,8))","v":""},{"$f":"IF($Q13=\"\",\"\",VLOOKUP($Q13,名簿男子!$A$2:$K$101,9))","v":""},{"$f":"IF($Q13=\"\",\"\",VLOOKUP($Q13,名簿男子!$A$2:$K$101,10))","v":""},{"$f":"IF($R13=\"\",\"\",VLOOKUP($R13,名簿男子!$A$2:$K$101,9))","v":""},{"$f":"IF($R13=\"\",\"\",VLOOKUP($R13,名簿男子!$A$2:$K$101,10))","v":""},{"$f":"IF($S13=\"\",\"\",VLOOKUP($S13,名簿男子!$A$2:$K$101,9))","v":""},{"$f":"IF($S13=\"\",\"\",VLOOKUP($S13,名簿男子!$A$2:$K$101,10))","v":""},null,null,null,null,null,null,null,null,{"$f":"名簿男子!A13","v":12},{"$f":"名簿男子!C13","v":0},{"$f":"名簿男子!I13","v":0}]
[{"$f":"IF($Q14=\"\",\"\",VLOOKUP($Q14,名簿男子!$A$2:$K$101,2))","v":""},{"$f":"IF($Q14=\"\",\"\",VLOOKUP($Q14,名簿男子!$A$2:$K$101,3))","v":""},{"$f":"IF($Q14=\"\",\"\",VLOOKUP($Q14,名簿男子!$A$2:$K$101,6))","v":""},{"$f":"IF($Q14=\"\",\"\",VLOOKUP($Q14,名簿男子!$A$2:$K$101,5))","v":""},{"$f":"IF($Q14=\"\",\"\",VLOOKUP($Q14,名簿男子!$A$2:$K$101,8))","v":""},{"$f":"IF($Q14=\"\",\"\",VLOOKUP($Q14,名簿男子!$A$2:$K$101,9))","v":""},{"$f":"IF($Q14=\"\",\"\",VLOOKUP($Q14,名簿男子!$A$2:$K$101,10))","v":""},{"$f":"IF($R14=\"\",\"\",VLOOKUP($R14,名簿男子!$A$2:$K$101,9))","v":""},{"$f":"IF($R14=\"\",\"\",VLOOKUP($R14,名簿男子!$A$2:$K$101,10))","v":""},{"$f":"IF($S14=\"\",\"\",VLOOKUP($S14,名簿男子!$A$2:$K$101,9))","v":""},{"$f":"IF($S14=\"\",\"\",VLOOKUP($S14,名簿男子!$A$2:$K$101,10))","v":""},null,null,null,null,null,null,null,null,{"$f":"名簿男子!A14","v":13},{"$f":"名簿男子!C14","v":0},{"$f":"名簿男子!I14","v":0}]
[{"$f":"IF($Q15=\"\",\"\",VLOOKUP($Q15,名簿男子!$A$2:$K$101,2))","v":""},{"$f":"IF($Q15=\"\",\"\",VLOOKUP($Q15,名簿男子!$A$2:$K$101,3))","v":""},{"$f":"IF($Q15=\"\",\"\",VLOOKUP($Q15,名簿男子!$A$2:$K$101,6))","v":""},{"$f":"IF($Q15=\"\",\"\",VLOOKUP($Q15,名簿男子!$A$2:$K$101,5))","v":""},{"$f":"IF($Q15=\"\",\"\",VLOOKUP($Q15,名簿男子!$A$2:$K$101,8))","v":""},{"$f":"IF($Q15=\"\",\"\",VLOOKUP($Q15,名簿男子!$A$2:$K$101,9))","v":""},{"$f":"IF($Q15=\"\",\"\",VLOOKUP($Q15,名簿男子!$A$2:$K$101,10))","v":""},{"$f":"IF($R15=\"\",\"\",VLOOKUP($R15,名簿男子!$A$2:$K$101,9))","v":""},{"$f":"IF($R15=\"\",\"\",VLOOKUP($R15,名簿男子!$A$2:$K$101,10))","v":""},{"$f":"IF($S15=\"\",\"\",VLOOKUP($S15,名簿男子!$A$2:$K$101,9))","v":""},{"$f":"IF($S15=\"\",\"\",VLOOKUP($S15,名簿男子!$A$2:$K$101,10))","v":""},null,null,null,null,null,null,null,null,{"$f":"名簿男子!A15","v":14},{"$f":"名簿男子!C15","v":0},{"$f":"名簿男子!I15","v":0}]
[{"$f":"IF($Q16=\"\",\"\",VLOOKUP($Q16,名簿男子!$A$2:$K$101,2))","v":""},{"$f":"IF($Q16=\"\",\"\",VLOOKUP($Q16,名簿男子!$A$2:$K$101,3))","v":""},{"$f":"IF($Q16=\"\",\"\",VLOOKUP($Q16,名簿男子!$A$2:$K$101,6))","v":""},{"$f":"IF($Q16=\"\",\"\",VLOOKUP($Q16,名簿男子!$A$2:$K$101,5))","v":""},{"$f":"IF($Q16=\"\",\"\",VLOOKUP($Q16,名簿男子!$A$2:$K$101,8))","v":""},{"$f":"IF($Q16=\"\",\"\",VLOOKUP($Q16,名簿男子!$A$2:$K$101,9))","v":""},{"$f":"IF($Q16=\"\",\"\",VLOOKUP($Q16,名簿男子!$A$2:$K$101,10))","v":""},{"$f":"IF($R16=\"\",\"\",VLOOKUP($R16,名簿男子!$A$2:$K$101,9))","v":""},{"$f":"IF($R16=\"\",\"\",VLOOKUP($R16,名簿男子!$A$2:$K$101,10))","v":""},{"$f":"IF($S16=\"\",\"\",VLOOKUP($S16,名簿男子!$A$2:$K$101,9))","v":""},{"$f":"IF($S16=\"\",\"\",VLOOKUP($S16,名簿男子!$A$2:$K$101,10))","v":""},null,null,null,null,null,null,null,null,{"$f":"名簿男子!A16","v":15},{"$f":"名簿男子!C16","v":0},{"$f":"名簿男子!I16","v":0}]
[{"$f":"IF($Q17=\"\",\"\",VLOOKUP($Q17,名簿男子!$A$2:$K$101,2))","v":""},{"$f":"IF($Q17=\"\",\"\",VLOOKUP($Q17,名簿男子!$A$2:$K$101,3))","v":""},{"$f":"IF($Q17=\"\",\"\",VLOOKUP($Q17,名簿男子!$A$2:$K$101,6))","v":""},{"$f":"IF($Q17=\"\",\"\",VLOOKUP($Q17,名簿男子!$A$2:$K$101,5))","v":""},{"$f":"IF($Q17=\"\",\"\",VLOOKUP($Q17,名簿男子!$A$2:$K$101,8))","v":""},{"$f":"IF($Q17=\"\",\"\",VLOOKUP($Q17,名簿男子!$A$2:$K$101,9))","v":""},{"$f":"IF($Q17=\"\",\"\",VLOOKUP($Q17,名簿男子!$A$2:$K$101,10))","v":""},{"$f":"IF($R17=\"\",\"\",VLOOKUP($R17,名簿男子!$A$2:$K$101,9))","v":""},{"$f":"IF($R17=\"\",\"\",VLOOKUP($R17,名簿男子!$A$2:$K$101,10))","v":""},{"$f":"IF($S17=\"\",\"\",VLOOKUP($S17,名簿男子!$A$2:$K$101,9))","v":""},{"$f":"IF($S17=\"\",\"\",VLOOKUP($S17,名簿男子!$A$2:$K$101,10))","v":""},null,null,null,null,null,null,null,null,{"$f":"名簿男子!A17","v":16},{"$f":"名簿男子!C17","v":0},{"$f":"名簿男子!I17","v":0}]
[{"$f":"IF($Q18=\"\",\"\",VLOOKUP($Q18,名簿男子!$A$2:$K$101,2))","v":""},{"$f":"IF($Q18=\"\",\"\",VLOOKUP($Q18,名簿男子!$A$2:$K$101,3))","v":""},{"$f":"IF($Q18=\"\",\"\",VLOOKUP($Q18,名簿男子!$A$2:$K$101,6))","v":""},{"$f":"IF($Q18=\"\",\"\",VLOOKUP($Q18,名簿男子!$A$2:$K$101,5))","v":""},{"$f":"IF($Q18=\"\",\"\",VLOOKUP($Q18,名簿男子!$A$2:$K$101,8))","v":""},{"$f":"IF($Q18=\"\",\"\",VLOOKUP($Q18,名簿男子!$A$2:$K$101,9))","v":""},{"$f":"IF($Q18=\"\",\"\",VLOOKUP($Q18,名簿男子!$A$2:$K$101,10))","v":""},{"$f":"IF($R18=\"\",\"\",VLOOKUP($R18,名簿男子!$A$2:$K$101,9))","v":""},{"$f":"IF($R18=\"\",\"\",VLOOKUP($R18,名簿男子!$A$2:$K$101,10))","v":""},{"$f":"IF($S18=\"\",\"\",VLOOKUP($S18,名簿男子!$A$2:$K$101,9))","v":""},{"$f":"IF($S18=\"\",\"\",VLOOKUP($S18,名簿男子!$A$2:$K$101,10))","v":""},null,null,null,null,null,null,null,null,{"$f":"名簿男子!A18","v":17},{"$f":"名簿男子!C18","v":0},{"$f":"名簿男子!I18","v":0}]
[{"$f":"IF($Q19=\"\",\"\",VLOOKUP($Q19,名簿男子!$A$2:$K$101,2))","v":""},{"$f":"IF($Q19=\"\",\"\",VLOOKUP($Q19,名簿男子!$A$2:$K$101,3))","v":""},{"$f":"IF($Q19=\"\",\"\",VLOOKUP($Q19,名簿男子!$A$2:$K$101,6))","v":""},{"$f":"IF($Q19=\"\",\"\",VLOOKUP($Q19,名簿男子!$A$2:$K$101,5))","v":""},{"$f":"IF($Q19=\"\",\"\",VLOOKUP($Q19,名簿男子!$A$2:$K$101,8))","v":""},{"$f":"IF($Q19=\"\",\"\",VLOOKUP($Q19,名簿男子!$A$2:$K$101,9))","v":""},{"$f":"IF($Q19=\"\",\"\",VLOOKUP($Q19,名簿男子!$A$2:$K$101,10))","v":""},{"$f":"IF($R19=\"\",\"\",VLOOKUP($R19,名簿男子!$A$2:$K$101,9))","v":""},{"$f":"IF($R19=\"\",\"\",VLOOKUP($R19,名簿男子!$A$2:$K$101,10))","v":""},{"$f":"IF($S19=\"\",\"\",VLOOKUP($S19,名簿男子!$A$2:$K$101,9))","v":""},{"$f":"IF($S19=\"\",\"\",VLOOKUP($S19,名簿男子!$A$2:$K$101,10))","v":""},null,null,null,null,null,null,null,null,{"$f":"名簿男子!A19","v":18},{"$f":"名簿男子!C19","v":0},{"$f":"名簿男子!I19","v":0}]
[{"$f":"IF($Q20=\"\",\"\",VLOOKUP($Q20,名簿男子!$A$2:$K$101,2))","v":""},{"$f":"IF($Q20=\"\",\"\",VLOOKUP($Q20,名簿男子!$A$2:$K$101,3))","v":""},{"$f":"IF($Q20=\"\",\"\",VLOOKUP($Q20,名簿男子!$A$2:$K$101,6))","v":""},{"$f":"IF($Q20=\"\",\"\",VLOOKUP($Q20,名簿男子!$A$2:$K$101,5))","v":""},{"$f":"IF($Q20=\"\",\"\",VLOOKUP($Q20,名簿男子!$A$2:$K$101,8))","v":""},{"$f":"IF($Q20=\"\",\"\",VLOOKUP($Q20,名簿男子!$A$2:$K$101,9))","v":""},{"$f":"IF($Q20=\"\",\"\",VLOOKUP($Q20,名簿男子!$A$2:$K$101,10))","v":""},{"$f":"IF($R20=\"\",\"\",VLOOKUP($R20,名簿男子!$A$2:$K$101,9))","v":""},{"$f":"IF($R20=\"\",\"\",VLOOKUP($R20,名簿男子!$A$2:$K$101,10))","v":""},{"$f":"IF($S20=\"\",\"\",VLOOKUP($S20,名簿男子!$A$2:$K$101,9))","v":""},{"$f":"IF($S20=\"\",\"\",VLOOKUP($S20,名簿男子!$A$2:$K$101,10))","v":""},null,null,null,null,null,null,null,null,{"$f":"名簿男子!A20","v":19},{"$f":"名簿男子!C20","v":0},{"$f":"名簿男子!I20","v":0}]
[{"$f":"IF($Q21=\"\",\"\",VLOOKUP($Q21,名簿男子!$A$2:$K$101,2))","v":""},{"$f":"IF($Q21=\"\",\"\",VLOOKUP($Q21,名簿男子!$A$2:$K$101,3))","v":""},{"$f":"IF($Q21=\"\",\"\",VLOOKUP($Q21,名簿男子!$A$2:$K$101,6))","v":""},{"$f":"IF($Q21=\"\",\"\",VLOOKUP($Q21,名簿男子!$A$2:$K$101,5))","v":""},{"$f":"IF($Q21=\"\",\"\",VLOOKUP($Q21,名簿男子!$A$2:$K$101,8))","v":""},{"$f":"IF($Q21=\"\",\"\",VLOOKUP($Q21,名簿男子!$A$2:$K$101,9))","v":""},{"$f":"IF($Q21=\"\",\"\",VLOOKUP($Q21,名簿男子!$A$2:$K$101,10))","v":""},{"$f":"IF($R21=\"\",\"\",VLOOKUP($R21,名簿男子!$A$2:$K$101,9))","v":""},{"$f":"IF($R21=\"\",\"\",VLOOKUP($R21,名簿男子!$A$2:$K$101,10))","v":""},{"$f":"IF($S21=\"\",\"\",VLOOKUP($S21,名簿男子!$A$2:$K$101,9))","v":""},{"$f":"IF($S21=\"\",\"\",VLOOKUP($S21,名簿男子!$A$2:$K$101,10))","v":""},null,null,null,null,null,null,null,null,{"$f":"名簿男子!A21","v":20},{"$f":"名簿男子!C21","v":0},{"$f":"名簿男子!I21","v":0}]
[{"$f":"IF($Q22=\"\",\"\",VLOOKUP($Q22,名簿男子!$A$2:$K$101,2))","v":""},{"$f":"IF($Q22=\"\",\"\",VLOOKUP($Q22,名簿男子!$A$2:$K$101,3))","v":""},{"$f":"IF($Q22=\"\",\"\",VLOOKUP($Q22,名簿男子!$A$2:$K$101,6))","v":""},{"$f":"IF($Q22=\"\",\"\",VLOOKUP($Q22,名簿男子!$A$2:$K$101,5))","v":""},{"$f":"IF($Q22=\"\",\"\",VLOOKUP($Q22,名簿男子!$A$2:$K$101,8))","v":""},{"$f":"IF($Q22=\"\",\"\",VLOOKUP($Q22,名簿男子!$A$2:$K$101,9))","v":""},{"$f":"IF($Q22=\"\",\"\",VLOOKUP($Q22,名簿男子!$A$2:$K$101,10))","v":""},{"$f":"IF($R22=\"\",\"\",VLOOKUP($R22,名簿男子!$A$2:$K$101,9))","v":""},{"$f":"IF($R22=\"\",\"\",VLOOKUP($R22,名簿男子!$A$2:$K$101,10))","v":""},{"$f":"IF($S22=\"\",\"\",VLOOKUP($S22,名簿男子!$A$2:$K$101,9))","v":""},{"$f":"IF($S22=\"\",\"\",VLOOKUP($S22,名簿男子!$A$2:$K$101,10))","v":""},null,null,null,null,null,null,null,null,{"$f":"名簿男子!A22","v":21},{"$f":"名簿男子!C22","v":0},{"$f":"名簿男子!I22","v":0}]
[{"$f":"IF($Q23=\"\",\"\",VLOOKUP($Q23,名簿男子!$A$2:$K$101,2))","v":""},{"$f":"IF($Q23=\"\",\"\",VLOOKUP($Q23,名簿男子!$A$2:$K$101,3))","v":""},{"$f":"IF($Q23=\"\",\"\",VLOOKUP($Q23,名簿男子!$A$2:$K$101,6))","v":""},{"$f":"IF($Q23=\"\",\"\",VLOOKUP($Q23,名簿男子!$A$2:$K$101,5))","v":""},{"$f":"IF($Q23=\"\",\"\",VLOOKUP($Q23,名簿男子!$A$2:$K$101,8))","v":""},{"$f":"IF($Q23=\"\",\"\",VLOOKUP($Q23,名簿男子!$A$2:$K$101,9))","v":""},{"$f":"IF($Q23=\"\",\"\",VLOOKUP($Q23,名簿男子!$A$2:$K$101,10))","v":""},{"$f":"IF($R23=\"\",\"\",VLOOKUP($R23,名簿男子!$A$2:$K$101,9))","v":""},{"$f":"IF($R23=\"\",\"\",VLOOKUP($R23,名簿男子!$A$2:$K$101,10))","v":""},{"$f":"IF($S23=\"\",\"\",VLOOKUP($S23,名簿男子!$A$2:$K$101,9))","v":""},{"$f":"IF($S23=\"\",\"\",VLOOKUP($S23,名簿男子!$A$2:$K$101,10))","v":""},null,null,null,null,null,null,null,null,{"$f":"名簿男子!A23","v":22},{"$f":"名簿男子!C23","v":0},{"$f":"名簿男子!I23","v":0}]
[{"$f":"IF($Q24=\"\",\"\",VLOOKUP($Q24,名簿男子!$A$2:$K$101,2))","v":""},{"$f":"IF($Q24=\"\",\"\",VLOOKUP($Q24,名簿男子!$A$2:$K$101,3))","v":""},{"$f":"IF($Q24=\"\",\"\",VLOOKUP($Q24,名簿男子!$A$2:$K$101,6))","v":""},{"$f":"IF($Q24=\"\",\"\",VLOOKUP($Q24,名簿男子!$A$2:$K$101,5))","v":""},{"$f":"IF($Q24=\"\",\"\",VLOOKUP($Q24,名簿男子!$A$2:$K$101,8))","v":""},{"$f":"IF($Q24=\"\",\"\",VLOOKUP($Q24,名簿男子!$A$2:$K$101,9))","v":""},{"$f":"IF($Q24=\"\",\"\",VLOOKUP($Q24,名簿男子!$A$2:$K$101,10))","v":""},{"$f":"IF($R24=\"\",\"\",VLOOKUP($R24,名簿男子!$A$2:$K$101,9))","v":""},{"$f":"IF($R24=\"\",\"\",VLOOKUP($R24,名簿男子!$A$2:$K$101,10))","v":""},{"$f":"IF($S24=\"\",\"\",VLOOKUP($S24,名簿男子!$A$2:$K$101,9))","v":""},{"$f":"IF($S24=\"\",\"\",VLOOKUP($S24,名簿男子!$A$2:$K$101,10))","v":""},null,null,null,null,null,null,null,null,{"$f":"名簿男子!A24","v":23},{"$f":"名簿男子!C24","v":0},{"$f":"名簿男子!I24","v":0}]
[{"$f":"IF($Q25=\"\",\"\",VLOOKUP($Q25,名簿男子!$A$2:$K$101,2))","v":""},{"$f":"IF($Q25=\"\",\"\",VLOOKUP($Q25,名簿男子!$A$2:$K$101,3))","v":""},{"$f":"IF($Q25=\"\",\"\",VLOOKUP($Q25,名簿男子!$A$2:$K$101,6))","v":""},{"$f":"IF($Q25=\"\",\"\",VLOOKUP($Q25,名簿男子!$A$2:$K$101,5))","v":""},{"$f":"IF($Q25=\"\",\"\",VLOOKUP($Q25,名簿男子!$A$2:$K$101,8))","v":""},{"$f":"IF($Q25=\"\",\"\",VLOOKUP($Q25,名簿男子!$A$2:$K$101,9))","v":""},{"$f":"IF($Q25=\"\",\"\",VLOOKUP($Q25,名簿男子!$A$2:$K$101,10))","v":""},{"$f":"IF($R25=\"\",\"\",VLOOKUP($R25,名簿男子!$A$2:$K$101,9))","v":""},{"$f":"IF($R25=\"\",\"\",VLOOKUP($R25,名簿男子!$A$2:$K$101,10))","v":""},{"$f":"IF($S25=\"\",\"\",VLOOKUP($S25,名簿男子!$A$2:$K$101,9))","v":""},{"$f":"IF($S25=\"\",\"\",VLOOKUP($S25,名簿男子!$A$2:$K$101,10))","v":""},null,null,null,null,null,null,null,null,{"$f":"名簿男子!A25","v":24},{"$f":"名簿男子!C25","v":0},{"$f":"名簿男子!I25","v":0}]
[{"$f":"IF($Q26=\"\",\"\",VLOOKUP($Q26,名簿男子!$A$2:$K$101,2))","v":""},{"$f":"IF($Q26=\"\",\"\",VLOOKUP($Q26,名簿男子!$A$2:$K$101,3))","v":""},{"$f":"IF($Q26=\"\",\"\",VLOOKUP($Q26,名簿男子!$A$2:$K$101,6))","v":""},{"$f":"IF($Q26=\"\",\"\",VLOOKUP($Q26,名簿男子!$A$2:$K$101,5))","v":""},{"$f":"IF($Q26=\"\",\"\",VLOOKUP($Q26,名簿男子!$A$2:$K$101,8))","v":""},{"$f":"IF($Q26=\"\",\"\",VLOOKUP($Q26,名簿男子!$A$2:$K$101,9))","v":""},{"$f":"IF($Q26=\"\",\"\",VLOOKUP($Q26,名簿男子!$A$2:$K$101,10))","v":""},{"$f":"IF($R26=\"\",\"\",VLOOKUP($R26,名簿男子!$A$2:$K$101,9))","v":""},{"$f":"IF($R26=\"\",\"\",VLOOKUP($R26,名簿男子!$A$2:$K$101,10))","v":""},{"$f":"IF($S26=\"\",\"\",VLOOKUP($S26,名簿男子!$A$2:$K$101,9))","v":""},{"$f":"IF($S26=\"\",\"\",VLOOKUP($S26,名簿男子!$A$2:$K$101,10))","v":""},null,null,null,null,null,null,null,null,{"$f":"名簿男子!A26","v":25},{"$f":"名簿男子!C26","v":0},{"$f":"名簿男子!I26","v":0}]
[{"$f":"IF($Q27=\"\",\"\",VLOOKUP($Q27,名簿男子!$A$2:$K$101,2))","v":""},{"$f":"IF($Q27=\"\",\"\",VLOOKUP($Q27,名簿男子!$A$2:$K$101,3))","v":""},{"$f":"IF($Q27=\"\",\"\",VLOOKUP($Q27,名簿男子!$A$2:$K$101,6))","v":""},{"$f":"IF($Q27=\"\",\"\",VLOOKUP($Q27,名簿男子!$A$2:$K$101,5))","v":""},{"$f":"IF($Q27=\"\",\"\",VLOOKUP($Q27,名簿男子!$A$2:$K$101,8))","v":""},{"$f":"IF($Q27=\"\",\"\",VLOOKUP($Q27,名簿男子!$A$2:$K$101,9))","v":""},{"$f":"IF($Q27=\"\",\"\",VLOOKUP($Q27,名簿男子!$A$2:$K$101,10))","v":""},{"$f":"IF($R27=\"\",\"\",VLOOKUP($R27,名簿男子!$A$2:$K$101,9))","v":""},{"$f":"IF($R27=\"\",\"\",VLOOKUP($R27,名簿男子!$A$2:$K$101,10))","v":""},{"$f":"IF($S27=\"\",\"\",VLOOKUP($S27,名簿男子!$A$2:$K$101,9))","v":""},{"$f":"IF($S27=\"\",\"\",VLOOKUP($S27,名簿男子!$A$2:$K$101,10))","v":""},null,null,null,null,null,null,null,null,{"$f":"名簿男子!A27","v":26},{"$f":"名簿男子!C27","v":0},{"$f":"名簿男子!I27","v":0}]
[{"$f":"IF($Q28=\"\",\"\",VLOOKUP($Q28,名簿男子!$A$2:$K$101,2))","v":""},{"$f":"IF($Q28=\"\",\"\",VLOOKUP($Q28,名簿男子!$A$2:$K$101,3))","v":""},{"$f":"IF($Q28=\"\",\"\",VLOOKUP($Q28,名簿男子!$A$2:$K$101,6))","v":""},{"$f":"IF($Q28=\"\",\"\",VLOOKUP($Q28,名簿男子!$A$2:$K$101,5))","v":""},{"$f":"IF($Q28=\"\",\"\",VLOOKUP($Q28,名簿男子!$A$2:$K$101,8))","v":""},{"$f":"IF($Q28=\"\",\"\",VLOOKUP($Q28,名簿男子!$A$2:$K$101,9))","v":""},{"$f":"IF($Q28=\"\",\"\",VLOOKUP($Q28,名簿男子!$A$2:$K$101,10))","v":""},{"$f":"IF($R28=\"\",\"\",VLOOKUP($R28,名簿男子!$A$2:$K$101,9))","v":""},{"$f":"IF($R28=\"\",\"\",VLOOKUP($R28,名簿男子!$A$2:$K$101,10))","v":""},{"$f":"IF($S28=\"\",\"\",VLOOKUP($S28,名簿男子!$A$2:$K$101,9))","v":""},{"$f":"IF($S28=\"\",\"\",VLOOKUP($S28,名簿男子!$A$2:$K$101,10))","v":""},null,null,null,null,null,null,null,null,{"$f":"名簿男子!A28","v":27},{"$f":"名簿男子!C28","v":0},{"$f":"名簿男子!I28","v":0}]
[{"$f":"IF($Q29=\"\",\"\",VLOOKUP($Q29,名簿男子!$A$2:$K$101,2))","v":""},{"$f":"IF($Q29=\"\",\"\",VLOOKUP($Q29,名簿男子!$A$2:$K$101,3))","v":""},{"$f":"IF($Q29=\"\",\"\",VLOOKUP($Q29,名簿男子!$A$2:$K$101,6))","v":""},{"$f":"IF($Q29=\"\",\"\",VLOOKUP($Q29,名簿男子!$A$2:$K$101,5))","v":""},{"$f":"IF($Q29=\"\",\"\",VLOOKUP($Q29,名簿男子!$A$2:$K$101,8))","v":""},{"$f":"IF($Q29=\"\",\"\",VLOOKUP($Q29,名簿男子!$A$2:$K$101,9))","v":""},{"$f":"IF($Q29=\"\",\"\",VLOOKUP($Q29,名簿男子!$A$2:$K$101,10))","v":""},{"$f":"IF($R29=\"\",\"\",VLOOKUP($R29,名簿男子!$A$2:$K$101,9))","v":""},{"$f":"IF($R29=\"\",\"\",VLOOKUP($R29,名簿男子!$A$2:$K$101,10))","v":""},{"$f":"IF($S29=\"\",\"\",VLOOKUP($S29,名簿男子!$A$2:$K$101,9))","v":""},{"$f":"IF($S29=\"\",\"\",VLOOKUP($S29,名簿男子!$A$2:$K$101,10))","v":""},null,null,null,null,null,null,null,null,{"$f":"名簿男子!A29","v":28},{"$f":"名簿男子!C29","v":0},{"$f":"名簿男子!I29","v":0}]
[{"$f":"IF($Q30=\"\",\"\",VLOOKUP($Q30,名簿男子!$A$2:$K$101,2))","v":""},{"$f":"IF($Q30=\"\",\"\",VLOOKUP($Q30,名簿男子!$A$2:$K$101,3))","v":""},{"$f":"IF($Q30=\"\",\"\",VLOOKUP($Q30,名簿男子!$A$2:$K$101,6))","v":""},{"$f":"IF($Q30=\"\",\"\",VLOOKUP($Q30,名簿男子!$A$2:$K$101,5))","v":""},{"$f":"IF($Q30=\"\",\"\",VLOOKUP($Q30,名簿男子!$A$2:$K$101,8))","v":""},{"$f":"IF($Q30=\"\",\"\",VLOOKUP($Q30,名簿男子!$A$2:$K$101,9))","v":""},{"$f":"IF($Q30=\"\",\"\",VLOOKUP($Q30,名簿男子!$A$2:$K$101,10))","v":""},{"$f":"IF($R30=\"\",\"\",VLOOKUP($R30,名簿男子!$A$2:$K$101,9))","v":""},{"$f":"IF($R30=\"\",\"\",VLOOKUP($R30,名簿男子!$A$2:$K$101,10))","v":""},{"$f":"IF($S30=\"\",\"\",VLOOKUP($S30,名簿男子!$A$2:$K$101,9))","v":""},{"$f":"IF($S30=\"\",\"\",VLOOKUP($S30,名簿男子!$A$2:$K$101,10))","v":""},null,null,null,null,null,null,null,null,{"$f":"名簿男子!A30","v":29},{"$f":"名簿男子!C30","v":0},{"$f":"名簿男子!I30","v":0}]
[{"$f":"IF($Q31=\"\",\"\",VLOOKUP($Q31,名簿男子!$A$2:$K$101,2))","v":""},{"$f":"IF($Q31=\"\",\"\",VLOOKUP($Q31,名簿男子!$A$2:$K$101,3))","v":""},{"$f":"IF($Q31=\"\",\"\",VLOOKUP($Q31,名簿男子!$A$2:$K$101,6))","v":""},{"$f":"IF($Q31=\"\",\"\",VLOOKUP($Q31,名簿男子!$A$2:$K$101,5))","v":""},{"$f":"IF($Q31=\"\",\"\",VLOOKUP($Q31,名簿男子!$A$2:$K$101,8))","v":""},{"$f":"IF($Q31=\"\",\"\",VLOOKUP($Q31,名簿男子!$A$2:$K$101,9))","v":""},{"$f":"IF($Q31=\"\",\"\",VLOOKUP($Q31,名簿男子!$A$2:$K$101,10))","v":""},{"$f":"IF($R31=\"\",\"\",VLOOKUP($R31,名簿男子!$A$2:$K$101,9))","v":""},{"$f":"IF($R31=\"\",\"\",VLOOKUP($R31,名簿男子!$A$2:$K$101,10))","v":""},{"$f":"IF($S31=\"\",\"\",VLOOKUP($S31,名簿男子!$A$2:$K$101,9))","v":""},{"$f":"IF($S31=\"\",\"\",VLOOKUP($S31,名簿男子!$A$2:$K$101,10))","v":""},null,null,null,null,null,null,null,null,{"$f":"名簿男子!A31","v":30},{"$f":"名簿男子!C31","v":0},{"$f":"名簿男子!I31","v":0}]
[{"$f":"IF($Q32=\"\",\"\",VLOOKUP($Q32,名簿男子!$A$2:$K$101,2))","v":""},{"$f":"IF($Q32=\"\",\"\",VLOOKUP($Q32,名簿男子!$A$2:$K$101,3))","v":""},{"$f":"IF($Q32=\"\",\"\",VLOOKUP($Q32,名簿男子!$A$2:$K$101,6))","v":""},{"$f":"IF($Q32=\"\",\"\",VLOOKUP($Q32,名簿男子!$A$2:$K$101,5))","v":""},{"$f":"IF($Q32=\"\",\"\",VLOOKUP($Q32,名簿男子!$A$2:$K$101,8))","v":""},{"$f":"IF($Q32=\"\",\"\",VLOOKUP($Q32,名簿男子!$A$2:$K$101,9))","v":""},{"$f":"IF($Q32=\"\",\"\",VLOOKUP($Q32,名簿男子!$A$2:$K$101,10))","v":""},{"$f":"IF($R32=\"\",\"\",VLOOKUP($R32,名簿男子!$A$2:$K$101,9))","v":""},{"$f":"IF($R32=\"\",\"\",VLOOKUP($R32,名簿男子!$A$2:$K$101,10))","v":""},{"$f":"IF($S32=\"\",\"\",VLOOKUP($S32,名簿男子!$A$2:$K$101,9))","v":""},{"$f":"IF($S32=\"\",\"\",VLOOKUP($S32,名簿男子!$A$2:$K$101,10))","v":""},null,null,null,null,null,null,null,null,{"$f":"名簿男子!A32","v":31},{"$f":"名簿男子!C32","v":0},{"$f":"名簿男子!I32","v":0}]
[{"$f":"IF($Q33=\"\",\"\",VLOOKUP($Q33,名簿男子!$A$2:$K$101,2))","v":""},{"$f":"IF($Q33=\"\",\"\",VLOOKUP($Q33,名簿男子!$A$2:$K$101,3))","v":""},{"$f":"IF($Q33=\"\",\"\",VLOOKUP($Q33,名簿男子!$A$2:$K$101,6))","v":""},{"$f":"IF($Q33=\"\",\"\",VLOOKUP($Q33,名簿男子!$A$2:$K$101,5))","v":""},{"$f":"IF($Q33=\"\",\"\",VLOOKUP($Q33,名簿男子!$A$2:$K$101,8))","v":""},{"$f":"IF($Q33=\"\",\"\",VLOOKUP($Q33,名簿男子!$A$2:$K$101,9))","v":""},{"$f":"IF($Q33=\"\",\"\",VLOOKUP($Q33,名簿男子!$A$2:$K$101,10))","v":""},{"$f":"IF($R33=\"\",\"\",VLOOKUP($R33,名簿男子!$A$2:$K$101,9))","v":""},{"$f":"IF($R33=\"\",\"\",VLOOKUP($R33,名簿男子!$A$2:$K$101,10))","v":""},{"$f":"IF($S33=\"\",\"\",VLOOKUP($S33,名簿男子!$A$2:$K$101,9))","v":""},{"$f":"IF($S33=\"\",\"\",VLOOKUP($S33,名簿男子!$A$2:$K$101,10))","v":""},null,null,null,null,null,null,null,null,{"$f":"名簿男子!A33","v":32},{"$f":"名簿男子!C33","v":0},{"$f":"名簿男子!I33","v":0}]
[{"$f":"IF($Q34=\"\",\"\",VLOOKUP($Q34,名簿男子!$A$2:$K$101,2))","v":""},{"$f":"IF($Q34=\"\",\"\",VLOOKUP($Q34,名簿男子!$A$2:$K$101,3))","v":""},{"$f":"IF($Q34=\"\",\"\",VLOOKUP($Q34,名簿男子!$A$2:$K$101,6))","v":""},{"$f":"IF($Q34=\"\",\"\",VLOOKUP($Q34,名簿男子!$A$2:$K$101,5))","v":""},{"$f":"IF($Q34=\"\",\"\",VLOOKUP($Q34,名簿男子!$A$2:$K$101,8))","v":""},{"$f":"IF($Q34=\"\",\"\",VLOOKUP($Q34,名簿男子!$A$2:$K$101,9))","v":""},{"$f":"IF($Q34=\"\",\"\",VLOOKUP($Q34,名簿男子!$A$2:$K$101,10))","v":""},{"$f":"IF($R34=\"\",\"\",VLOOKUP($R34,名簿男子!$A$2:$K$101,9))","v":""},{"$f":"IF($R34=\"\",\"\",VLOOKUP($R34,名簿男子!$A$2:$K$101,10))","v":""},{"$f":"IF($S34=\"\",\"\",VLOOKUP($S34,名簿男子!$A$2:$K$101,9))","v":""},{"$f":"IF($S34=\"\",\"\",VLOOKUP($S34,名簿男子!$A$2:$K$101,10))","v":""},null,null,null,null,null,null,null,null,{"$f":"名簿男子!A34","v":33},{"$f":"名簿男子!C34","v":0},{"$f":"名簿男子!I34","v":0}]
[{"$f":"IF($Q35=\"\",\"\",VLOOKUP($Q35,名簿男子!$A$2:$K$101,2))","v":""},{"$f":"IF($Q35=\"\",\"\",VLOOKUP($Q35,名簿男子!$A$2:$K$101,3))","v":""},{"$f":"IF($Q35=\"\",\"\",VLOOKUP($Q35,名簿男子!$A$2:$K$101,6))","v":""},{"$f":"IF($Q35=\"\",\"\",VLOOKUP($Q35,名簿男子!$A$2:$K$101,5))","v":""},{"$f":"IF($Q35=\"\",\"\",VLOOKUP($Q35,名簿男子!$A$2:$K$101,8))","v":""},{"$f":"IF($Q35=\"\",\"\",VLOOKUP($Q35,名簿男子!$A$2:$K$101,9))","v":""},{"$f":"IF($Q35=\"\",\"\",VLOOKUP($Q35,名簿男子!$A$2:$K$101,10))","v":""},{"$f":"IF($R35=\"\",\"\",VLOOKUP($R35,名簿男子!$A$2:$K$101,9))","v":""},{"$f":"IF($R35=\"\",\"\",VLOOKUP($R35,名簿男子!$A$2:$K$101,10))","v":""},{"$f":"IF($S35=\"\",\"\",VLOOKUP($S35,名簿男子!$A$2:$K$101,9))","v":""},{"$f":"IF($S35=\"\",\"\",VLOOKUP($S35,名簿男子!$A$2:$K$101,10))","v":""},null,null,null,null,null,null,null,null,{"$f":"名簿男子!A35","v":34},{"$f":"名簿男子!C35","v":0},{"$f":"名簿男子!I35","v":0}]
[{"$f":"IF($Q36=\"\",\"\",VLOOKUP($Q36,名簿男子!$A$2:$K$101,2))","v":""},{"$f":"IF($Q36=\"\",\"\",VLOOKUP($Q36,名簿男子!$A$2:$K$101,3))","v":""},{"$f":"IF($Q36=\"\",\"\",VLOOKUP($Q36,名簿男子!$A$2:$K$101,6))","v":""},{"$f":"IF($Q36=\"\",\"\",VLOOKUP($Q36,名簿男子!$A$2:$K$101,5))","v":""},{"$f":"IF($Q36=\"\",\"\",VLOOKUP($Q36,名簿男子!$A$2:$K$101,8))","v":""},{"$f":"IF($Q36=\"\",\"\",VLOOKUP($Q36,名簿男子!$A$2:$K$101,9))","v":""},{"$f":"IF($Q36=\"\",\"\",VLOOKUP($Q36,名簿男子!$A$2:$K$101,10))","v":""},{"$f":"IF($R36=\"\",\"\",VLOOKUP($R36,名簿男子!$A$2:$K$101,9))","v":""},{"$f":"IF($R36=\"\",\"\",VLOOKUP($R36,名簿男子!$A$2:$K$101,10))","v":""},{"$f":"IF($S36=\"\",\"\",VLOOKUP($S36,名簿男子!$A$2:$K$101,9))","v":""},{"$f":"IF($S36=\"\",\"\",VLOOKUP($S36,名簿男子!$A$2:$K$101,10))","v":""},null,null,null,null,null,null,null,null,{"$f":"名簿男子!A36","v":35},{"$f":"名簿男子!C36","v":0},{"$f":"名簿男子!I36","v":0}]
[{"$f":"IF($Q37=\"\",\"\",VLOOKUP($Q37,名簿男子!$A$2:$K$101,2))","v":""},{"$f":"IF($Q37=\"\",\"\",VLOOKUP($Q37,名簿男子!$A$2:$K$101,3))","v":""},{"$f":"IF($Q37=\"\",\"\",VLOOKUP($Q37,名簿男子!$A$2:$K$101,6))","v":""},{"$f":"IF($Q37=\"\",\"\",VLOOKUP($Q37,名簿男子!$A$2:$K$101,5))","v":""},{"$f":"IF($Q37=\"\",\"\",VLOOKUP($Q37,名簿男子!$A$2:$K$101,8))","v":""},{"$f":"IF($Q37=\"\",\"\",VLOOKUP($Q37,名簿男子!$A$2:$K$101,9))","v":""},{"$f":"IF($Q37=\"\",\"\",VLOOKUP($Q37,名簿男子!$A$2:$K$101,10))","v":""},{"$f":"IF($R37=\"\",\"\",VLOOKUP($R37,名簿男子!$A$2:$K$101,9))","v":""},{"$f":"IF($R37=\"\",\"\",VLOOKUP($R37,名簿男子!$A$2:$K$101,10))","v":""},{"$f":"IF($S37=\"\",\"\",VLOOKUP($S37,名簿男子!$A$2:$K$101,9))","v":""},{"$f":"IF($S37=\"\",\"\",VLOOKUP($S37,名簿男子!$A$2:$K$101,10))","v":""},null,null,null,null,null,null,null,null,{"$f":"名簿男子!A37","v":36},{"$f":"名簿男子!C37","v":0},{"$f":"名簿男子!I37","v":0}]
[{"$f":"IF($Q38=\"\",\"\",VLOOKUP($Q38,名簿男子!$A$2:$K$101,2))","v":""},{"$f":"IF($Q38=\"\",\"\",VLOOKUP($Q38,名簿男子!$A$2:$K$101,3))","v":""},{"$f":"IF($Q38=\"\",\"\",VLOOKUP($Q38,名簿男子!$A$2:$K$101,6))","v":""},{"$f":"IF($Q38=\"\",\"\",VLOOKUP($Q38,名簿男子!$A$2:$K$101,5))","v":""},{"$f":"IF($Q38=\"\",\"\",VLOOKUP($Q38,名簿男子!$A$2:$K$101,8))","v":""},{"$f":"IF($Q38=\"\",\"\",VLOOKUP($Q38,名簿男子!$A$2:$K$101,9))","v":""},{"$f":"IF($Q38=\"\",\"\",VLOOKUP($Q38,名簿男子!$A$2:$K$101,10))","v":""},{"$f":"IF($R38=\"\",\"\",VLOOKUP($R38,名簿男子!$A$2:$K$101,9))","v":""},{"$f":"IF($R38=\"\",\"\",VLOOKUP($R38,名簿男子!$A$2:$K$101,10))","v":""},{"$f":"IF($S38=\"\",\"\",VLOOKUP($S38,名簿男子!$A$2:$K$101,9))","v":""},{"$f":"IF($S38=\"\",\"\",VLOOKUP($S38,名簿男子!$A$2:$K$101,10))","v":""},null,null,null,null,null,null,null,null,{"$f":"名簿男子!A38","v":37},{"$f":"名簿男子!C38","v":0},{"$f":"名簿男子!I38","v":0}]
[{"$f":"IF($Q39=\"\",\"\",VLOOKUP($Q39,名簿男子!$A$2:$K$101,2))","v":""},{"$f":"IF($Q39=\"\",\"\",VLOOKUP($Q39,名簿男子!$A$2:$K$101,3))","v":""},{"$f":"IF($Q39=\"\",\"\",VLOOKUP($Q39,名簿男子!$A$2:$K$101,6))","v":""},{"$f":"IF($Q39=\"\",\"\",VLOOKUP($Q39,名簿男子!$A$2:$K$101,5))","v":""},{"$f":"IF($Q39=\"\",\"\",VLOOKUP($Q39,名簿男子!$A$2:$K$101,8))","v":""},{"$f":"IF($Q39=\"\",\"\",VLOOKUP($Q39,名簿男子!$A$2:$K$101,9))","v":""},{"$f":"IF($Q39=\"\",\"\",VLOOKUP($Q39,名簿男子!$A$2:$K$101,10))","v":""},{"$f":"IF($R39=\"\",\"\",VLOOKUP($R39,名簿男子!$A$2:$K$101,9))","v":""},{"$f":"IF($R39=\"\",\"\",VLOOKUP($R39,名簿男子!$A$2:$K$101,10))","v":""},{"$f":"IF($S39=\"\",\"\",VLOOKUP($S39,名簿男子!$A$2:$K$101,9))","v":""},{"$f":"IF($S39=\"\",\"\",VLOOKUP($S39,名簿男子!$A$2:$K$101,10))","v":""},null,null,null,null,null,null,null,null,{"$f":"名簿男子!A39","v":38},{"$f":"名簿男子!C39","v":0},{"$f":"名簿男子!I39","v":0}]
[{"$f":"IF($Q40=\"\",\"\",VLOOKUP($Q40,名簿男子!$A$2:$K$101,2))","v":""},{"$f":"IF($Q40=\"\",\"\",VLOOKUP($Q40,名簿男子!$A$2:$K$101,3))","v":""},{"$f":"IF($Q40=\"\",\"\",VLOOKUP($Q40,名簿男子!$A$2:$K$101,6))","v":""},{"$f":"IF($Q40=\"\",\"\",VLOOKUP($Q40,名簿男子!$A$2:$K$101,5))","v":""},{"$f":"IF($Q40=\"\",\"\",VLOOKUP($Q40,名簿男子!$A$2:$K$101,8))","v":""},{"$f":"IF($Q40=\"\",\"\",VLOOKUP($Q40,名簿男子!$A$2:$K$101,9))","v":""},{"$f":"IF($Q40=\"\",\"\",VLOOKUP($Q40,名簿男子!$A$2:$K$101,10))","v":""},{"$f":"IF($R40=\"\",\"\",VLOOKUP($R40,名簿男子!$A$2:$K$101,9))","v":""},{"$f":"IF($R40=\"\",\"\",VLOOKUP($R40,名簿男子!$A$2:$K$101,10))","v":""},{"$f":"IF($S40=\"\",\"\",VLOOKUP($S40,名簿男子!$A$2:$K$101,9))","v":""},{"$f":"IF($S40=\"\",\"\",VLOOKUP($S40,名簿男子!$A$2:$K$101,10))","v":""},null,null,null,null,null,null,null,null,{"$f":"名簿男子!A40","v":39},{"$f":"名簿男子!C40","v":0},{"$f":"名簿男子!I40","v":0}]
[{"$f":"IF($Q41=\"\",\"\",VLOOKUP($Q41,名簿男子!$A$2:$K$101,2))","v":""},{"$f":"IF($Q41=\"\",\"\",VLOOKUP($Q41,名簿男子!$A$2:$K$101,3))","v":""},{"$f":"IF($Q41=\"\",\"\",VLOOKUP($Q41,名簿男子!$A$2:$K$101,6))","v":""},{"$f":"IF($Q41=\"\",\"\",VLOOKUP($Q41,名簿男子!$A$2:$K$101,5))","v":""},{"$f":"IF($Q41=\"\",\"\",VLOOKUP($Q41,名簿男子!$A$2:$K$101,8))","v":""},{"$f":"IF($Q41=\"\",\"\",VLOOKUP($Q41,名簿男子!$A$2:$K$101,9))","v":""},{"$f":"IF($Q41=\"\",\"\",VLOOKUP($Q41,名簿男子!$A$2:$K$101,10))","v":""},{"$f":"IF($R41=\"\",\"\",VLOOKUP($R41,名簿男子!$A$2:$K$101,9))","v":""},{"$f":"IF($R41=\"\",\"\",VLOOKUP($R41,名簿男子!$A$2:$K$101,10))","v":""},{"$f":"IF($S41=\"\",\"\",VLOOKUP($S41,名簿男子!$A$2:$K$101,9))","v":""},{"$f":"IF($S41=\"\",\"\",VLOOKUP($S41,名簿男子!$A$2:$K$101,10))","v":""},null,null,null,null,null,null,null,null,{"$f":"名簿男子!A41","v":40},{"$f":"名簿男子!C41","v":0},{"$f":"名簿男子!I41","v":0}]
[{"$f":"IF($Q42=\"\",\"\",VLOOKUP($Q42,名簿男子!$A$2:$K$101,2))","v":""},{"$f":"IF($Q42=\"\",\"\",VLOOKUP($Q42,名簿男子!$A$2:$K$101,3))","v":""},{"$f":"IF($Q42=\"\",\"\",VLOOKUP($Q42,名簿男子!$A$2:$K$101,6))","v":""},{"$f":"IF($Q42=\"\",\"\",VLOOKUP($Q42,名簿男子!$A$2:$K$101,5))","v":""},{"$f":"IF($Q42=\"\",\"\",VLOOKUP($Q42,名簿男子!$A$2:$K$101,8))","v":""},{"$f":"IF($Q42=\"\",\"\",VLOOKUP($Q42,名簿男子!$A$2:$K$101,9))","v":""},{"$f":"IF($Q42=\"\",\"\",VLOOKUP($Q42,名簿男子!$A$2:$K$101,10))","v":""},{"$f":"IF($R42=\"\",\"\",VLOOKUP($R42,名簿男子!$A$2:$K$101,9))","v":""},{"$f":"IF($R42=\"\",\"\",VLOOKUP($R42,名簿男子!$A$2:$K$101,10))","v":""},{"$f":"IF($S42=\"\",\"\",VLOOKUP($S42,名簿男子!$A$2:$K$101,9))","v":""},{"$f":"IF($S42=\"\",\"\",VLOOKUP($S42,名簿男子!$A$2:$K$101,10))","v":""},null,null,null,null,null,null,null,null,{"$f":"名簿男子!A42","v":41},{"$f":"名簿男子!C42","v":0},{"$f":"名簿男子!I42","v":0}]
[{"$f":"IF($Q43=\"\",\"\",VLOOKUP($Q43,名簿男子!$A$2:$K$101,2))","v":""},{"$f":"IF($Q43=\"\",\"\",VLOOKUP($Q43,名簿男子!$A$2:$K$101,3))","v":""},{"$f":"IF($Q43=\"\",\"\",VLOOKUP($Q43,名簿男子!$A$2:$K$101,6))","v":""},{"$f":"IF($Q43=\"\",\"\",VLOOKUP($Q43,名簿男子!$A$2:$K$101,5))","v":""},{"$f":"IF($Q43=\"\",\"\",VLOOKUP($Q43,名簿男子!$A$2:$K$101,8))","v":""},{"$f":"IF($Q43=\"\",\"\",VLOOKUP($Q43,名簿男子!$A$2:$K$101,9))","v":""},{"$f":"IF($Q43=\"\",\"\",VLOOKUP($Q43,名簿男子!$A$2:$K$101,10))","v":""},{"$f":"IF($R43=\"\",\"\",VLOOKUP($R43,名簿男子!$A$2:$K$101,9))","v":""},{"$f":"IF($R43=\"\",\"\",VLOOKUP($R43,名簿男子!$A$2:$K$101,10))","v":""},{"$f":"IF($S43=\"\",\"\",VLOOKUP($S43,名簿男子!$A$2:$K$101,9))","v":""},{"$f":"IF($S43=\"\",\"\",VLOOKUP($S43,名簿男子!$A$2:$K$101,10))","v":""},null,null,null,null,null,null,null,null,{"$f":"名簿男子!A43","v":42},{"$f":"名簿男子!C43","v":0},{"$f":"名簿男子!I43","v":0}]
[{"$f":"IF($Q44=\"\",\"\",VLOOKUP($Q44,名簿男子!$A$2:$K$101,2))","v":""},{"$f":"IF($Q44=\"\",\"\",VLOOKUP($Q44,名簿男子!$A$2:$K$101,3))","v":""},{"$f":"IF($Q44=\"\",\"\",VLOOKUP($Q44,名簿男子!$A$2:$K$101,6))","v":""},{"$f":"IF($Q44=\"\",\"\",VLOOKUP($Q44,名簿男子!$A$2:$K$101,5))","v":""},{"$f":"IF($Q44=\"\",\"\",VLOOKUP($Q44,名簿男子!$A$2:$K$101,8))","v":""},{"$f":"IF($Q44=\"\",\"\",VLOOKUP($Q44,名簿男子!$A$2:$K$101,9))","v":""},{"$f":"IF($Q44=\"\",\"\",VLOOKUP($Q44,名簿男子!$A$2:$K$101,10))","v":""},{"$f":"IF($R44=\"\",\"\",VLOOKUP($R44,名簿男子!$A$2:$K$101,9))","v":""},{"$f":"IF($R44=\"\",\"\",VLOOKUP($R44,名簿男子!$A$2:$K$101,10))","v":""},{"$f":"IF($S44=\"\",\"\",VLOOKUP($S44,名簿男子!$A$2:$K$101,9))","v":""},{"$f":"IF($S44=\"\",\"\",VLOOKUP($S44,名簿男子!$A$2:$K$101,10))","v":""},null,null,null,null,null,null,null,null,{"$f":"名簿男子!A44","v":43},{"$f":"名簿男子!C44","v":0},{"$f":"名簿男子!I44","v":0}]
[{"$f":"IF($Q45=\"\",\"\",VLOOKUP($Q45,名簿男子!$A$2:$K$101,2))","v":""},{"$f":"IF($Q45=\"\",\"\",VLOOKUP($Q45,名簿男子!$A$2:$K$101,3))","v":""},{"$f":"IF($Q45=\"\",\"\",VLOOKUP($Q45,名簿男子!$A$2:$K$101,6))","v":""},{"$f":"IF($Q45=\"\",\"\",VLOOKUP($Q45,名簿男子!$A$2:$K$101,5))","v":""},{"$f":"IF($Q45=\"\",\"\",VLOOKUP($Q45,名簿男子!$A$2:$K$101,8))","v":""},{"$f":"IF($Q45=\"\",\"\",VLOOKUP($Q45,名簿男子!$A$2:$K$101,9))","v":""},{"$f":"IF($Q45=\"\",\"\",VLOOKUP($Q45,名簿男子!$A$2:$K$101,10))","v":""},{"$f":"IF($R45=\"\",\"\",VLOOKUP($R45,名簿男子!$A$2:$K$101,9))","v":""},{"$f":"IF($R45=\"\",\"\",VLOOKUP($R45,名簿男子!$A$2:$K$101,10))","v":""},{"$f":"IF($S45=\"\",\"\",VLOOKUP($S45,名簿男子!$A$2:$K$101,9))","v":""},{"$f":"IF($S45=\"\",\"\",VLOOKUP($S45,名簿男子!$A$2:$K$101,10))","v":""},null,null,null,null,null,null,null,null,{"$f":"名簿男子!A45","v":44},{"$f":"名簿男子!C45","v":0},{"$f":"名簿男子!I45","v":0}]
[{"$f":"IF($Q46=\"\",\"\",VLOOKUP($Q46,名簿男子!$A$2:$K$101,2))","v":""},{"$f":"IF($Q46=\"\",\"\",VLOOKUP($Q46,名簿男子!$A$2:$K$101,3))","v":""},{"$f":"IF($Q46=\"\",\"\",VLOOKUP($Q46,名簿男子!$A$2:$K$101,6))","v":""},{"$f":"IF($Q46=\"\",\"\",VLOOKUP($Q46,名簿男子!$A$2:$K$101,5))","v":""},{"$f":"IF($Q46=\"\",\"\",VLOOKUP($Q46,名簿男子!$A$2:$K$101,8))","v":""},{"$f":"IF($Q46=\"\",\"\",VLOOKUP($Q46,名簿男子!$A$2:$K$101,9))","v":""},{"$f":"IF($Q46=\"\",\"\",VLOOKUP($Q46,名簿男子!$A$2:$K$101,10))","v":""},{"$f":"IF($R46=\"\",\"\",VLOOKUP($R46,名簿男子!$A$2:$K$101,9))","v":""},{"$f":"IF($R46=\"\",\"\",VLOOKUP($R46,名簿男子!$A$2:$K$101,10))","v":""},{"$f":"IF($S46=\"\",\"\",VLOOKUP($S46,名簿男子!$A$2:$K$101,9))","v":""},{"$f":"IF($S46=\"\",\"\",VLOOKUP($S46,名簿男子!$A$2:$K$101,10))","v":""},null,null,null,null,null,null,null,null,{"$f":"名簿男子!A46","v":45},{"$f":"名簿男子!C46","v":0},{"$f":"名簿男子!I46","v":0}]
[{"$f":"IF($Q47=\"\",\"\",VLOOKUP($Q47,名簿男子!$A$2:$K$101,2))","v":""},{"$f":"IF($Q47=\"\",\"\",VLOOKUP($Q47,名簿男子!$A$2:$K$101,3))","v":""},{"$f":"IF($Q47=\"\",\"\",VLOOKUP($Q47,名簿男子!$A$2:$K$101,6))","v":""},{"$f":"IF($Q47=\"\",\"\",VLOOKUP($Q47,名簿男子!$A$2:$K$101,5))","v":""},{"$f":"IF($Q47=\"\",\"\",VLOOKUP($Q47,名簿男子!$A$2:$K$101,8))","v":""},{"$f":"IF($Q47=\"\",\"\",VLOOKUP($Q47,名簿男子!$A$2:$K$101,9))","v":""},{"$f":"IF($Q47=\"\",\"\",VLOOKUP($Q47,名簿男子!$A$2:$K$101,10))","v":""},{"$f":"IF($R47=\"\",\"\",VLOOKUP($R47,名簿男子!$A$2:$K$101,9))","v":""},{"$f":"IF($R47=\"\",\"\",VLOOKUP($R47,名簿男子!$A$2:$K$101,10))","v":""},{"$f":"IF($S47=\"\",\"\",VLOOKUP($S47,名簿男子!$A$2:$K$101,9))","v":""},{"$f":"IF($S47=\"\",\"\",VLOOKUP($S47,名簿男子!$A$2:$K$101,10))","v":""},null,null,null,null,null,null,null,null,{"$f":"名簿男子!A47","v":46},{"$f":"名簿男子!C47","v":0},{"$f":"名簿男子!I47","v":0}]
[{"$f":"IF($Q48=\"\",\"\",VLOOKUP($Q48,名簿男子!$A$2:$K$101,2))","v":""},{"$f":"IF($Q48=\"\",\"\",VLOOKUP($Q48,名簿男子!$A$2:$K$101,3))","v":""},{"$f":"IF($Q48=\"\",\"\",VLOOKUP($Q48,名簿男子!$A$2:$K$101,6))","v":""},{"$f":"IF($Q48=\"\",\"\",VLOOKUP($Q48,名簿男子!$A$2:$K$101,5))","v":""},{"$f":"IF($Q48=\"\",\"\",VLOOKUP($Q48,名簿男子!$A$2:$K$101,8))","v":""},{"$f":"IF($Q48=\"\",\"\",VLOOKUP($Q48,名簿男子!$A$2:$K$101,9))","v":""},{"$f":"IF($Q48=\"\",\"\",VLOOKUP($Q48,名簿男子!$A$2:$K$101,10))","v":""},{"$f":"IF($R48=\"\",\"\",VLOOKUP($R48,名簿男子!$A$2:$K$101,9))","v":""},{"$f":"IF($R48=\"\",\"\",VLOOKUP($R48,名簿男子!$A$2:$K$101,10))","v":""},{"$f":"IF($S48=\"\",\"\",VLOOKUP($S48,名簿男子!$A$2:$K$101,9))","v":""},{"$f":"IF($S48=\"\",\"\",VLOOKUP($S48,名簿男子!$A$2:$K$101,10))","v":""},null,null,null,null,null,null,null,null,{"$f":"名簿男子!A48","v":47},{"$f":"名簿男子!C48","v":0},{"$f":"名簿男子!I48","v":0}]
[{"$f":"IF($Q49=\"\",\"\",VLOOKUP($Q49,名簿男子!$A$2:$K$101,2))","v":""},{"$f":"IF($Q49=\"\",\"\",VLOOKUP($Q49,名簿男子!$A$2:$K$101,3))","v":""},{"$f":"IF($Q49=\"\",\"\",VLOOKUP($Q49,名簿男子!$A$2:$K$101,6))","v":""},{"$f":"IF($Q49=\"\",\"\",VLOOKUP($Q49,名簿男子!$A$2:$K$101,5))","v":""},{"$f":"IF($Q49=\"\",\"\",VLOOKUP($Q49,名簿男子!$A$2:$K$101,8))","v":""},{"$f":"IF($Q49=\"\",\"\",VLOOKUP($Q49,名簿男子!$A$2:$K$101,9))","v":""},{"$f":"IF($Q49=\"\",\"\",VLOOKUP($Q49,名簿男子!$A$2:$K$101,10))","v":""},{"$f":"IF($R49=\"\",\"\",VLOOKUP($R49,名簿男子!$A$2:$K$101,9))","v":""},{"$f":"IF($R49=\"\",\"\",VLOOKUP($R49,名簿男子!$A$2:$K$101,10))","v":""},{"$f":"IF($S49=\"\",\"\",VLOOKUP($S49,名簿男子!$A$2:$K$101,9))","v":""},{"$f":"IF($S49=\"\",\"\",VLOOKUP($S49,名簿男子!$A$2:$K$101,10))","v":""},null,null,null,null,null,null,null,null,{"$f":"名簿男子!A49","v":48},{"$f":"名簿男子!C49","v":0},{"$f":"名簿男子!I49","v":0}]
[{"$f":"IF($Q50=\"\",\"\",VLOOKUP($Q50,名簿男子!$A$2:$K$101,2))","v":""},{"$f":"IF($Q50=\"\",\"\",VLOOKUP($Q50,名簿男子!$A$2:$K$101,3))","v":""},{"$f":"IF($Q50=\"\",\"\",VLOOKUP($Q50,名簿男子!$A$2:$K$101,6))","v":""},{"$f":"IF($Q50=\"\",\"\",VLOOKUP($Q50,名簿男子!$A$2:$K$101,5))","v":""},{"$f":"IF($Q50=\"\",\"\",VLOOKUP($Q50,名簿男子!$A$2:$K$101,8))","v":""},{"$f":"IF($Q50=\"\",\"\",VLOOKUP($Q50,名簿男子!$A$2:$K$101,9))","v":""},{"$f":"IF($Q50=\"\",\"\",VLOOKUP($Q50,名簿男子!$A$2:$K$101,10))","v":""},{"$f":"IF($R50=\"\",\"\",VLOOKUP($R50,名簿男子!$A$2:$K$101,9))","v":""},{"$f":"IF($R50=\"\",\"\",VLOOKUP($R50,名簿男子!$A$2:$K$101,10))","v":""},{"$f":"IF($S50=\"\",\"\",VLOOKUP($S50,名簿男子!$A$2:$K$101,9))","v":""},{"$f":"IF($S50=\"\",\"\",VLOOKUP($S50,名簿男子!$A$2:$K$101,10))","v":""},null,null,null,null,null,null,null,null,{"$f":"名簿男子!A50","v":49},{"$f":"名簿男子!C50","v":0},{"$f":"名簿男子!I50","v":0}]
[{"$f":"IF($Q51=\"\",\"\",VLOOKUP($Q51,名簿男子!$A$2:$K$101,2))","v":""},{"$f":"IF($Q51=\"\",\"\",VLOOKUP($Q51,名簿男子!$A$2:$K$101,3))","v":""},{"$f":"IF($Q51=\"\",\"\",VLOOKUP($Q51,名簿男子!$A$2:$K$101,6))","v":""},{"$f":"IF($Q51=\"\",\"\",VLOOKUP($Q51,名簿男子!$A$2:$K$101,5))","v":""},{"$f":"IF($Q51=\"\",\"\",VLOOKUP($Q51,名簿男子!$A$2:$K$101,8))","v":""},{"$f":"IF($Q51=\"\",\"\",VLOOKUP($Q51,名簿男子!$A$2:$K$101,9))","v":""},{"$f":"IF($Q51=\"\",\"\",VLOOKUP($Q51,名簿男子!$A$2:$K$101,10))","v":""},{"$f":"IF($R51=\"\",\"\",VLOOKUP($R51,名簿男子!$A$2:$K$101,9))","v":""},{"$f":"IF($R51=\"\",\"\",VLOOKUP($R51,名簿男子!$A$2:$K$101,10))","v":""},{"$f":"IF($S51=\"\",\"\",VLOOKUP($S51,名簿男子!$A$2:$K$101,9))","v":""},{"$f":"IF($S51=\"\",\"\",VLOOKUP($S51,名簿男子!$A$2:$K$101,10))","v":""},null,null,null,null,null,null,null,null,{"$f":"名簿男子!A51","v":50},{"$f":"名簿男子!C51","v":0},{"$f":"名簿男子!I51","v":0}]
[null,null,null,null,null,null,null,null,null,null,null,null,null,null,null,null,null,null,null,{"$f":"名簿男子!A52","v":51},{"$f":"名簿男子!C52","v":0},{"$f":"名簿男子!I52","v":0}]
[null,null,null,null,null,null,null,null,null,null,null,null,null,null,null,null,null,null,null,{"$f":"名簿男子!A53","v":52},{"$f":"名簿男子!C53","v":0},{"$f":"名簿男子!I53","v":0}]
[null,null,null,null,null,null,null,null,null,null,null,null,null,null,null,null,null,null,null,{"$f":"名簿男子!A54","v":53},{"$f":"名簿男子!C54","v":0},{"$f":"名簿男子!I54","v":0}]
[null,null,null,null,null,null,null,null,null,null,null,null,null,null,null,null,null,null,null,{"$f":"名簿男子!A55","v":54},{"$f":"名簿男子!C55","v":0},{"$f":"名簿男子!I55","v":0}]
[null,null,null,null,null,null,null,null,null,null,null,null,null,null,null,null,null,null,null,{"$f":"名簿男子!A56","v":55},{"$f":"名簿男子!C56","v":0},{"$f":"名簿男子!I56","v":0}]
[null,null,null,null,null,null,null,null,null,null,null,null,null,null,null,null,null,null,null,{"$f":"名簿男子!A57","v":56},{"$f":"名簿男子!C57","v":0},{"$f":"名簿男子!I57","v":0}]
[null,null,null,null,null,null,null,null,null,null,null,null,null,null,null,null,null,null,null,{"$f":"名簿男子!A58","v":57},{"$f":"名簿男子!C58","v":0},{"$f":"名簿男子!I58","v":0}]
[null,null,null,null,null,null,null,null,null,null,null,null,null,null,null,null,null,null,null,{"$f":"名簿男子!A59","v":58},{"$f":"名簿男子!C59","v":0},{"$f":"名簿男子!I59","v":0}]
[null,null,null,null,null,null,null,null,null,null,null,null,null,null,null,null,null,null,null,{"$f":"名簿男子!A60","v":59},{"$f":"名簿男子!C60","v":0},{"$f":"名簿男子!I60","v":0}]
[null,null,null,null,null,null,null,null,null,null,null,null,null,null,null,null,null,null,null,{"$f":"名簿男子!A61","v":60},{"$f":"名簿男子!C61","v":0},{"$f":"名簿男子!I61","v":0}]
[null,null,null,null,null,null,null,null,null,null,null,null,null,null,null,null,null,null,null,{"$f":"名簿男子!A62","v":61},{"$f":"名簿男子!C62","v":0},{"$f":"名簿男子!I62","v":0}]
[null,null,null,null,null,null,null,null,null,null,null,null,null,null,null,null,null,null,null,{"$f":"名簿男子!A63","v":62},{"$f":"名簿男子!C63","v":0},{"$f":"名簿男子!I63","v":0}]
[null,null,null,null,null,null,null,null,null,null,null,null,null,null,null,null,null,null,null,{"$f":"名簿男子!A64","v":63},{"$f":"名簿男子!C64","v":0},{"$f":"名簿男子!I64","v":0}]
[null,null,null,null,null,null,null,null,null,null,null,null,null,null,null,null,null,null,null,{"$f":"名簿男子!A65","v":64},{"$f":"名簿男子!C65","v":0},{"$f":"名簿男子!I65","v":0}]
[null,null,null,null,null,null,null,null,null,null,null,null,null,null,null,null,null,null,null,{"$f":"名簿男子!A66","v":65},{"$f":"名簿男子!C66","v":0},{"$f":"名簿男子!I66","v":0}]
[null,null,null,null,null,null,null,null,null,null,null,null,null,null,null,null,null,null,null,{"$f":"名簿男子!A67","v":66},{"$f":"名簿男子!C67","v":0},{"$f":"名簿男子!I67","v":0}]
[null,null,null,null,null,null,null,null,null,null,null,null,null,null,null,null,null,null,null,{"$f":"名簿男子!A68","v":67},{"$f":"名簿男子!C68","v":0},{"$f":"名簿男子!I68","v":0}]
[null,null,null,null,null,null,null,null,null,null,null,null,null,null,null,null,null,null,null,{"$f":"名簿男子!A69","v":68},{"$f":"名簿男子!C69","v":0},{"$f":"名簿男子!I69","v":0}]
[null,null,null,null,null,null,null,null,null,null,null,null,null,null,null,null,null,null,null,{"$f":"名簿男子!A70","v":69},{"$f":"名簿男子!C70","v":0},{"$f":"名簿男子!I70","v":0}]
[null,null,null,null,null,null,null,null,null,null,null,null,null,null,null,null,null,null,null,{"$f":"名簿男子!A71","v":70},{"$f":"名簿男子!C71","v":0},{"$f":"名簿男子!I71","v":0}]
[null,null,null,null,null,null,null,null,null,null,null,null,null,null,null,null,null,null,null,{"$f":"名簿男子!A72","v":71},{"$f":"名簿男子!C72","v":0},{"$f":"名簿男子!I72","v":0}]
[null,null,null,null,null,null,null,null,null,null,null,null,null,null,null,null,null,null,null,{"$f":"名簿男子!A73","v":72},{"$f":"名簿男子!C73","v":0},{"$f":"名簿男子!I73","v":0}]
[null,null,null,null,null,null,null,null,null,null,null,null,null,null,null,null,null,null,null,{"$f":"名簿男子!A74","v":73},{"$f":"名簿男子!C74","v":0},{"$f":"名簿男子!I74","v":0}]
[null,null,null,null,null,null,null,null,null,null,null,null,null,null,null,null,null,null,null,{"$f":"名簿男子!A75","v":74},{"$f":"名簿男子!C75","v":0},{"$f":"名簿男子!I75","v":0}]
[null,null,null,null,null,null,null,null,null,null,null,null,null,null,null,null,null,null,null,{"$f":"名簿男子!A76","v":75},{"$f":"名簿男子!C76","v":0},{"$f":"名簿男子!I76","v":0}]
[null,null,null,null,null,null,null,null,null,null,null,null,null,null,null,null,null,null,null,{"$f":"名簿男子!A77","v":76},{"$f":"名簿男子!C77","v":0},{"$f":"名簿男子!I77","v":0}]
[null,null,null,null,null,null,null,null,null,null,null,null,null,null,null,null,null,null,null,{"$f":"名簿男子!A78","v":77},{"$f":"名簿男子!C78","v":0},{"$f":"名簿男子!I78","v":0}]
[null,null,null,null,null,null,null,null,null,null,null,null,null,null,null,null,null,null,null,{"$f":"名簿男子!A79","v":78},{"$f":"名簿男子!C79","v":0},{"$f":"名簿男子!I79","v":0}]
[null,null,null,null,null,null,null,null,null,null,null,null,null,null,null,null,null,null,null,{"$f":"名簿男子!A80","v":79},{"$f":"名簿男子!C80","v":0},{"$f":"名簿男子!I80","v":0}]
[null,null,null,null,null,null,null,null,null,null,null,null,null,null,null,null,null,null,null,{"$f":"名簿男子!A81","v":80},{"$f":"名簿男子!C81","v":0},{"$f":"名簿男子!I81","v":0}]
[null,null,null,null,null,null,null,null,null,null,null,null,null,null,null,null,null,null,null,{"$f":"名簿男子!A82","v":81},{"$f":"名簿男子!C82","v":0},{"$f":"名簿男子!I82","v":0}]
[null,null,null,null,null,null,null,null,null,null,null,null,null,null,null,null,null,null,null,{"$f":"名簿男子!A83","v":82},{"$f":"名簿男子!C83","v":0},{"$f":"名簿男子!I83","v":0}]
[null,null,null,null,null,null,null,null,null,null,null,null,null,null,null,null,null,null,null,{"$f":"名簿男子!A84","v":83},{"$f":"名簿男子!C84","v":0},{"$f":"名簿男子!I84","v":0}]
[null,null,null,null,null,null,null,null,null,null,null,null,null,null,null,null,null,null,null,{"$f":"名簿男子!A85","v":84},{"$f":"名簿男子!C85","v":0},{"$f":"名簿男子!I85","v":0}]
[null,null,null,null,null,null,null,null,null,null,null,null,null,null,null,null,null,null,null,{"$f":"名簿男子!A86","v":85},{"$f":"名簿男子!C86","v":0},{"$f":"名簿男子!I86","v":0}]
[null,null,null,null,null,null,null,null,null,null,null,null,null,null,null,null,null,null,null,{"$f":"名簿男子!A87","v":86},{"$f":"名簿男子!C87","v":0},{"$f":"名簿男子!I87","v":0}]
[null,null,null,null,null,null,null,null,null,null,null,null,null,null,null,null,null,null,null,{"$f":"名簿男子!A88","v":87},{"$f":"名簿男子!C88","v":0},{"$f":"名簿男子!I88","v":0}]
[null,null,null,null,null,null,null,null,null,null,null,null,null,null,null,null,null,null,null,{"$f":"名簿男子!A89","v":88},{"$f":"名簿男子!C89","v":0},{"$f":"名簿男子!I89","v":0}]
[null,null,null,null,null,null,null,null,null,null,null,null,null,null,null,null,null,null,null,{"$f":"名簿男子!A90","v":89},{"$f":"名簿男子!C90","v":0},{"$f":"名簿男子!I90","v":0}]
[null,null,null,null,null,null,null,null,null,null,null,null,null,null,null,null,null,null,null,{"$f":"名簿男子!A91","v":90},{"$f":"名簿男子!C91","v":0},{"$f":"名簿男子!I91","v":0}]
[null,null,null,null,null,null,null,null,null,null,null,null,null,null,null,null,null,null,null,{"$f":"名簿男子!A92","v":91},{"$f":"名簿男子!C92","v":0},{"$f":"名簿男子!I92","v":0}]
[null,null,null,null,null,null,null,null,null,null,null,null,null,null,null,null,null,null,null,{"$f":"名簿男子!A93","v":92},{"$f":"名簿男子!C93","v":0},{"$f":"名簿男子!I93","v":0}]
[null,null,null,null,null,null,null,null,null,null,null,null,null,null,null,null,null,null,null,{"$f":"名簿男子!A94","v":93},{"$f":"名簿男子!C94","v":0},{"$f":"名簿男子!I94","v":0}]
[null,null,null,null,null,null,null,null,null,null,null,null,null,null,null,null,null,null,null,{"$f":"名簿男子!A95","v":94},{"$f":"名簿男子!C95","v":0},{"$f":"名簿男子!I95","v":0}]
[null,null,null,null,null,null,null,null,null,null,null,null,null,null,null,null,null,null,null,{"$f":"名簿男子!A96","v":95},{"$f":"名簿男子!C96","v":0},{"$f":"名簿男子!I96","v":0}]
[null,null,null,null,null,null,null,null,null,null,null,null,null,null,null,null,null,null,null,{"$f":"名簿男子!A97","v":96},{"$f":"名簿男子!C97","v":0},{"$f":"名簿男子!I97","v":0}]
[null,null,null,null,null,null,null,null,null,null,null,null,null,null,null,null,null,null,null,{"$f":"名簿男子!A98","v":97},{"$f":"名簿男子!C98","v":0},{"$f":"名簿男子!I98","v":0}]
[null,null,null,null,null,null,null,null,null,null,null,null,null,null,null,null,null,null,null,{"$f":"名簿男子!A99","v":98},{"$f":"名簿男子!C99","v":0},{"$f":"名簿男子!I99","v":0}]
[null,null,null,null,null,null,null,null,null,null,null,null,null,null,null,null,null,null,null,{"$f":"名簿男子!A100","v":99},{"$f":"名簿男子!C100","v":0},{"$f":"名簿男子!I100","v":0}]
[null,null,null,null,null,null,null,null,null,null,null,null,null,null,null,null,null,null,null,{"$f":"名簿男子!A101","v":100},{"$f":"名簿男子!C101","v":0},{"$f":"名簿男子!I101","v":0}]

{"sheet":"様式３女子","index":11,"n_rows":101,"n_cols":22,"rows_kept":101,"cut":false,"hidden":false,"merged":[[0,0,0,2],[0,11,1,14],[2,11,3,14],[4,11,5,14],[1,16,6,18]]}
[{"$f":"様式３男子!A1","v":0},null,null,"申込一覧表",null,null,null,null,null,null,null,{"$f":"様式３男子!L1","v":"伯耆町立岸本中学校"},null,null,null,null,null,null,null,"番号","名前","種目"]
[null,null,null,null,null,null,null,null,null,null,"所属名",null,null,null,null,null,"番号を入れると種目と記録が自動で入力される。必要に応じて大会専用申し込みファイルにコピー＆ペーストする。",null,null,{"$f":"名簿女子!A2","v":1},{"$f":"名簿女子!C2","v":0},{"$f":"名簿女子!I2","v":0}]
[null,null,null,null,null,null,null,null,null,null,null,{"$f":"様式３男子!L3","v":"竹下　悠也　　　　　　　印"},null,null,null,null,null,null,null,{"$f":"名簿女子!A3","v":2},{"$f":"名簿女子!C3","v":0},{"$f":"名簿女子!I3","v":0}]
[null,null,null,null,null,null,null,null,null,null,"責任者",null,null,null,null,null,null,null,null,{"$f":"名簿女子!A4","v":3},{"$f":"名簿女子!C4","v":0},{"$f":"名簿女子!I4","v":0}]
[null,null,null,null,null,null,null,null,null,null,null,{"$f":"様式３男子!L5","v":"（学校）0859-68-2260（携帯）090-2869-8138"},null,null,null,null,null,null,null,{"$f":"名簿女子!A5","v":4},{"$f":"名簿女子!C5","v":0},{"$f":"名簿女子!I5","v":0}]
[null,null,null,null,null,null,null,null,null,null,"連絡先",null,null,null,null,null,null,null,null,{"$f":"名簿女子!A6","v":5},{"$f":"名簿女子!C6","v":0},{"$f":"名簿女子!I6","v":0}]
[null,null,null,null,null,null,null,null,null,null,null,null,null,null,null,null,null,null,null,{"$f":"名簿女子!A7","v":6},{"$f":"名簿女子!C7","v":0},{"$f":"名簿女子!I7","v":0}]
["ナンバー","氏　　　名","学年","フリガナ","性別","種目１","記録","種目２","記録","種目３","記録","4×100m","記録","4×   m","記録",null,"種目１","種目２","種目３",{"$f":"名簿女子!A8","v":7},{"$f":"名簿女子!C8","v":0},{"$f":"名簿女子!I8","v":0}]
[{"$f":"IF($Q9=\"\",\"\",VLOOKUP($Q9,名簿女子!$A$2:$K$101,2))","v":0},{"$f":"IF($Q9=\"\",\"\",VLOOKUP($Q9,名簿女子!$A$2:$K$101,3))","v":0},{"$f":"IF($Q9=\"\",\"\",VLOOKUP($Q9,名簿女子!$A$2:$K$101,6))","v":0},{"$f":"IF($Q9=\"\",\"\",VLOOKUP($Q9,名簿女子!$A$2:$K$101,5))","v":0},{"$f":"IF($Q9=\"\",\"\",VLOOKUP($Q9,名簿女子!$A$2:$K$101,8))","v":"女"},{"$f":"IF($Q9=\"\",\"\",VLOOKUP($Q9,名簿女子!$A$2:$K$101,9))","v":0},{"$f":"IF($Q9=\"\",\"\",VLOOKUP($Q9,名簿女子!$A$2:$K$101,10))","v":0},{"$f":"IF($R9=\"\",\"\",VLOOKUP($R9,名簿女子!$A$2:$K$101,9))","v":""},{"$f":"IF($R9=\"\",\"\",VLOOKUP($R9,名簿女子!$A$2:$K$101,10))","v":""},{"$f":"IF($S9=\"\",\"\",VLOOKUP($S9,名簿女子!$A$2:$K$101,9))","v":""},{"$f":"IF($S9=\"\",\"\",VLOOKUP($S9,名簿女子!$A$2:$K$101,10))","v":""},null,null,null,null,null,1,null,null,{"$f":"名簿女子!A9","v":8},{"$f":"名簿女子!C9","v":0},{"$f":"名簿女子!I9","v":0}]
[{"$f":"IF($Q10=\"\",\"\",VLOOKUP($Q10,名簿女子!$A$2:$K$101,2))","v":""},{"$f":"IF($Q10=\"\",\"\",VLOOKUP($Q10,名簿女子!$A$2:$K$101,3))","v":""},{"$f":"IF($Q10=\"\",\"\",VLOOKUP($Q10,名簿女子!$A$2:$K$101,6))","v":""},{"$f":"IF($Q10=\"\",\"\",VLOOKUP($Q10,名簿女子!$A$2:$K$101,5))","v":""},{"$f":"IF($Q10=\"\",\"\",VLOOKUP($Q10,名簿女子!$A$2:$K$101,8))","v":""},{"$f":"IF($Q10=\"\",\"\",VLOOKUP($Q10,名簿女子!$A$2:$K$101,9))","v":""},{"$f":"IF($Q10=\"\",\"\",VLOOKUP($Q10,名簿女子!$A$2:$K$101,10))","v":""},{"$f":"IF($R10=\"\",\"\",VLOOKUP($R10,名簿女子!$A$2:$K$101,9))","v":""},{"$f":"IF($R10=\"\",\"\",VLOOKUP($R10,名簿女子!$A$2:$K$101,10))","v":""},{"$f":"IF($S10=\"\",\"\",VLOOKUP($S10,名簿女子!$A$2:$K$101,9))","v":""},{"$f":"IF($S10=\"\",\"\",VLOOKUP($S10,名簿女子!$A$2:$K$101,10))","v":""},null,null,null,null,null,null,null,null,{"$f":"名簿女子!A10","v":9},{"$f":"名簿女子!C10","v":0},{"$f":"名簿女子!I10","v":0}]
[{"$f":"IF($Q11=\"\",\"\",VLOOKUP($Q11,名簿女子!$A$2:$K$101,2))","v":""},{"$f":"IF($Q11=\"\",\"\",VLOOKUP($Q11,名簿女子!$A$2:$K$101,3))","v":""},{"$f":"IF($Q11=\"\",\"\",VLOOKUP($Q11,名簿女子!$A$2:$K$101,6))","v":""},{"$f":"IF($Q11=\"\",\"\",VLOOKUP($Q11,名簿女子!$A$2:$K$101,5))","v":""},{"$f":"IF($Q11=\"\",\"\",VLOOKUP($Q11,名簿女子!$A$2:$K$101,8))","v":""},{"$f":"IF($Q11=\"\",\"\",VLOOKUP($Q11,名簿女子!$A$2:$K$101,9))","v":""},{"$f":"IF($Q11=\"\",\"\",VLOOKUP($Q11,名簿女子!$A$2:$K$101,10))","v":""},{"$f":"IF($R11=\"\",\"\",VLOOKUP($R11,名簿女子!$A$2:$K$101,9))","v":""},{"$f":"IF($R11=\"\",\"\",VLOOKUP($R11,名簿女子!$A$2:$K$101,10))","v":""},{"$f":"IF($S11=\"\",\"\",VLOOKUP($S11,名簿女子!$A$2:$K$101,9))","v":""},{"$f":"IF($S11=\"\",\"\",VLOOKUP($S11,名簿女子!$A$2:$K$101,10))","v":""},null,null,null,null,null,null,null,null,{"$f":"名簿女子!A11","v":10},{"$f":"名簿女子!C11","v":0},{"$f":"名簿女子!I11","v":0}]
[{"$f":"IF($Q12=\"\",\"\",VLOOKUP($Q12,名簿女子!$A$2:$K$101,2))","v":""},{"$f":"IF($Q12=\"\",\"\",VLOOKUP($Q12,名簿女子!$A$2:$K$101,3))","v":""},{"$f":"IF($Q12=\"\",\"\",VLOOKUP($Q12,名簿女子!$A$2:$K$101,6))","v":""},{"$f":"IF($Q12=\"\",\"\",VLOOKUP($Q12,名簿女子!$A$2:$K$101,5))","v":""},{"$f":"IF($Q12=\"\",\"\",VLOOKUP($Q12,名簿女子!$A$2:$K$101,8))","v":""},{"$f":"IF($Q12=\"\",\"\",VLOOKUP($Q12,名簿女子!$A$2:$K$101,9))","v":""},{"$f":"IF($Q12=\"\",\"\",VLOOKUP($Q12,名簿女子!$A$2:$K$101,10))","v":""},{"$f":"IF($R12=\"\",\"\",VLOOKUP($R12,名簿女子!$A$2:$K$101,9))","v":""},{"$f":"IF($R12=\"\",\"\",VLOOKUP($R12,名簿女子!$A$2:$K$101,10))","v":""},{"$f":"IF($S12=\"\",\"\",VLOOKUP($S12,名簿女子!$A$2:$K$101,9))","v":""},{"$f":"IF($S12=\"\",\"\",VLOOKUP($S12,名簿女子!$A$2:$K$101,10))","v":""},null,null,null,null,null,null,null,null,{"$f":"名簿女子!A12","v":11},{"$f":"名簿女子!C12","v":0},{"$f":"名簿女子!I12","v":0}]
[{"$f":"IF($Q13=\"\",\"\",VLOOKUP($Q13,名簿女子!$A$2:$K$101,2))","v":""},{"$f":"IF($Q13=\"\",\"\",VLOOKUP($Q13,名簿女子!$A$2:$K$101,3))","v":""},{"$f":"IF($Q13=\"\",\"\",VLOOKUP($Q13,名簿女子!$A$2:$K$101,6))","v":""},{"$f":"IF($Q13=\"\",\"\",VLOOKUP($Q13,名簿女子!$A$2:$K$101,5))","v":""},{"$f":"IF($Q13=\"\",\"\",VLOOKUP($Q13,名簿女子!$A$2:$K$101,8))","v":""},{"$f":"IF($Q13=\"\",\"\",VLOOKUP($Q13,名簿女子!$A$2:$K$101,9))","v":""},{"$f":"IF($Q13=\"\",\"\",VLOOKUP($Q13,名簿女子!$A$2:$K$101,10))","v":""},{"$f":"IF($R13=\"\",\"\",VLOOKUP($R13,名簿女子!$A$2:$K$101,9))","v":""},{"$f":"IF($R13=\"\",\"\",VLOOKUP($R13,名簿女子!$A$2:$K$101,10))","v":""},{"$f":"IF($S13=\"\",\"\",VLOOKUP($S13,名簿女子!$A$2:$K$101,9))","v":""},{"$f":"IF($S13=\"\",\"\",VLOOKUP($S13,名簿女子!$A$2:$K$101,10))","v":""},null,null,null,null,null,null,null,null,{"$f":"名簿女子!A13","v":12},{"$f":"名簿女子!C13","v":0},{"$f":"名簿女子!I13","v":0}]
[{"$f":"IF($Q14=\"\",\"\",VLOOKUP($Q14,名簿女子!$A$2:$K$101,2))","v":""},{"$f":"IF($Q14=\"\",\"\",VLOOKUP($Q14,名簿女子!$A$2:$K$101,3))","v":""},{"$f":"IF($Q14=\"\",\"\",VLOOKUP($Q14,名簿女子!$A$2:$K$101,6))","v":""},{"$f":"IF($Q14=\"\",\"\",VLOOKUP($Q14,名簿女子!$A$2:$K$101,5))","v":""},{"$f":"IF($Q14=\"\",\"\",VLOOKUP($Q14,名簿女子!$A$2:$K$101,8))","v":""},{"$f":"IF($Q14=\"\",\"\",VLOOKUP($Q14,名簿女子!$A$2:$K$101,9))","v":""},{"$f":"IF($Q14=\"\",\"\",VLOOKUP($Q14,名簿女子!$A$2:$K$101,10))","v":""},{"$f":"IF($R14=\"\",\"\",VLOOKUP($R14,名簿女子!$A$2:$K$101,9))","v":""},{"$f":"IF($R14=\"\",\"\",VLOOKUP($R14,名簿女子!$A$2:$K$101,10))","v":""},{"$f":"IF($S14=\"\",\"\",VLOOKUP($S14,名簿女子!$A$2:$K$101,9))","v":""},{"$f":"IF($S14=\"\",\"\",VLOOKUP($S14,名簿女子!$A$2:$K$101,10))","v":""},null,null,null,null,null,null,null,null,{"$f":"名簿女子!A14","v":13},{"$f":"名簿女子!C14","v":0},{"$f":"名簿女子!I14","v":0}]
[{"$f":"IF($Q15=\"\",\"\",VLOOKUP($Q15,名簿女子!$A$2:$K$101,2))","v":""},{"$f":"IF($Q15=\"\",\"\",VLOOKUP($Q15,名簿女子!$A$2:$K$101,3))","v":""},{"$f":"IF($Q15=\"\",\"\",VLOOKUP($Q15,名簿女子!$A$2:$K$101,6))","v":""},{"$f":"IF($Q15=\"\",\"\",VLOOKUP($Q15,名簿女子!$A$2:$K$101,5))","v":""},{"$f":"IF($Q15=\"\",\"\",VLOOKUP($Q15,名簿女子!$A$2:$K$101,8))","v":""},{"$f":"IF($Q15=\"\",\"\",VLOOKUP($Q15,名簿女子!$A$2:$K$101,9))","v":""},{"$f":"IF($Q15=\"\",\"\",VLOOKUP($Q15,名簿女子!$A$2:$K$101,10))","v":""},{"$f":"IF($R15=\"\",\"\",VLOOKUP($R15,名簿女子!$A$2:$K$101,9))","v":""},{"$f":"IF($R15=\"\",\"\",VLOOKUP($R15,名簿女子!$A$2:$K$101,10))","v":""},{"$f":"IF($S15=\"\",\"\",VLOOKUP($S15,名簿女子!$A$2:$K$101,9))","v":""},{"$f":"IF($S15=\"\",\"\",VLOOKUP($S15,名簿女子!$A$2:$K$101,10))","v":""},null,null,null,null,null,null,null,null,{"$f":"名簿女子!A15","v":14},{"$f":"名簿女子!C15","v":0},{"$f":"名簿女子!I15","v":0}]
[{"$f":"IF($Q16=\"\",\"\",VLOOKUP($Q16,名簿女子!$A$2:$K$101,2))","v":""},{"$f":"IF($Q16=\"\",\"\",VLOOKUP($Q16,名簿女子!$A$2:$K$101,3))","v":""},{"$f":"IF($Q16=\"\",\"\",VLOOKUP($Q16,名簿女子!$A$2:$K$101,6))","v":""},{"$f":"IF($Q16=\"\",\"\",VLOOKUP($Q16,名簿女子!$A$2:$K$101,5))","v":""},{"$f":"IF($Q16=\"\",\"\",VLOOKUP($Q16,名簿女子!$A$2:$K$101,8))","v":""},{"$f":"IF($Q16=\"\",\"\",VLOOKUP($Q16,名簿女子!$A$2:$K$101,9))","v":""},{"$f":"IF($Q16=\"\",\"\",VLOOKUP($Q16,名簿女子!$A$2:$K$101,10))","v":""},{"$f":"IF($R16=\"\",\"\",VLOOKUP($R16,名簿女子!$A$2:$K$101,9))","v":""},{"$f":"IF($R16=\"\",\"\",VLOOKUP($R16,名簿女子!$A$2:$K$101,10))","v":""},{"$f":"IF($S16=\"\",\"\",VLOOKUP($S16,名簿女子!$A$2:$K$101,9))","v":""},{"$f":"IF($S16=\"\",\"\",VLOOKUP($S16,名簿女子!$A$2:$K$101,10))","v":""},null,null,null,null,null,null,null,null,{"$f":"名簿女子!A16","v":15},{"$f":"名簿女子!C16","v":0},{"$f":"名簿女子!I16","v":0}]
[{"$f":"IF($Q17=\"\",\"\",VLOOKUP($Q17,名簿女子!$A$2:$K$101,2))","v":""},{"$f":"IF($Q17=\"\",\"\",VLOOKUP($Q17,名簿女子!$A$2:$K$101,3))","v":""},{"$f":"IF($Q17=\"\",\"\",VLOOKUP($Q17,名簿女子!$A$2:$K$101,6))","v":""},{"$f":"IF($Q17=\"\",\"\",VLOOKUP($Q17,名簿女子!$A$2:$K$101,5))","v":""},{"$f":"IF($Q17=\"\",\"\",VLOOKUP($Q17,名簿女子!$A$2:$K$101,8))","v":""},{"$f":"IF($Q17=\"\",\"\",VLOOKUP($Q17,名簿女子!$A$2:$K$101,9))","v":""},{"$f":"IF($Q17=\"\",\"\",VLOOKUP($Q17,名簿女子!$A$2:$K$101,10))","v":""},{"$f":"IF($R17=\"\",\"\",VLOOKUP($R17,名簿女子!$A$2:$K$101,9))","v":""},{"$f":"IF($R17=\"\",\"\",VLOOKUP($R17,名簿女子!$A$2:$K$101,10))","v":""},{"$f":"IF($S17=\"\",\"\",VLOOKUP($S17,名簿女子!$A$2:$K$101,9))","v":""},{"$f":"IF($S17=\"\",\"\",VLOOKUP($S17,名簿女子!$A$2:$K$101,10))","v":""},null,null,null,null,null,null,null,null,{"$f":"名簿女子!A17","v":16},{"$f":"名簿女子!C17","v":0},{"$f":"名簿女子!I17","v":0}]
[{"$f":"IF($Q18=\"\",\"\",VLOOKUP($Q18,名簿女子!$A$2:$K$101,2))","v":""},{"$f":"IF($Q18=\"\",\"\",VLOOKUP($Q18,名簿女子!$A$2:$K$101,3))","v":""},{"$f":"IF($Q18=\"\",\"\",VLOOKUP($Q18,名簿女子!$A$2:$K$101,6))","v":""},{"$f":"IF($Q18=\"\",\"\",VLOOKUP($Q18,名簿女子!$A$2:$K$101,5))","v":""},{"$f":"IF($Q18=\"\",\"\",VLOOKUP($Q18,名簿女子!$A$2:$K$101,8))","v":""},{"$f":"IF($Q18=\"\",\"\",VLOOKUP($Q18,名簿女子!$A$2:$K$101,9))","v":""},{"$f":"IF($Q18=\"\",\"\",VLOOKUP($Q18,名簿女子!$A$2:$K$101,10))","v":""},{"$f":"IF($R18=\"\",\"\",VLOOKUP($R18,名簿女子!$A$2:$K$101,9))","v":""},{"$f":"IF($R18=\"\",\"\",VLOOKUP($R18,名簿女子!$A$2:$K$101,10))","v":""},{"$f":"IF($S18=\"\",\"\",VLOOKUP($S18,名簿女子!$A$2:$K$101,9))","v":""},{"$f":"IF($S18=\"\",\"\",VLOOKUP($S18,名簿女子!$A$2:$K$101,10))","v":""},null,null,null,null,null,null,null,null,{"$f":"名簿女子!A18","v":17},{"$f":"名簿女子!C18","v":0},{"$f":"名簿女子!I18","v":0}]
[{"$f":"IF($Q19=\"\",\"\",VLOOKUP($Q19,名簿女子!$A$2:$K$101,2))","v":""},{"$f":"IF($Q19=\"\",\"\",VLOOKUP($Q19,名簿女子!$A$2:$K$101,3))","v":""},{"$f":"IF($Q19=\"\",\"\",VLOOKUP($Q19,名簿女子!$A$2:$K$101,6))","v":""},{"$f":"IF($Q19=\"\",\"\",VLOOKUP($Q19,名簿女子!$A$2:$K$101,5))","v":""},{"$f":"IF($Q19=\"\",\"\",VLOOKUP($Q19,名簿女子!$A$2:$K$101,8))","v":""},{"$f":"IF($Q19=\"\",\"\",VLOOKUP($Q19,名簿女子!$A$2:$K$101,9))","v":""},{"$f":"IF($Q19=\"\",\"\",VLOOKUP($Q19,名簿女子!$A$2:$K$101,10))","v":""},{"$f":"IF($R19=\"\",\"\",VLOOKUP($R19,名簿女子!$A$2:$K$101,9))","v":""},{"$f":"IF($R19=\"\",\"\",VLOOKUP($R19,名簿女子!$A$2:$K$101,10))","v":""},{"$f":"IF($S19=\"\",\"\",VLOOKUP($S19,名簿女子!$A$2:$K$101,9))","v":""},{"$f":"IF($S19=\"\",\"\",VLOOKUP($S19,名簿女子!$A$2:$K$101,10))","v":""},null,null,null,null,null,null,null,null,{"$f":"名簿女子!A19","v":18},{"$f":"名簿女子!C19","v":0},{"$f":"名簿女子!I19","v":0}]
[{"$f":"IF($Q20=\"\",\"\",VLOOKUP($Q20,名簿女子!$A$2:$K$101,2))","v":""},{"$f":"IF($Q20=\"\",\"\",VLOOKUP($Q20,名簿女子!$A$2:$K$101,3))","v":""},{"$f":"IF($Q20=\"\",\"\",VLOOKUP($Q20,名簿女子!$A$2:$K$101,6))","v":""},{"$f":"IF($Q20=\"\",\"\",VLOOKUP($Q20,名簿女子!$A$2:$K$101,5))","v":""},{"$f":"IF($Q20=\"\",\"\",VLOOKUP($Q20,名簿女子!$A$2:$K$101,8))","v":""},{"$f":"IF($Q20=\"\",\"\",VLOOKUP($Q20,名簿女子!$A$2:$K$101,9))","v":""},{"$f":"IF($Q20=\"\",\"\",VLOOKUP($Q20,名簿女子!$A$2:$K$101,10))","v":""},{"$f":"IF($R20=\"\",\"\",VLOOKUP($R20,名簿女子!$A$2:$K$101,9))","v":""},{"$f":"IF($R20=\"\",\"\",VLOOKUP($R20,名簿女子!$A$2:$K$101,10))","v":""},{"$f":"IF($S20=\"\",\"\",VLOOKUP($S20,名簿女子!$A$2:$K$101,9))","v":""},{"$f":"IF($S20=\"\",\"\",VLOOKUP($S20,名簿女子!$A$2:$K$101,10))","v":""},null,null,null,null,null,null,null,null,{"$f":"名簿女子!A20","v":19},{"$f":"名簿女子!C20","v":0},{"$f":"名簿女子!I20","v":0}]
[{"$f":"IF($Q21=\"\",\"\",VLOOKUP($Q21,名簿女子!$A$2:$K$101,2))","v":""},{"$f":"IF($Q21=\"\",\"\",VLOOKUP($Q21,名簿女子!$A$2:$K$101,3))","v":""},{"$f":"IF($Q21=\"\",\"\",VLOOKUP($Q21,名簿女子!$A$2:$K$101,6))","v":""},{"$f":"IF($Q21=\"\",\"\",VLOOKUP($Q21,名簿女子!$A$2:$K$101,5))","v":""},{"$f":"IF($Q21=\"\",\"\",VLOOKUP($Q21,名簿女子!$A$2:$K$101,8))","v":""},{"$f":"IF($Q21=\"\",\"\",VLOOKUP($Q21,名簿女子!$A$2:$K$101,9))","v":""},{"$f":"IF($Q21=\"\",\"\",VLOOKUP($Q21,名簿女子!$A$2:$K$101,10))","v":""},{"$f":"IF($R21=\"\",\"\",VLOOKUP($R21,名簿女子!$A$2:$K$101,9))","v":""},{"$f":"IF($R21=\"\",\"\",VLOOKUP($R21,名簿女子!$A$2:$K$101,10))","v":""},{"$f":"IF($S21=\"\",\"\",VLOOKUP($S21,名簿女子!$A$2:$K$101,9))","v":""},{"$f":"IF($S21=\"\",\"\",VLOOKUP($S21,名簿女子!$A$2:$K$101,10))","v":""},null,null,null,null,null,null,null,null,{"$f":"名簿女子!A21","v":20},{"$f":"名簿女子!C21","v":0},{"$f":"名簿女子!I21","v":0}]
[{"$f":"IF($Q22=\"\",\"\",VLOOKUP($Q22,名簿女子!$A$2:$K$101,2))","v":""},{"$f":"IF($Q22=\"\",\"\",VLOOKUP($Q22,名簿女子!$A$2:$K$101,3))","v":""},{"$f":"IF($Q22=\"\",\"\",VLOOKUP($Q22,名簿女子!$A$2:$K$101,6))","v":""},{"$f":"IF($Q22=\"\",\"\",VLOOKUP($Q22,名簿女子!$A$2:$K$101,5))","v":""},{"$f":"IF($Q22=\"\",\"\",VLOOKUP($Q22,名簿女子!$A$2:$K$101,8))","v":""},{"$f":"IF($Q22=\"\",\"\",VLOOKUP($Q22,名簿女子!$A$2:$K$101,9))","v":""},{"$f":"IF($Q22=\"\",\"\",VLOOKUP($Q22,名簿女子!$A$2:$K$101,10))","v":""},{"$f":"IF($R22=\"\",\"\",VLOOKUP($R22,名簿女子!$A$2:$K$101,9))","v":""},{"$f":"IF($R22=\"\",\"\",VLOOKUP($R22,名簿女子!$A$2:$K$101,10))","v":""},{"$f":"IF($S22=\"\",\"\",VLOOKUP($S22,名簿女子!$A$2:$K$101,9))","v":""},{"$f":"IF($S22=\"\",\"\",VLOOKUP($S22,名簿女子!$A$2:$K$101,10))","v":""},null,null,null,null,null,null,null,null,{"$f":"名簿女子!A22","v":21},{"$f":"名簿女子!C22","v":0},{"$f":"名簿女子!I22","v":0}]
[{"$f":"IF($Q23=\"\",\"\",VLOOKUP($Q23,名簿女子!$A$2:$K$101,2))","v":""},{"$f":"IF($Q23=\"\",\"\",VLOOKUP($Q23,名簿女子!$A$2:$K$101,3))","v":""},{"$f":"IF($Q23=\"\",\"\",VLOOKUP($Q23,名簿女子!$A$2:$K$101,6))","v":""},{"$f":"IF($Q23=\"\",\"\",VLOOKUP($Q23,名簿女子!$A$2:$K$101,5))","v":""},{"$f":"IF($Q23=\"\",\"\",VLOOKUP($Q23,名簿女子!$A$2:$K$101,8))","v":""},{"$f":"IF($Q23=\"\",\"\",VLOOKUP($Q23,名簿女子!$A$2:$K$101,9))","v":""},{"$f":"IF($Q23=\"\",\"\",VLOOKUP($Q23,名簿女子!$A$2:$K$101,10))","v":""},{"$f":"IF($R23=\"\",\"\",VLOOKUP($R23,名簿女子!$A$2:$K$101,9))","v":""},{"$f":"IF($R23=\"\",\"\",VLOOKUP($R23,名簿女子!$A$2:$K$101,10))","v":""},{"$f":"IF($S23=\"\",\"\",VLOOKUP($S23,名簿女子!$A$2:$K$101,9))","v":""},{"$f":"IF($S23=\"\",\"\",VLOOKUP($S23,名簿女子!$A$2:$K$101,10))","v":""},null,null,null,null,null,null,null,null,{"$f":"名簿女子!A23","v":22},{"$f":"名簿女子!C23","v":0},{"$f":"名簿女子!I23","v":0}]
[{"$f":"IF($Q24=\"\",\"\",VLOOKUP($Q24,名簿女子!$A$2:$K$101,2))","v":""},{"$f":"IF($Q24=\"\",\"\",VLOOKUP($Q24,名簿女子!$A$2:$K$101,3))","v":""},{"$f":"IF($Q24=\"\",\"\",VLOOKUP($Q24,名簿女子!$A$2:$K$101,6))","v":""},{"$f":"IF($Q24=\"\",\"\",VLOOKUP($Q24,名簿女子!$A$2:$K$101,5))","v":""},{"$f":"IF($Q24=\"\",\"\",VLOOKUP($Q24,名簿女子!$A$2:$K$101,8))","v":""},{"$f":"IF($Q24=\"\",\"\",VLOOKUP($Q24,名簿女子!$A$2:$K$101,9))","v":""},{"$f":"IF($Q24=\"\",\"\",VLOOKUP($Q24,名簿女子!$A$2:$K$101,10))","v":""},{"$f":"IF($R24=\"\",\"\",VLOOKUP($R24,名簿女子!$A$2:$K$101,9))","v":""},{"$f":"IF($R24=\"\",\"\",VLOOKUP($R24,名簿女子!$A$2:$K$101,10))","v":""},{"$f":"IF($S24=\"\",\"\",VLOOKUP($S24,名簿女子!$A$2:$K$101,9))","v":""},{"$f":"IF($S24=\"\",\"\",VLOOKUP($S24,名簿女子!$A$2:$K$101,10))","v":""},null,null,null,null,null,null,null,null,{"$f":"名簿女子!A24","v":23},{"$f":"名簿女子!C24","v":0},{"$f":"名簿女子!I24","v":0}]
[{"$f":"IF($Q25=\"\",\"\",VLOOKUP($Q25,名簿女子!$A$2:$K$101,2))","v":""},{"$f":"IF($Q25=\"\",\"\",VLOOKUP($Q25,名簿女子!$A$2:$K$101,3))","v":""},{"$f":"IF($Q25=\"\",\"\",VLOOKUP($Q25,名簿女子!$A$2:$K$101,6))","v":""},{"$f":"IF($Q25=\"\",\"\",VLOOKUP($Q25,名簿女子!$A$2:$K$101,5))","v":""},{"$f":"IF($Q25=\"\",\"\",VLOOKUP($Q25,名簿女子!$A$2:$K$101,8))","v":""},{"$f":"IF($Q25=\"\",\"\",VLOOKUP($Q25,名簿女子!$A$2:$K$101,9))","v":""},{"$f":"IF($Q25=\"\",\"\",VLOOKUP($Q25,名簿女子!$A$2:$K$101,10))","v":""},{"$f":"IF($R25=\"\",\"\",VLOOKUP($R25,名簿女子!$A$2:$K$101,9))","v":""},{"$f":"IF($R25=\"\",\"\",VLOOKUP($R25,名簿女子!$A$2:$K$101,10))","v":""},{"$f":"IF($S25=\"\",\"\",VLOOKUP($S25,名簿女子!$A$2:$K$101,9))","v":""},{"$f":"IF($S25=\"\",\"\",VLOOKUP($S25,名簿女子!$A$2:$K$101,10))","v":""},null,null,null,null,null,null,null,null,{"$f":"名簿女子!A25","v":24},{"$f":"名簿女子!C25","v":0},{"$f":"名簿女子!I25","v":0}]
[{"$f":"IF($Q26=\"\",\"\",VLOOKUP($Q26,名簿女子!$A$2:$K$101,2))","v":""},{"$f":"IF($Q26=\"\",\"\",VLOOKUP($Q26,名簿女子!$A$2:$K$101,3))","v":""},{"$f":"IF($Q26=\"\",\"\",VLOOKUP($Q26,名簿女子!$A$2:$K$101,6))","v":""},{"$f":"IF($Q26=\"\",\"\",VLOOKUP($Q26,名簿女子!$A$2:$K$101,5))","v":""},{"$f":"IF($Q26=\"\",\"\",VLOOKUP($Q26,名簿女子!$A$2:$K$101,8))","v":""},{"$f":"IF($Q26=\"\",\"\",VLOOKUP($Q26,名簿女子!$A$2:$K$101,9))","v":""},{"$f":"IF($Q26=\"\",\"\",VLOOKUP($Q26,名簿女子!$A$2:$K$101,10))","v":""},{"$f":"IF($R26=\"\",\"\",VLOOKUP($R26,名簿女子!$A$2:$K$101,9))","v":""},{"$f":"IF($R26=\"\",\"\",VLOOKUP($R26,名簿女子!$A$2:$K$101,10))","v":""},{"$f":"IF($S26=\"\",\"\",VLOOKUP($S26,名簿女子!$A$2:$K$101,9))","v":""},{"$f":"IF($S26=\"\",\"\",VLOOKUP($S26,名簿女子!$A$2:$K$101,10))","v":""},null,null,null,null,null,null,null,null,{"$f":"名簿女子!A26","v":25},{"$f":"名簿女子!C26","v":0},{"$f":"名簿女子!I26","v":0}]
[{"$f":"IF($Q27=\"\",\"\",VLOOKUP($Q27,名簿女子!$A$2:$K$101,2))","v":""},{"$f":"IF($Q27=\"\",\"\",VLOOKUP($Q27,名簿女子!$A$2:$K$101,3))","v":""},{"$f":"IF($Q27=\"\",\"\",VLOOKUP($Q27,名簿女子!$A$2:$K$101,6))","v":""},{"$f":"IF($Q27=\"\",\"\",VLOOKUP($Q27,名簿女子!$A$2:$K$101,5))","v":""},{"$f":"IF($Q27=\"\",\"\",VLOOKUP($Q27,名簿女子!$A$2:$K$101,8))","v":""},{"$f":"IF($Q27=\"\",\"\",VLOOKUP($Q27,名簿女子!$A$2:$K$101,9))","v":""},{"$f":"IF($Q27=\"\",\"\",VLOOKUP($Q27,名簿女子!$A$2:$K$101,10))","v":""},{"$f":"IF($R27=\"\",\"\",VLOOKUP($R27,名簿女子!$A$2:$K$101,9))","v":""},{"$f":"IF($R27=\"\",\"\",VLOOKUP($R27,名簿女子!$A$2:$K$101,10))","v":""},{"$f":"IF($S27=\"\",\"\",VLOOKUP($S27,名簿女子!$A$2:$K$101,9))","v":""},{"$f":"IF($S27=\"\",\"\",VLOOKUP($S27,名簿女子!$A$2:$K$101,10))","v":""},null,null,null,null,null,null,null,null,{"$f":"名簿女子!A27","v":26},{"$f":"名簿女子!C27","v":0},{"$f":"名簿女子!I27","v":0}]
[{"$f":"IF($Q28=\"\",\"\",VLOOKUP($Q28,名簿女子!$A$2:$K$101,2))","v":""},{"$f":"IF($Q28=\"\",\"\",VLOOKUP($Q28,名簿女子!$A$2:$K$101,3))","v":""},{"$f":"IF($Q28=\"\",\"\",VLOOKUP($Q28,名簿女子!$A$2:$K$101,6))","v":""},{"$f":"IF($Q28=\"\",\"\",VLOOKUP($Q28,名簿女子!$A$2:$K$101,5))","v":""},{"$f":"IF($Q28=\"\",\"\",VLOOKUP($Q28,名簿女子!$A$2:$K$101,8))","v":""},{"$f":"IF($Q28=\"\",\"\",VLOOKUP($Q28,名簿女子!$A$2:$K$101,9))","v":""},{"$f":"IF($Q28=\"\",\"\",VLOOKUP($Q28,名簿女子!$A$2:$K$101,10))","v":""},{"$f":"IF($R28=\"\",\"\",VLOOKUP($R28,名簿女子!$A$2:$K$101,9))","v":""},{"$f":"IF($R28=\"\",\"\",VLOOKUP($R28,名簿女子!$A$2:$K$101,10))","v":""},{"$f":"IF($S28=\"\",\"\",VLOOKUP($S28,名簿女子!$A$2:$K$101,9))","v":""},{"$f":"IF($S28=\"\",\"\",VLOOKUP($S28,名簿女子!$A$2:$K$101,10))","v":""},null,null,null,null,null,null,null,null,{"$f":"名簿女子!A28","v":27},{"$f":"名簿女子!C28","v":0},{"$f":"名簿女子!I28","v":0}]
[{"$f":"IF($Q29=\"\",\"\",VLOOKUP($Q29,名簿女子!$A$2:$K$101,2))","v":""},{"$f":"IF($Q29=\"\",\"\",VLOOKUP($Q29,名簿女子!$A$2:$K$101,3))","v":""},{"$f":"IF($Q29=\"\",\"\",VLOOKUP($Q29,名簿女子!$A$2:$K$101,6))","v":""},{"$f":"IF($Q29=\"\",\"\",VLOOKUP($Q29,名簿女子!$A$2:$K$101,5))","v":""},{"$f":"IF($Q29=\"\",\"\",VLOOKUP($Q29,名簿女子!$A$2:$K$101,8))","v":""},{"$f":"IF($Q29=\"\",\"\",VLOOKUP($Q29,名簿女子!$A$2:$K$101,9))","v":""},{"$f":"IF($Q29=\"\",\"\",VLOOKUP($Q29,名簿女子!$A$2:$K$101,10))","v":""},{"$f":"IF($R29=\"\",\"\",VLOOKUP($R29,名簿女子!$A$2:$K$101,9))","v":""},{"$f":"IF($R29=\"\",\"\",VLOOKUP($R29,名簿女子!$A$2:$K$101,10))","v":""},{"$f":"IF($S29=\"\",\"\",VLOOKUP($S29,名簿女子!$A$2:$K$101,9))","v":""},{"$f":"IF($S29=\"\",\"\",VLOOKUP($S29,名簿女子!$A$2:$K$101,10))","v":""},null,null,null,null,null,null,null,null,{"$f":"名簿女子!A29","v":28},{"$f":"名簿女子!C29","v":0},{"$f":"名簿女子!I29","v":0}]
[{"$f":"IF($Q30=\"\",\"\",VLOOKUP($Q30,名簿女子!$A$2:$K$101,2))","v":""},{"$f":"IF($Q30=\"\",\"\",VLOOKUP($Q30,名簿女子!$A$2:$K$101,3))","v":""},{"$f":"IF($Q30=\"\",\"\",VLOOKUP($Q30,名簿女子!$A$2:$K$101,6))","v":""},{"$f":"IF($Q30=\"\",\"\",VLOOKUP($Q30,名簿女子!$A$2:$K$101,5))","v":""},{"$f":"IF($Q30=\"\",\"\",VLOOKUP($Q30,名簿女子!$A$2:$K$101,8))","v":""},{"$f":"IF($Q30=\"\",\"\",VLOOKUP($Q30,名簿女子!$A$2:$K$101,9))","v":""},{"$f":"IF($Q30=\"\",\"\",VLOOKUP($Q30,名簿女子!$A$2:$K$101,10))","v":""},{"$f":"IF($R30=\"\",\"\",VLOOKUP($R30,名簿女子!$A$2:$K$101,9))","v":""},{"$f":"IF($R30=\"\",\"\",VLOOKUP($R30,名簿女子!$A$2:$K$101,10))","v":""},{"$f":"IF($S30=\"\",\"\",VLOOKUP($S30,名簿女子!$A$2:$K$101,9))","v":""},{"$f":"IF($S30=\"\",\"\",VLOOKUP($S30,名簿女子!$A$2:$K$101,10))","v":""},null,null,null,null,null,null,null,null,{"$f":"名簿女子!A30","v":29},{"$f":"名簿女子!C30","v":0},{"$f":"名簿女子!I30","v":0}]
[{"$f":"IF($Q31=\"\",\"\",VLOOKUP($Q31,名簿女子!$A$2:$K$101,2))","v":""},{"$f":"IF($Q31=\"\",\"\",VLOOKUP($Q31,名簿女子!$A$2:$K$101,3))","v":""},{"$f":"IF($Q31=\"\",\"\",VLOOKUP($Q31,名簿女子!$A$2:$K$101,6))","v":""},{"$f":"IF($Q31=\"\",\"\",VLOOKUP($Q31,名簿女子!$A$2:$K$101,5))","v":""},{"$f":"IF($Q31=\"\",\"\",VLOOKUP($Q31,名簿女子!$A$2:$K$101,8))","v":""},{"$f":"IF($Q31=\"\",\"\",VLOOKUP($Q31,名簿女子!$A$2:$K$101,9))","v":""},{"$f":"IF($Q31=\"\",\"\",VLOOKUP($Q31,名簿女子!$A$2:$K$101,10))","v":""},{"$f":"IF($R31=\"\",\"\",VLOOKUP($R31,名簿女子!$A$2:$K$101,9))","v":""},{"$f":"IF($R31=\"\",\"\",VLOOKUP($R31,名簿女子!$A$2:$K$101,10))","v":""},{"$f":"IF($S31=\"\",\"\",VLOOKUP($S31,名簿女子!$A$2:$K$101,9))","v":""},{"$f":"IF($S31=\"\",\"\",VLOOKUP($S31,名簿女子!$A$2:$K$101,10))","v":""},null,null,null,null,null,null,null,null,{"$f":"名簿女子!A31","v":30},{"$f":"名簿女子!C31","v":0},{"$f":"名簿女子!I31","v":0}]
[{"$f":"IF($Q32=\"\",\"\",VLOOKUP($Q32,名簿女子!$A$2:$K$101,2))","v":""},{"$f":"IF($Q32=\"\",\"\",VLOOKUP($Q32,名簿女子!$A$2:$K$101,3))","v":""},{"$f":"IF($Q32=\"\",\"\",VLOOKUP($Q32,名簿女子!$A$2:$K$101,6))","v":""},{"$f":"IF($Q32=\"\",\"\",VLOOKUP($Q32,名簿女子!$A$2:$K$101,5))","v":""},{"$f":"IF($Q32=\"\",\"\",VLOOKUP($Q32,名簿女子!$A$2:$K$101,8))","v":""},{"$f":"IF($Q32=\"\",\"\",VLOOKUP($Q32,名簿女子!$A$2:$K$101,9))","v":""},{"$f":"IF($Q32=\"\",\"\",VLOOKUP($Q32,名簿女子!$A$2:$K$101,10))","v":""},{"$f":"IF($R32=\"\",\"\",VLOOKUP($R32,名簿女子!$A$2:$K$101,9))","v":""},{"$f":"IF($R32=\"\",\"\",VLOOKUP($R32,名簿女子!$A$2:$K$101,10))","v":""},{"$f":"IF($S32=\"\",\"\",VLOOKUP($S32,名簿女子!$A$2:$K$101,9))","v":""},{"$f":"IF($S32=\"\",\"\",VLOOKUP($S32,名簿女子!$A$2:$K$101,10))","v":""},null,null,null,null,null,null,null,null,{"$f":"名簿女子!A32","v":31},{"$f":"名簿女子!C32","v":0},{"$f":"名簿女子!I32","v":0}]
[{"$f":"IF($Q33=\"\",\"\",VLOOKUP($Q33,名簿女子!$A$2:$K$101,2))","v":""},{"$f":"IF($Q33=\"\",\"\",VLOOKUP($Q33,名簿女子!$A$2:$K$101,3))","v":""},{"$f":"IF($Q33=\"\",\"\",VLOOKUP($Q33,名簿女子!$A$2:$K$101,6))","v":""},{"$f":"IF($Q33=\"\",\"\",VLOOKUP($Q33,名簿女子!$A$2:$K$101,5))","v":""},{"$f":"IF($Q33=\"\",\"\",VLOOKUP($Q33,名簿女子!$A$2:$K$101,8))","v":""},{"$f":"IF($Q33=\"\",\"\",VLOOKUP($Q33,名簿女子!$A$2:$K$101,9))","v":""},{"$f":"IF($Q33=\"\",\"\",VLOOKUP($Q33,名簿女子!$A$2:$K$101,10))","v":""},{"$f":"IF($R33=\"\",\"\",VLOOKUP($R33,名簿女子!$A$2:$K$101,9))","v":""},{"$f":"IF($R33=\"\",\"\",VLOOKUP($R33,名簿女子!$A$2:$K$101,10))","v":""},{"$f":"IF($S33=\"\",\"\",VLOOKUP($S33,名簿女子!$A$2:$K$101,9))","v":""},{"$f":"IF($S33=\"\",\"\",VLOOKUP($S33,名簿女子!$A$2:$K$101,10))","v":""},null,null,null,null,null,null,null,null,{"$f":"名簿女子!A33","v":32},{"$f":"名簿女子!C33","v":0},{"$f":"名簿女子!I33","v":0}]
[{"$f":"IF($Q34=\"\",\"\",VLOOKUP($Q34,名簿女子!$A$2:$K$101,2))","v":""},{"$f":"IF($Q34=\"\",\"\",VLOOKUP($Q34,名簿女子!$A$2:$K$101,3))","v":""},{"$f":"IF($Q34=\"\",\"\",VLOOKUP($Q34,名簿女子!$A$2:$K$101,6))","v":""},{"$f":"IF($Q34=\"\",\"\",VLOOKUP($Q34,名簿女子!$A$2:$K$101,5))","v":""},{"$f":"IF($Q34=\"\",\"\",VLOOKUP($Q34,名簿女子!$A$2:$K$101,8))","v":""},{"$f":"IF($Q34=\"\",\"\",VLOOKUP($Q34,名簿女子!$A$2:$K$101,9))","v":""},{"$f":"IF($Q34=\"\",\"\",VLOOKUP($Q34,名簿女子!$A$2:$K$101,10))","v":""},{"$f":"IF($R34=\"\",\"\",VLOOKUP($R34,名簿女子!$A$2:$K$101,9))","v":""},{"$f":"IF($R34=\"\",\"\",VLOOKUP($R34,名簿女子!$A$2:$K$101,10))","v":""},{"$f":"IF($S34=\"\",\"\",VLOOKUP($S34,名簿女子!$A$2:$K$101,9))","v":""},{"$f":"IF($S34=\"\",\"\",VLOOKUP($S34,名簿女子!$A$2:$K$101,10))","v":""},null,null,null,null,null,null,null,null,{"$f":"名簿女子!A34","v":33},{"$f":"名簿女子!C34","v":0},{"$f":"名簿女子!I34","v":0}]
[{"$f":"IF($Q35=\"\",\"\",VLOOKUP($Q35,名簿女子!$A$2:$K$101,2))","v":""},{"$f":"IF($Q35=\"\",\"\",VLOOKUP($Q35,名簿女子!$A$2:$K$101,3))","v":""},{"$f":"IF($Q35=\"\",\"\",VLOOKUP($Q35,名簿女子!$A$2:$K$101,6))","v":""},{"$f":"IF($Q35=\"\",\"\",VLOOKUP($Q35,名簿女子!$A$2:$K$101,5))","v":""},{"$f":"IF($Q35=\"\",\"\",VLOOKUP($Q35,名簿女子!$A$2:$K$101,8))","v":""},{"$f":"IF($Q35=\"\",\"\",VLOOKUP($Q35,名簿女子!$A$2:$K$101,9))","v":""},{"$f":"IF($Q35=\"\",\"\",VLOOKUP($Q35,名簿女子!$A$2:$K$101,10))","v":""},{"$f":"IF($R35=\"\",\"\",VLOOKUP($R35,名簿女子!$A$2:$K$101,9))","v":""},{"$f":"IF($R35=\"\",\"\",VLOOKUP($R35,名簿女子!$A$2:$K$101,10))","v":""},{"$f":"IF($S35=\"\",\"\",VLOOKUP($S35,名簿女子!$A$2:$K$101,9))","v":""},{"$f":"IF($S35=\"\",\"\",VLOOKUP($S35,名簿女子!$A$2:$K$101,10))","v":""},null,null,null,null,null,null,null,null,{"$f":"名簿女子!A35","v":34},{"$f":"名簿女子!C35","v":0},{"$f":"名簿女子!I35","v":0}]
[{"$f":"IF($Q36=\"\",\"\",VLOOKUP($Q36,名簿女子!$A$2:$K$101,2))","v":""},{"$f":"IF($Q36=\"\",\"\",VLOOKUP($Q36,名簿女子!$A$2:$K$101,3))","v":""},{"$f":"IF($Q36=\"\",\"\",VLOOKUP($Q36,名簿女子!$A$2:$K$101,6))","v":""},{"$f":"IF($Q36=\"\",\"\",VLOOKUP($Q36,名簿女子!$A$2:$K$101,5))","v":""},{"$f":"IF($Q36=\"\",\"\",VLOOKUP($Q36,名簿女子!$A$2:$K$101,8))","v":""},{"$f":"IF($Q36=\"\",\"\",VLOOKUP($Q36,名簿女子!$A$2:$K$101,9))","v":""},{"$f":"IF($Q36=\"\",\"\",VLOOKUP($Q36,名簿女子!$A$2:$K$101,10))","v":""},{"$f":"IF($R36=\"\",\"\",VLOOKUP($R36,名簿女子!$A$2:$K$101,9))","v":""},{"$f":"IF($R36=\"\",\"\",VLOOKUP($R36,名簿女子!$A$2:$K$101,10))","v":""},{"$f":"IF($S36=\"\",\"\",VLOOKUP($S36,名簿女子!$A$2:$K$101,9))","v":""},{"$f":"IF($S36=\"\",\"\",VLOOKUP($S36,名簿女子!$A$2:$K$101,10))","v":""},null,null,null,null,null,null,null,null,{"$f":"名簿女子!A36","v":35},{"$f":"名簿女子!C36","v":0},{"$f":"名簿女子!I36","v":0}]
[{"$f":"IF($Q37=\"\",\"\",VLOOKUP($Q37,名簿女子!$A$2:$K$101,2))","v":""},{"$f":"IF($Q37=\"\",\"\",VLOOKUP($Q37,名簿女子!$A$2:$K$101,3))","v":""},{"$f":"IF($Q37=\"\",\"\",VLOOKUP($Q37,名簿女子!$A$2:$K$101,6))","v":""},{"$f":"IF($Q37=\"\",\"\",VLOOKUP($Q37,名簿女子!$A$2:$K$101,5))","v":""},{"$f":"IF($Q37=\"\",\"\",VLOOKUP($Q37,名簿女子!$A$2:$K$101,8))","v":""},{"$f":"IF($Q37=\"\",\"\",VLOOKUP($Q37,名簿女子!$A$2:$K$101,9))","v":""},{"$f":"IF($Q37=\"\",\"\",VLOOKUP($Q37,名簿女子!$A$2:$K$101,10))","v":""},{"$f":"IF($R37=\"\",\"\",VLOOKUP($R37,名簿女子!$A$2:$K$101,9))","v":""},{"$f":"IF($R37=\"\",\"\",VLOOKUP($R37,名簿女子!$A$2:$K$101,10))","v":""},{"$f":"IF($S37=\"\",\"\",VLOOKUP($S37,名簿女子!$A$2:$K$101,9))","v":""},{"$f":"IF($S37=\"\",\"\",VLOOKUP($S37,名簿女子!$A$2:$K$101,10))","v":""},null,null,null,null,null,null,null,null,{"$f":"名簿女子!A37","v":36},{"$f":"名簿女子!C37","v":0},{"$f":"名簿女子!I37","v":0}]
[{"$f":"IF($Q38=\"\",\"\",VLOOKUP($Q38,名簿女子!$A$2:$K$101,2))","v":""},{"$f":"IF($Q38=\"\",\"\",VLOOKUP($Q38,名簿女子!$A$2:$K$101,3))","v":""},{"$f":"IF($Q38=\"\",\"\",VLOOKUP($Q38,名簿女子!$A$2:$K$101,6))","v":""},{"$f":"IF($Q38=\"\",\"\",VLOOKUP($Q38,名簿女子!$A$2:$K$101,5))","v":""},{"$f":"IF($Q38=\"\",\"\",VLOOKUP($Q38,名簿女子!$A$2:$K$101,8))","v":""},{"$f":"IF($Q38=\"\",\"\",VLOOKUP($Q38,名簿女子!$A$2:$K$101,9))","v":""},{"$f":"IF($Q38=\"\",\"\",VLOOKUP($Q38,名簿女子!$A$2:$K$101,10))","v":""},{"$f":"IF($R38=\"\",\"\",VLOOKUP($R38,名簿女子!$A$2:$K$101,9))","v":""},{"$f":"IF($R38=\"\",\"\",VLOOKUP($R38,名簿女子!$A$2:$K$101,10))","v":""},{"$f":"IF($S38=\"\",\"\",VLOOKUP($S38,名簿女子!$A$2:$K$101,9))","v":""},{"$f":"IF($S38=\"\",\"\",VLOOKUP($S38,名簿女子!$A$2:$K$101,10))","v":""},null,null,null,null,null,null,null,null,{"$f":"名簿女子!A38","v":37},{"$f":"名簿女子!C38","v":0},{"$f":"名簿女子!I38","v":0}]
[{"$f":"IF($Q39=\"\",\"\",VLOOKUP($Q39,名簿女子!$A$2:$K$101,2))","v":""},{"$f":"IF($Q39=\"\",\"\",VLOOKUP($Q39,名簿女子!$A$2:$K$101,3))","v":""},{"$f":"IF($Q39=\"\",\"\",VLOOKUP($Q39,名簿女子!$A$2:$K$101,6))","v":""},{"$f":"IF($Q39=\"\",\"\",VLOOKUP($Q39,名簿女子!$A$2:$K$101,5))","v":""},{"$f":"IF($Q39=\"\",\"\",VLOOKUP($Q39,名簿女子!$A$2:$K$101,8))","v":""},{"$f":"IF($Q39=\"\",\"\",VLOOKUP($Q39,名簿女子!$A$2:$K$101,9))","v":""},{"$f":"IF($Q39=\"\",\"\",VLOOKUP($Q39,名簿女子!$A$2:$K$101,10))","v":""},{"$f":"IF($R39=\"\",\"\",VLOOKUP($R39,名簿女子!$A$2:$K$101,9))","v":""},{"$f":"IF($R39=\"\",\"\",VLOOKUP($R39,名簿女子!$A$2:$K$101,10))","v":""},{"$f":"IF($S39=\"\",\"\",VLOOKUP($S39,名簿女子!$A$2:$K$101,9))","v":""},{"$f":"IF($S39=\"\",\"\",VLOOKUP($S39,名簿女子!$A$2:$K$101,10))","v":""},null,null,null,null,null,null,null,null,{"$f":"名簿女子!A39","v":38},{"$f":"名簿女子!C39","v":0},{"$f":"名簿女子!I39","v":0}]
[{"$f":"IF($Q40=\"\",\"\",VLOOKUP($Q40,名簿女子!$A$2:$K$101,2))","v":""},{"$f":"IF($Q40=\"\",\"\",VLOOKUP($Q40,名簿女子!$A$2:$K$101,3))","v":""},{"$f":"IF($Q40=\"\",\"\",VLOOKUP($Q40,名簿女子!$A$2:$K$101,6))","v":""},{"$f":"IF($Q40=\"\",\"\",VLOOKUP($Q40,名簿女子!$A$2:$K$101,5))","v":""},{"$f":"IF($Q40=\"\",\"\",VLOOKUP($Q40,名簿女子!$A$2:$K$101,8))","v":""},{"$f":"IF($Q40=\"\",\"\",VLOOKUP($Q40,名簿女子!$A$2:$K$101,9))","v":""},{"$f":"IF($Q40=\"\",\"\",VLOOKUP($Q40,名簿女子!$A$2:$K$101,10))","v":""},{"$f":"IF($R40=\"\",\"\",VLOOKUP($R40,名簿女子!$A$2:$K$101,9))","v":""},{"$f":"IF($R40=\"\",\"\",VLOOKUP($R40,名簿女子!$A$2:$K$101,10))","v":""},{"$f":"IF($S40=\"\",\"\",VLOOKUP($S40,名簿女子!$A$2:$K$101,9))","v":""},{"$f":"IF($S40=\"\",\"\",VLOOKUP($S40,名簿女子!$A$2:$K$101,10))","v":""},null,null,null,null,null,null,null,null,{"$f":"名簿女子!A40","v":39},{"$f":"名簿女子!C40","v":0},{"$f":"名簿女子!I40","v":0}]
[{"$f":"IF($Q41=\"\",\"\",VLOOKUP($Q41,名簿女子!$A$2:$K$101,2))","v":""},{"$f":"IF($Q41=\"\",\"\",VLOOKUP($Q41,名簿女子!$A$2:$K$101,3))","v":""},{"$f":"IF($Q41=\"\",\"\",VLOOKUP($Q41,名簿女子!$A$2:$K$101,6))","v":""},{"$f":"IF($Q41=\"\",\"\",VLOOKUP($Q41,名簿女子!$A$2:$K$101,5))","v":""},{"$f":"IF($Q41=\"\",\"\",VLOOKUP($Q41,名簿女子!$A$2:$K$101,8))","v":""},{"$f":"IF($Q41=\"\",\"\",VLOOKUP($Q41,名簿女子!$A$2:$K$101,9))","v":""},{"$f":"IF($Q41=\"\",\"\",VLOOKUP($Q41,名簿女子!$A$2:$K$101,10))","v":""},{"$f":"IF($R41=\"\",\"\",VLOOKUP($R41,名簿女子!$A$2:$K$101,9))","v":""},{"$f":"IF($R41=\"\",\"\",VLOOKUP($R41,名簿女子!$A$2:$K$101,10))","v":""},{"$f":"IF($S41=\"\",\"\",VLOOKUP($S41,名簿女子!$A$2:$K$101,9))","v":""},{"$f":"IF($S41=\"\",\"\",VLOOKUP($S41,名簿女子!$A$2:$K$101,10))","v":""},null,null,null,null,null,null,null,null,{"$f":"名簿女子!A41","v":40},{"$f":"名簿女子!C41","v":0},{"$f":"名簿女子!I41","v":0}]
[{"$f":"IF($Q42=\"\",\"\",VLOOKUP($Q42,名簿女子!$A$2:$K$101,2))","v":""},{"$f":"IF($Q42=\"\",\"\",VLOOKUP($Q42,名簿女子!$A$2:$K$101,3))","v":""},{"$f":"IF($Q42=\"\",\"\",VLOOKUP($Q42,名簿女子!$A$2:$K$101,6))","v":""},{"$f":"IF($Q42=\"\",\"\",VLOOKUP($Q42,名簿女子!$A$2:$K$101,5))","v":""},{"$f":"IF($Q42=\"\",\"\",VLOOKUP($Q42,名簿女子!$A$2:$K$101,8))","v":""},{"$f":"IF($Q42=\"\",\"\",VLOOKUP($Q42,名簿女子!$A$2:$K$101,9))","v":""},{"$f":"IF($Q42=\"\",\"\",VLOOKUP($Q42,名簿女子!$A$2:$K$101,10))","v":""},{"$f":"IF($R42=\"\",\"\",VLOOKUP($R42,名簿女子!$A$2:$K$101,9))","v":""},{"$f":"IF($R42=\"\",\"\",VLOOKUP($R42,名簿女子!$A$2:$K$101,10))","v":""},{"$f":"IF($S42=\"\",\"\",VLOOKUP($S42,名簿女子!$A$2:$K$101,9))","v":""},{"$f":"IF($S42=\"\",\"\",VLOOKUP($S42,名簿女子!$A$2:$K$101,10))","v":""},null,null,null,null,null,null,null,null,{"$f":"名簿女子!A42","v":41},{"$f":"名簿女子!C42","v":0},{"$f":"名簿女子!I42","v":0}]
[{"$f":"IF($Q43=\"\",\"\",VLOOKUP($Q43,名簿女子!$A$2:$K$101,2))","v":""},{"$f":"IF($Q43=\"\",\"\",VLOOKUP($Q43,名簿女子!$A$2:$K$101,3))","v":""},{"$f":"IF($Q43=\"\",\"\",VLOOKUP($Q43,名簿女子!$A$2:$K$101,6))","v":""},{"$f":"IF($Q43=\"\",\"\",VLOOKUP($Q43,名簿女子!$A$2:$K$101,5))","v":""},{"$f":"IF($Q43=\"\",\"\",VLOOKUP($Q43,名簿女子!$A$2:$K$101,8))","v":""},{"$f":"IF($Q43=\"\",\"\",VLOOKUP($Q43,名簿女子!$A$2:$K$101,9))","v":""},{"$f":"IF($Q43=\"\",\"\",VLOOKUP($Q43,名簿女子!$A$2:$K$101,10))","v":""},{"$f":"IF($R43=\"\",\"\",VLOOKUP($R43,名簿女子!$A$2:$K$101,9))","v":""},{"$f":"IF($R43=\"\",\"\",VLOOKUP($R43,名簿女子!$A$2:$K$101,10))","v":""},{"$f":"IF($S43=\"\",\"\",VLOOKUP($S43,名簿女子!$A$2:$K$101,9))","v":""},{"$f":"IF($S43=\"\",\"\",VLOOKUP($S43,名簿女子!$A$2:$K$101,10))","v":""},null,null,null,null,null,null,null,null,{"$f":"名簿女子!A43","v":42},{"$f":"名簿女子!C43","v":0},{"$f":"名簿女子!I43","v":0}]
[{"$f":"IF($Q44=\"\",\"\",VLOOKUP($Q44,名簿女子!$A$2:$K$101,2))","v":""},{"$f":"IF($Q44=\"\",\"\",VLOOKUP($Q44,名簿女子!$A$2:$K$101,3))","v":""},{"$f":"IF($Q44=\"\",\"\",VLOOKUP($Q44,名簿女子!$A$2:$K$101,6))","v":""},{"$f":"IF($Q44=\"\",\"\",VLOOKUP($Q44,名簿女子!$A$2:$K$101,5))","v":""},{"$f":"IF($Q44=\"\",\"\",VLOOKUP($Q44,名簿女子!$A$2:$K$101,8))","v":""},{"$f":"IF($Q44=\"\",\"\",VLOOKUP($Q44,名簿女子!$A$2:$K$101,9))","v":""},{"$f":"IF($Q44=\"\",\"\",VLOOKUP($Q44,名簿女子!$A$2:$K$101,10))","v":""},{"$f":"IF($R44=\"\",\"\",VLOOKUP($R44,名簿女子!$A$2:$K$101,9))","v":""},{"$f":"IF($R44=\"\",\"\",VLOOKUP($R44,名簿女子!$A$2:$K$101,10))","v":""},{"$f":"IF($S44=\"\",\"\",VLOOKUP($S44,名簿女子!$A$2:$K$101,9))","v":""},{"$f":"IF($S44=\"\",\"\",VLOOKUP($S44,名簿女子!$A$2:$K$101,10))","v":""},null,null,null,null,null,null,null,null,{"$f":"名簿女子!A44","v":43},{"$f":"名簿女子!C44","v":0},{"$f":"名簿女子!I44","v":0}]
[{"$f":"IF($Q45=\"\",\"\",VLOOKUP($Q45,名簿女子!$A$2:$K$101,2))","v":""},{"$f":"IF($Q45=\"\",\"\",VLOOKUP($Q45,名簿女子!$A$2:$K$101,3))","v":""},{"$f":"IF($Q45=\"\",\"\",VLOOKUP($Q45,名簿女子!$A$2:$K$101,6))","v":""},{"$f":"IF($Q45=\"\",\"\",VLOOKUP($Q45,名簿女子!$A$2:$K$101,5))","v":""},{"$f":"IF($Q45=\"\",\"\",VLOOKUP($Q45,名簿女子!$A$2:$K$101,8))","v":""},{"$f":"IF($Q45=\"\",\"\",VLOOKUP($Q45,名簿女子!$A$2:$K$101,9))","v":""},{"$f":"IF($Q45=\"\",\"\",VLOOKUP($Q45,名簿女子!$A$2:$K$101,10))","v":""},{"$f":"IF($R45=\"\",\"\",VLOOKUP($R45,名簿女子!$A$2:$K$101,9))","v":""},{"$f":"IF($R45=\"\",\"\",VLOOKUP($R45,名簿女子!$A$2:$K$101,10))","v":""},{"$f":"IF($S45=\"\",\"\",VLOOKUP($S45,名簿女子!$A$2:$K$101,9))","v":""},{"$f":"IF($S45=\"\",\"\",VLOOKUP($S45,名簿女子!$A$2:$K$101,10))","v":""},null,null,null,null,null,null,null,null,{"$f":"名簿女子!A45","v":44},{"$f":"名簿女子!C45","v":0},{"$f":"名簿女子!I45","v":0}]
[{"$f":"IF($Q46=\"\",\"\",VLOOKUP($Q46,名簿女子!$A$2:$K$101,2))","v":""},{"$f":"IF($Q46=\"\",\"\",VLOOKUP($Q46,名簿女子!$A$2:$K$101,3))","v":""},{"$f":"IF($Q46=\"\",\"\",VLOOKUP($Q46,名簿女子!$A$2:$K$101,6))","v":""},{"$f":"IF($Q46=\"\",\"\",VLOOKUP($Q46,名簿女子!$A$2:$K$101,5))","v":""},{"$f":"IF($Q46=\"\",\"\",VLOOKUP($Q46,名簿女子!$A$2:$K$101,8))","v":""},{"$f":"IF($Q46=\"\",\"\",VLOOKUP($Q46,名簿女子!$A$2:$K$101,9))","v":""},{"$f":"IF($Q46=\"\",\"\",VLOOKUP($Q46,名簿女子!$A$2:$K$101,10))","v":""},{"$f":"IF($R46=\"\",\"\",VLOOKUP($R46,名簿女子!$A$2:$K$101,9))","v":""},{"$f":"IF($R46=\"\",\"\",VLOOKUP($R46,名簿女子!$A$2:$K$101,10))","v":""},{"$f":"IF($S46=\"\",\"\",VLOOKUP($S46,名簿女子!$A$2:$K$101,9))","v":""},{"$f":"IF($S46=\"\",\"\",VLOOKUP($S46,名簿女子!$A$2:$K$101,10))","v":""},null,null,null,null,null,null,null,null,{"$f":"名簿女子!A46","v":45},{"$f":"名簿女子!C46","v":0},{"$f":"名簿女子!I46","v":0}]
[{"$f":"IF($Q47=\"\",\"\",VLOOKUP($Q47,名簿女子!$A$2:$K$101,2))","v":""},{"$f":"IF($Q47=\"\",\"\",VLOOKUP($Q47,名簿女子!$A$2:$K$101,3))","v":""},{"$f":"IF($Q47=\"\",\"\",VLOOKUP($Q47,名簿女子!$A$2:$K$101,6))","v":""},{"$f":"IF($Q47=\"\",\"\",VLOOKUP($Q47,名簿女子!$A$2:$K$101,5))","v":""},{"$f":"IF($Q47=\"\",\"\",VLOOKUP($Q47,名簿女子!$A$2:$K$101,8))","v":""},{"$f":"IF($Q47=\"\",\"\",VLOOKUP($Q47,名簿女子!$A$2:$K$101,9))","v":""},{"$f":"IF($Q47=\"\",\"\",VLOOKUP($Q47,名簿女子!$A$2:$K$101,10))","v":""},{"$f":"IF($R47=\"\",\"\",VLOOKUP($R47,名簿女子!$A$2:$K$101,9))","v":""},{"$f":"IF($R47=\"\",\"\",VLOOKUP($R47,名簿女子!$A$2:$K$101,10))","v":""},{"$f":"IF($S47=\"\",\"\",VLOOKUP($S47,名簿女子!$A$2:$K$101,9))","v":""},{"$f":"IF($S47=\"\",\"\",VLOOKUP($S47,名簿女子!$A$2:$K$101,10))","v":""},null,null,null,null,null,null,null,null,{"$f":"名簿女子!A47","v":46},{"$f":"名簿女子!C47","v":0},{"$f":"名簿女子!I47","v":0}]
[{"$f":"IF($Q48=\"\",\"\",VLOOKUP($Q48,名簿女子!$A$2:$K$101,2))","v":""},{"$f":"IF($Q48=\"\",\"\",VLOOKUP($Q48,名簿女子!$A$2:$K$101,3))","v":""},{"$f":"IF($Q48=\"\",\"\",VLOOKUP($Q48,名簿女子!$A$2:$K$101,6))","v":""},{"$f":"IF($Q48=\"\",\"\",VLOOKUP($Q48,名簿女子!$A$2:$K$101,5))","v":""},{"$f":"IF($Q48=\"\",\"\",VLOOKUP($Q48,名簿女子!$A$2:$K$101,8))","v":""},{"$f":"IF($Q48=\"\",\"\",VLOOKUP($Q48,名簿女子!$A$2:$K$101,9))","v":""},{"$f":"IF($Q48=\"\",\"\",VLOOKUP($Q48,名簿女子!$A$2:$K$101,10))","v":""},{"$f":"IF($R48=\"\",\"\",VLOOKUP($R48,名簿女子!$A$2:$K$101,9))","v":""},{"$f":"IF($R48=\"\",\"\",VLOOKUP($R48,名簿女子!$A$2:$K$101,10))","v":""},{"$f":"IF($S48=\"\",\"\",VLOOKUP($S48,名簿女子!$A$2:$K$101,9))","v":""},{"$f":"IF($S48=\"\",\"\",VLOOKUP($S48,名簿女子!$A$2:$K$101,10))","v":""},null,null,null,null,null,null,null,null,{"$f":"名簿女子!A48","v":47},{"$f":"名簿女子!C48","v":0},{"$f":"名簿女子!I48","v":0}]
[{"$f":"IF($Q49=\"\",\"\",VLOOKUP($Q49,名簿女子!$A$2:$K$101,2))","v":""},{"$f":"IF($Q49=\"\",\"\",VLOOKUP($Q49,名簿女子!$A$2:$K$101,3))","v":""},{"$f":"IF($Q49=\"\",\"\",VLOOKUP($Q49,名簿女子!$A$2:$K$101,6))","v":""},{"$f":"IF($Q49=\"\",\"\",VLOOKUP($Q49,名簿女子!$A$2:$K$101,5))","v":""},{"$f":"IF($Q49=\"\",\"\",VLOOKUP($Q49,名簿女子!$A$2:$K$101,8))","v":""},{"$f":"IF($Q49=\"\",\"\",VLOOKUP($Q49,名簿女子!$A$2:$K$101,9))","v":""},{"$f":"IF($Q49=\"\",\"\",VLOOKUP($Q49,名簿女子!$A$2:$K$101,10))","v":""},{"$f":"IF($R49=\"\",\"\",VLOOKUP($R49,名簿女子!$A$2:$K$101,9))","v":""},{"$f":"IF($R49=\"\",\"\",VLOOKUP($R49,名簿女子!$A$2:$K$101,10))","v":""},{"$f":"IF($S49=\"\",\"\",VLOOKUP($S49,名簿女子!$A$2:$K$101,9))","v":""},{"$f":"IF($S49=\"\",\"\",VLOOKUP($S49,名簿女子!$A$2:$K$101,10))","v":""},null,null,null,null,null,null,null,null,{"$f":"名簿女子!A49","v":48},{"$f":"名簿女子!C49","v":0},{"$f":"名簿女子!I49","v":0}]
[{"$f":"IF($Q50=\"\",\"\",VLOOKUP($Q50,名簿女子!$A$2:$K$101,2))","v":""},{"$f":"IF($Q50=\"\",\"\",VLOOKUP($Q50,名簿女子!$A$2:$K$101,3))","v":""},{"$f":"IF($Q50=\"\",\"\",VLOOKUP($Q50,名簿女子!$A$2:$K$101,6))","v":""},{"$f":"IF($Q50=\"\",\"\",VLOOKUP($Q50,名簿女子!$A$2:$K$101,5))","v":""},{"$f":"IF($Q50=\"\",\"\",VLOOKUP($Q50,名簿女子!$A$2:$K$101,8))","v":""},{"$f":"IF($Q50=\"\",\"\",VLOOKUP($Q50,名簿女子!$A$2:$K$101,9))","v":""},{"$f":"IF($Q50=\"\",\"\",VLOOKUP($Q50,名簿女子!$A$2:$K$101,10))","v":""},{"$f":"IF($R50=\"\",\"\",VLOOKUP($R50,名簿女子!$A$2:$K$101,9))","v":""},{"$f":"IF($R50=\"\",\"\",VLOOKUP($R50,名簿女子!$A$2:$K$101,10))","v":""},{"$f":"IF($S50=\"\",\"\",VLOOKUP($S50,名簿女子!$A$2:$K$101,9))","v":""},{"$f":"IF($S50=\"\",\"\",VLOOKUP($S50,名簿女子!$A$2:$K$101,10))","v":""},null,null,null,null,null,null,null,null,{"$f":"名簿女子!A50","v":49},{"$f":"名簿女子!C50","v":0},{"$f":"名簿女子!I50","v":0}]
[{"$f":"IF($Q51=\"\",\"\",VLOOKUP($Q51,名簿女子!$A$2:$K$101,2))","v":""},{"$f":"IF($Q51=\"\",\"\",VLOOKUP($Q51,名簿女子!$A$2:$K$101,3))","v":""},{"$f":"IF($Q51=\"\",\"\",VLOOKUP($Q51,名簿女子!$A$2:$K$101,6))","v":""},{"$f":"IF($Q51=\"\",\"\",VLOOKUP($Q51,名簿女子!$A$2:$K$101,5))","v":""},{"$f":"IF($Q51=\"\",\"\",VLOOKUP($Q51,名簿女子!$A$2:$K$101,8))","v":""},{"$f":"IF($Q51=\"\",\"\",VLOOKUP($Q51,名簿女子!$A$2:$K$101,9))","v":""},{"$f":"IF($Q51=\"\",\"\",VLOOKUP($Q51,名簿女子!$A$2:$K$101,10))","v":""},{"$f":"IF($R51=\"\",\"\",VLOOKUP($R51,名簿女子!$A$2:$K$101,9))","v":""},{"$f":"IF($R51=\"\",\"\",VLOOKUP($R51,名簿女子!$A$2:$K$101,10))","v":""},{"$f":"IF($S51=\"\",\"\",VLOOKUP($S51,名簿女子!$A$2:$K$101,9))","v":""},{"$f":"IF($S51=\"\",\"\",VLOOKUP($S51,名簿女子!$A$2:$K$101,10))","v":""},null,null,null,null,null,null,null,null,{"$f":"名簿女子!A51","v":50},{"$f":"名簿女子!C51","v":0},{"$f":"名簿女子!I51","v":0}]
[null,null,null,null,null,null,null,null,null,null,null,null,null,null,null,null,null,null,null,{"$f":"名簿女子!A52","v":51},{"$f":"名簿女子!C52","v":0},{"$f":"名簿女子!I52","v":0}]
[null,null,null,null,null,null,null,null,null,null,null,null,null,null,null,null,null,null,null,{"$f":"名簿女子!A53","v":52},{"$f":"名簿女子!C53","v":0},{"$f":"名簿女子!I53","v":0}]
[null,null,null,null,null,null,null,null,null,null,null,null,null,null,null,null,null,null,null,{"$f":"名簿女子!A54","v":53},{"$f":"名簿女子!C54","v":0},{"$f":"名簿女子!I54","v":0}]
[null,null,null,null,null,null,null,null,null,null,null,null,null,null,null,null,null,null,null,{"$f":"名簿女子!A55","v":54},{"$f":"名簿女子!C55","v":0},{"$f":"名簿女子!I55","v":0}]
[null,null,null,null,null,null,null,null,null,null,null,null,null,null,null,null,null,null,null,{"$f":"名簿女子!A56","v":55},{"$f":"名簿女子!C56","v":0},{"$f":"名簿女子!I56","v":0}]
[null,null,null,null,null,null,null,null,null,null,null,null,null,null,null,null,null,null,null,{"$f":"名簿女子!A57","v":56},{"$f":"名簿女子!C57","v":0},{"$f":"名簿女子!I57","v":0}]
[null,null,null,null,null,null,null,null,null,null,null,null,null,null,null,null,null,null,null,{"$f":"名簿女子!A58","v":57},{"$f":"名簿女子!C58","v":0},{"$f":"名簿女子!I58","v":0}]
[null,null,null,null,null,null,null,null,null,null,null,null,null,null,null,null,null,null,null,{"$f":"名簿女子!A59","v":58},{"$f":"名簿女子!C59","v":0},{"$f":"名簿女子!I59","v":0}]
[null,null,null,null,null,null,null,null,null,null,null,null,null,null,null,null,null,null,null,{"$f":"名簿女子!A60","v":59},{"$f":"名簿女子!C60","v":0},{"$f":"名簿女子!I60","v":0}]
[null,null,null,null,null,null,null,null,null,null,null,null,null,null,null,null,null,null,null,{"$f":"名簿女子!A61","v":60},{"$f":"名簿女子!C61","v":0},{"$f":"名簿女子!I61","v":0}]
[null,null,null,null,null,null,null,null,null,null,null,null,null,null,null,null,null,null,null,{"$f":"名簿女子!A62","v":61},{"$f":"名簿女子!C62","v":0},{"$f":"名簿女子!I62","v":0}]
[null,null,null,null,null,null,null,null,null,null,null,null,null,null,null,null,null,null,null,{"$f":"名簿女子!A63","v":62},{"$f":"名簿女子!C63","v":0},{"$f":"名簿女子!I63","v":0}]
[null,null,null,null,null,null,null,null,null,null,null,null,null,null,null,null,null,null,null,{"$f":"名簿女子!A64","v":63},{"$f":"名簿女子!C64","v":0},{"$f":"名簿女子!I64","v":0}]
[null,null,null,null,null,null,null,null,null,null,null,null,null,null,null,null,null,null,null,{"$f":"名簿女子!A65","v":64},{"$f":"名簿女子!C65","v":0},{"$f":"名簿女子!I65","v":0}]
[null,null,null,null,null,null,null,null,null,null,null,null,null,null,null,null,null,null,null,{"$f":"名簿女子!A66","v":65},{"$f":"名簿女子!C66","v":0},{"$f":"名簿女子!I66","v":0}]
[null,null,null,null,null,null,null,null,null,null,null,null,null,null,null,null,null,null,null,{"$f":"名簿女子!A67","v":66},{"$f":"名簿女子!C67","v":0},{"$f":"名簿女子!I67","v":0}]
[null,null,null,null,null,null,null,null,null,null,null,null,null,null,null,null,null,null,null,{"$f":"名簿女子!A68","v":67},{"$f":"名簿女子!C68","v":0},{"$f":"名簿女子!I68","v":0}]
[null,null,null,null,null,null,null,null,null,null,null,null,null,null,null,null,null,null,null,{"$f":"名簿女子!A69","v":68},{"$f":"名簿女子!C69","v":0},{"$f":"名簿女子!I69","v":0}]
[null,null,null,null,null,null,null,null,null,null,null,null,null,null,null,null,null,null,null,{"$f":"名簿女子!A70","v":69},{"$f":"名簿女子!C70","v":0},{"$f":"名簿女子!I70","v":0}]
[null,null,null,null,null,null,null,null,null,null,null,null,null,null,null,null,null,null,null,{"$f":"名簿女子!A71","v":70},{"$f":"名簿女子!C71","v":0},{"$f":"名簿女子!I71","v":0}]
[null,null,null,null,null,null,null,null,null,null,null,null,null,null,null,null,null,null,null,{"$f":"名簿女子!A72","v":71},{"$f":"名簿女子!C72","v":0},{"$f":"名簿女子!I72","v":0}]
[null,null,null,null,null,null,null,null,null,null,null,null,null,null,null,null,null,null,null,{"$f":"名簿女子!A73","v":72},{"$f":"名簿女子!C73","v":0},{"$f":"名簿女子!I73","v":0}]
[null,null,null,null,null,null,null,null,null,null,null,null,null,null,null,null,null,null,null,{"$f":"名簿女子!A74","v":73},{"$f":"名簿女子!C74","v":0},{"$f":"名簿女子!I74","v":0}]
[null,null,null,null,null,null,null,null,null,null,null,null,null,null,null,null,null,null,null,{"$f":"名簿女子!A75","v":74},{"$f":"名簿女子!C75","v":0},{"$f":"名簿女子!I75","v":0}]
[null,null,null,null,null,null,null,null,null,null,null,null,null,null,null,null,null,null,null,{"$f":"名簿女子!A76","v":75},{"$f":"名簿女子!C76","v":0},{"$f":"名簿女子!I76","v":0}]
[null,null,null,null,null,null,null,null,null,null,null,null,null,null,null,null,null,null,null,{"$f":"名簿女子!A77","v":76},{"$f":"名簿女子!C77","v":0},{"$f":"名簿女子!I77","v":0}]
[null,null,null,null,null,null,null,null,null,null,null,null,null,null,null,null,null,null,null,{"$f":"名簿女子!A78","v":77},{"$f":"名簿女子!C78","v":0},{"$f":"名簿女子!I78","v":0}]
[null,null,null,null,null,null,null,null,null,null,null,null,null,null,null,null,null,null,null,{"$f":"名簿女子!A79","v":78},{"$f":"名簿女子!C79","v":0},{"$f":"名簿女子!I79","v":0}]
[null,null,null,null,null,null,null,null,null,null,null,null,null,null,null,null,null,null,null,{"$f":"名簿女子!A80","v":79},{"$f":"名簿女子!C80","v":0},{"$f":"名簿女子!I80","v":0}]
[null,null,null,null,null,null,null,null,null,null,null,null,null,null,null,null,null,null,null,{"$f":"名簿女子!A81","v":80},{"$f":"名簿女子!C81","v":0},{"$f":"名簿女子!I81","v":0}]
[null,null,null,null,null,null,null,null,null,null,null,null,null,null,null,null,null,null,null,{"$f":"名簿女子!A82","v":81},{"$f":"名簿女子!C82","v":0},{"$f":"名簿女子!I82","v":0}]
[null,null,null,null,null,null,null,null,null,null,null,null,null,null,null,null,null,null,null,{"$f":"名簿女子!A83","v":82},{"$f":"名簿女子!C83","v":0},{"$f":"名簿女子!I83","v":0}]
[null,null,null,null,null,null,null,null,null,null,null,null,null,null,null,null,null,null,null,{"$f":"名簿女子!A84","v":83},{"$f":"名簿女子!C84","v":0},{"$f":"名簿女子!I84","v":0}]
[null,null,null,null,null,null,null,null,null,null,null,null,null,null,null,null,null,null,null,{"$f":"名簿女子!A85","v":84},{"$f":"名簿女子!C85","v":0},{"$f":"名簿女子!I85","v":0}]
[null,null,null,null,null,null,null,null,null,null,null,null,null,null,null,null,null,null,null,{"$f":"名簿女子!A86","v":85},{"$f":"名簿女子!C86","v":0},{"$f":"名簿女子!I86","v":0}]
[null,null,null,null,null,null,null,null,null,null,null,null,null,null,null,null,null,null,null,{"$f":"名簿女子!A87","v":86},{"$f":"名簿女子!C87","v":0},{"$f":"名簿女子!I87","v":0}]
[null,null,null,null,null,null,null,null,null,null,null,null,null,null,null,null,null,null,null,{"$f":"名簿女子!A88","v":87},{"$f":"名簿女子!C88","v":0},{"$f":"名簿女子!I88","v":0}]
[null,null,null,null,null,null,null,null,null,null,null,null,null,null,null,null,null,null,null,{"$f":"名簿女子!A89","v":88},{"$f":"名簿女子!C89","v":0},{"$f":"名簿女子!I89","v":0}]
[null,null,null,null,null,null,null,null,null,null,null,null,null,null,null,null,null,null,null,{"$f":"名簿女子!A90","v":89},{"$f":"名簿女子!C90","v":0},{"$f":"名簿女子!I90","v":0}]
[null,null,null,null,null,null,null,null,null,null,null,null,null,null,null,null,null,null,null,{"$f":"名簿女子!A91","v":90},{"$f":"名簿女子!C91","v":0},{"$f":"名簿女子!I91","v":0}]
[null,null,null,null,null,null,null,null,null,null,null,null,null,null,null,null,null,null,null,{"$f":"名簿女子!A92","v":91},{"$f":"名簿女子!C92","v":0},{"$f":"名簿女子!I92","v":0}]
[null,null,null,null,null,null,null,null,null,null,null,null,null,null,null,null,null,null,null,{"$f":"名簿女子!A93","v":92},{"$f":"名簿女子!C93","v":0},{"$f":"名簿女子!I93","v":0}]
[null,null,null,null,null,null,null,null,null,null,null,null,null,null,null,null,null,null,null,{"$f":"名簿女子!A94","v":93},{"$f":"名簿女子!C94","v":0},{"$f":"名簿女子!I94","v":0}]
[null,null,null,null,null,null,null,null,null,null,null,null,null,null,null,null,null,null,null,{"$f":"名簿女子!A95","v":94},{"$f":"名簿女子!C95","v":0},{"$f":"名簿女子!I95","v":0}]
[null,null,null,null,null,null,null,null,null,null,null,null,null,null,null,null,null,null,null,{"$f":"名簿女子!A96","v":95},{"$f":"名簿女子!C96","v":0},{"$f":"名簿女子!I96","v":0}]
[null,null,null,null,null,null,null,null,null,null,null,null,null,null,null,null,null,null,null,{"$f":"名簿女子!A97","v":96},{"$f":"名簿女子!C97","v":0},{"$f":"名簿女子!I97","v":0}]
[null,null,null,null,null,null,null,null,null,null,null,null,null,null,null,null,null,null,null,{"$f":"名簿女子!A98","v":97},{"$f":"名簿女子!C98","v":0},{"$f":"名簿女子!I98","v":0}]
[null,null,null,null,null,null,null,null,null,null,null,null,null,null,null,null,null,null,null,{"$f":"名簿女子!A99","v":98},{"$f":"名簿女子!C99","v":0},{"$f":"名簿女子!I99","v":0}]
[null,null,null,null,null,null,null,null,null,null,null,null,null,null,null,null,null,null,null,{"$f":"名簿女子!A100","v":99},{"$f":"名簿女子!C100","v":0},{"$f":"名簿女子!I100","v":0}]
[null,null,null,null,null,null,null,null,null,null,null,null,null,null,null,null,null,null,null,{"$f":"名簿女子!A101","v":100},{"$f":"名簿女子!C101","v":0},{"$f":"名簿女子!I101","v":0}]

{"sheet":"布勢システムコピー用男子","index":12,"n_rows":101,"n_cols":37,"rows_kept":101,"cut":false,"hidden":false,"merged":[]}
["ナンバー","氏　　　名","フリガナ","競技者名略称","性別","学年","生年","月日","個人所属地名","陸連コード","種目１","記録","参加競技-オープン参加FLG1","参加競技-記録FLG1","種目２","記録","参加競技-オープン参加FLG2","参加競技-記録FLG2","種目３","記録","参加競技-オープン参加FLG3","参加競技-記録FLG3","全学年4×100m","記録","参加競技-オープン参加FLG4","参加競技-記録FLG4","低学年4×100m","記録","参加競技-オープン参加FLG5","参加競技-記録FLG5",null,"種目１","種目２","種目３","番号","名前","種目"]
[{"$f":"IF($AF2=\"\",\"\",VLOOKUP($AF2,名簿男子!$A$2:$K$101,2))","v":0},{"$f":"IF($AF2=\"\",\"\",VLOOKUP($AF2,名簿男子!$A$2:$K$101,3))","v":0},{"$f":"IF($AF2=\"\",\"\",VLOOKUP($AF2,名簿男子!$A$2:$K$101,5))","v":0},null,{"$f":"IF($AF2=\"\",\"\",VLOOKUP($AF2,名簿男子!$A$2:$K$101,8))","v":"男"},{"$f":"IF($AF2=\"\",\"\",VLOOKUP($AF2,名簿男子!$A$2:$K$101,6))","v":0},null,null,null,null,{"$f":"IF($AF2=\"\",\"\",VLOOKUP($AF2,名簿男子!$A$2:$K$101,9))","v":0},{"$f":"IF($AF2=\"\",\"\",VLOOKUP($AF2,名簿男子!$A$2:$K$101,10))","v":0},null,null,{"$f":"IF($AG2=\"\",\"\",VLOOKUP($AG2,名簿男子!$A$2:$K$101,9))","v":""},{"$f":"IF($AG2=\"\",\"\",VLOOKUP($AG2,名簿男子!$A$2:$K$101,10))","v":""},null,null,{"$f":"IF($AH2=\"\",\"\",VLOOKUP($AH2,名簿男子!$A$2:$K$101,9))","v":""},{"$f":"IF($AH2=\"\",\"\",VLOOKUP($AH2,名簿男子!$A$2:$K$101,10))","v":""},null,null,null,null,null,null,null,null,null,null,null,1,null,null,{"$f":"名簿男子!A2","v":1},{"$f":"名簿男子!C2","v":0},{"$f":"名簿男子!I2","v":0}]
[{"$f":"IF($AF3=\"\",\"\",VLOOKUP($AF3,名簿男子!$A$2:$K$101,2))","v":""},{"$f":"IF($AF3=\"\",\"\",VLOOKUP($AF3,名簿男子!$A$2:$K$101,3))","v":""},{"$f":"IF($AF3=\"\",\"\",VLOOKUP($AF3,名簿男子!$A$2:$K$101,5))","v":""},null,{"$f":"IF($AF3=\"\",\"\",VLOOKUP($AF3,名簿男子!$A$2:$K$101,8))","v":""},{"$f":"IF($AF3=\"\",\"\",VLOOKUP($AF3,名簿男子!$A$2:$K$101,6))","v":""},null,null,null,null,{"$f":"IF($AF3=\"\",\"\",VLOOKUP($AF3,名簿男子!$A$2:$K$101,9))","v":""},{"$f":"IF($AF3=\"\",\"\",VLOOKUP($AF3,名簿男子!$A$2:$K$101,10))","v":""},null,null,{"$f":"IF($AG3=\"\",\"\",VLOOKUP($AG3,名簿男子!$A$2:$K$101,9))","v":""},{"$f":"IF($AG3=\"\",\"\",VLOOKUP($AG3,名簿男子!$A$2:$K$101,10))","v":""},null,null,{"$f":"IF($AH3=\"\",\"\",VLOOKUP($AH3,名簿男子!$A$2:$K$101,9))","v":""},{"$f":"IF($AH3=\"\",\"\",VLOOKUP($AH3,名簿男子!$A$2:$K$101,10))","v":""},null,null,null,null,null,null,null,null,null,null,null,null,null,null,{"$f":"名簿男子!A3","v":2},{"$f":"名簿男子!C3","v":0},{"$f":"名簿男子!I3","v":0}]
[{"$f":"IF($AF4=\"\",\"\",VLOOKUP($AF4,名簿男子!$A$2:$K$101,2))","v":""},{"$f":"IF($AF4=\"\",\"\",VLOOKUP($AF4,名簿男子!$A$2:$K$101,3))","v":""},{"$f":"IF($AF4=\"\",\"\",VLOOKUP($AF4,名簿男子!$A$2:$K$101,5))","v":""},null,{"$f":"IF($AF4=\"\",\"\",VLOOKUP($AF4,名簿男子!$A$2:$K$101,8))","v":""},{"$f":"IF($AF4=\"\",\"\",VLOOKUP($AF4,名簿男子!$A$2:$K$101,6))","v":""},null,null,null,null,{"$f":"IF($AF4=\"\",\"\",VLOOKUP($AF4,名簿男子!$A$2:$K$101,9))","v":""},{"$f":"IF($AF4=\"\",\"\",VLOOKUP($AF4,名簿男子!$A$2:$K$101,10))","v":""},null,null,{"$f":"IF($AG4=\"\",\"\",VLOOKUP($AG4,名簿男子!$A$2:$K$101,9))","v":""},{"$f":"IF($AG4=\"\",\"\",VLOOKUP($AG4,名簿男子!$A$2:$K$101,10))","v":""},null,null,{"$f":"IF($AH4=\"\",\"\",VLOOKUP($AH4,名簿男子!$A$2:$K$101,9))","v":""},{"$f":"IF($AH4=\"\",\"\",VLOOKUP($AH4,名簿男子!$A$2:$K$101,10))","v":""},null,null,null,null,null,null,null,null,null,null,null,null,null,null,{"$f":"名簿男子!A4","v":3},{"$f":"名簿男子!C4","v":0},{"$f":"名簿男子!I4","v":0}]
[{"$f":"IF($AF5=\"\",\"\",VLOOKUP($AF5,名簿男子!$A$2:$K$101,2))","v":""},{"$f":"IF($AF5=\"\",\"\",VLOOKUP($AF5,名簿男子!$A$2:$K$101,3))","v":""},{"$f":"IF($AF5=\"\",\"\",VLOOKUP($AF5,名簿男子!$A$2:$K$101,5))","v":""},null,{"$f":"IF($AF5=\"\",\"\",VLOOKUP($AF5,名簿男子!$A$2:$K$101,8))","v":""},{"$f":"IF($AF5=\"\",\"\",VLOOKUP($AF5,名簿男子!$A$2:$K$101,6))","v":""},null,null,null,null,{"$f":"IF($AF5=\"\",\"\",VLOOKUP($AF5,名簿男子!$A$2:$K$101,9))","v":""},{"$f":"IF($AF5=\"\",\"\",VLOOKUP($AF5,名簿男子!$A$2:$K$101,10))","v":""},null,null,{"$f":"IF($AG5=\"\",\"\",VLOOKUP($AG5,名簿男子!$A$2:$K$101,9))","v":""},{"$f":"IF($AG5=\"\",\"\",VLOOKUP($AG5,名簿男子!$A$2:$K$101,10))","v":""},null,null,{"$f":"IF($AH5=\"\",\"\",VLOOKUP($AH5,名簿男子!$A$2:$K$101,9))","v":""},{"$f":"IF($AH5=\"\",\"\",VLOOKUP($AH5,名簿男子!$A$2:$K$101,10))","v":""},null,null,null,null,null,null,null,null,null,null,null,null,null,null,{"$f":"名簿男子!A5","v":4},{"$f":"名簿男子!C5","v":0},{"$f":"名簿男子!I5","v":0}]
[{"$f":"IF($AF6=\"\",\"\",VLOOKUP($AF6,名簿男子!$A$2:$K$101,2))","v":""},{"$f":"IF($AF6=\"\",\"\",VLOOKUP($AF6,名簿男子!$A$2:$K$101,3))","v":""},{"$f":"IF($AF6=\"\",\"\",VLOOKUP($AF6,名簿男子!$A$2:$K$101,5))","v":""},null,{"$f":"IF($AF6=\"\",\"\",VLOOKUP($AF6,名簿男子!$A$2:$K$101,8))","v":""},{"$f":"IF($AF6=\"\",\"\",VLOOKUP($AF6,名簿男子!$A$2:$K$101,6))","v":""},null,null,null,null,{"$f":"IF($AF6=\"\",\"\",VLOOKUP($AF6,名簿男子!$A$2:$K$101,9))","v":""},{"$f":"IF($AF6=\"\",\"\",VLOOKUP($AF6,名簿男子!$A$2:$K$101,10))","v":""},null,null,{"$f":"IF($AG6=\"\",\"\",VLOOKUP($AG6,名簿男子!$A$2:$K$101,9))","v":""},{"$f":"IF($AG6=\"\",\"\",VLOOKUP($AG6,名簿男子!$A$2:$K$101,10))","v":""},null,null,{"$f":"IF($AH6=\"\",\"\",VLOOKUP($AH6,名簿男子!$A$2:$K$101,9))","v":""},{"$f":"IF($AH6=\"\",\"\",VLOOKUP($AH6,名簿男子!$A$2:$K$101,10))","v":""},null,null,null,null,null,null,null,null,null,null,null,null,null,null,{"$f":"名簿男子!A6","v":5},{"$f":"名簿男子!C6","v":0},{"$f":"名簿男子!I6","v":0}]
[{"$f":"IF($AF7=\"\",\"\",VLOOKUP($AF7,名簿男子!$A$2:$K$101,2))","v":""},{"$f":"IF($AF7=\"\",\"\",VLOOKUP($AF7,名簿男子!$A$2:$K$101,3))","v":""},{"$f":"IF($AF7=\"\",\"\",VLOOKUP($AF7,名簿男子!$A$2:$K$101,5))","v":""},null,{"$f":"IF($AF7=\"\",\"\",VLOOKUP($AF7,名簿男子!$A$2:$K$101,8))","v":""},{"$f":"IF($AF7=\"\",\"\",VLOOKUP($AF7,名簿男子!$A$2:$K$101,6))","v":""},null,null,null,null,{"$f":"IF($AF7=\"\",\"\",VLOOKUP($AF7,名簿男子!$A$2:$K$101,9))","v":""},{"$f":"IF($AF7=\"\",\"\",VLOOKUP($AF7,名簿男子!$A$2:$K$101,10))","v":""},null,null,{"$f":"IF($AG7=\"\",\"\",VLOOKUP($AG7,名簿男子!$A$2:$K$101,9))","v":""},{"$f":"IF($AG7=\"\",\"\",VLOOKUP($AG7,名簿男子!$A$2:$K$101,10))","v":""},null,null,{"$f":"IF($AH7=\"\",\"\",VLOOKUP($AH7,名簿男子!$A$2:$K$101,9))","v":""},{"$f":"IF($AH7=\"\",\"\",VLOOKUP($AH7,名簿男子!$A$2:$K$101,10))","v":""},null,null,null,null,null,null,null,null,null,null,null,null,null,null,{"$f":"名簿男子!A7","v":6},{"$f":"名簿男子!C7","v":0},{"$f":"名簿男子!I7","v":0}]
[{"$f":"IF($AF8=\"\",\"\",VLOOKUP($AF8,名簿男子!$A$2:$K$101,2))","v":""},{"$f":"IF($AF8=\"\",\"\",VLOOKUP($AF8,名簿男子!$A$2:$K$101,3))","v":""},{"$f":"IF($AF8=\"\",\"\",VLOOKUP($AF8,名簿男子!$A$2:$K$101,5))","v":""},null,{"$f":"IF($AF8=\"\",\"\",VLOOKUP($AF8,名簿男子!$A$2:$K$101,8))","v":""},{"$f":"IF($AF8=\"\",\"\",VLOOKUP($AF8,名簿男子!$A$2:$K$101,6))","v":""},null,null,null,null,{"$f":"IF($AF8=\"\",\"\",VLOOKUP($AF8,名簿男子!$A$2:$K$101,9))","v":""},{"$f":"IF($AF8=\"\",\"\",VLOOKUP($AF8,名簿男子!$A$2:$K$101,10))","v":""},null,null,{"$f":"IF($AG8=\"\",\"\",VLOOKUP($AG8,名簿男子!$A$2:$K$101,9))","v":""},{"$f":"IF($AG8=\"\",\"\",VLOOKUP($AG8,名簿男子!$A$2:$K$101,10))","v":""},null,null,{"$f":"IF($AH8=\"\",\"\",VLOOKUP($AH8,名簿男子!$A$2:$K$101,9))","v":""},{"$f":"IF($AH8=\"\",\"\",VLOOKUP($AH8,名簿男子!$A$2:$K$101,10))","v":""},null,null,null,null,null,null,null,null,null,null,null,null,null,null,{"$f":"名簿男子!A8","v":7},{"$f":"名簿男子!C8","v":0},{"$f":"名簿男子!I8","v":0}]
[{"$f":"IF($AF9=\"\",\"\",VLOOKUP($AF9,名簿男子!$A$2:$K$101,2))","v":""},{"$f":"IF($AF9=\"\",\"\",VLOOKUP($AF9,名簿男子!$A$2:$K$101,3))","v":""},{"$f":"IF($AF9=\"\",\"\",VLOOKUP($AF9,名簿男子!$A$2:$K$101,5))","v":""},null,{"$f":"IF($AF9=\"\",\"\",VLOOKUP($AF9,名簿男子!$A$2:$K$101,8))","v":""},{"$f":"IF($AF9=\"\",\"\",VLOOKUP($AF9,名簿男子!$A$2:$K$101,6))","v":""},null,null,null,null,{"$f":"IF($AF9=\"\",\"\",VLOOKUP($AF9,名簿男子!$A$2:$K$101,9))","v":""},{"$f":"IF($AF9=\"\",\"\",VLOOKUP($AF9,名簿男子!$A$2:$K$101,10))","v":""},null,null,{"$f":"IF($AG9=\"\",\"\",VLOOKUP($AG9,名簿男子!$A$2:$K$101,9))","v":""},{"$f":"IF($AG9=\"\",\"\",VLOOKUP($AG9,名簿男子!$A$2:$K$101,10))","v":""},null,null,{"$f":"IF($AH9=\"\",\"\",VLOOKUP($AH9,名簿男子!$A$2:$K$101,9))","v":""},{"$f":"IF($AH9=\"\",\"\",VLOOKUP($AH9,名簿男子!$A$2:$K$101,10))","v":""},null,null,null,null,null,null,null,null,null,null,null,null,null,null,{"$f":"名簿男子!A9","v":8},{"$f":"名簿男子!C9","v":0},{"$f":"名簿男子!I9","v":0}]
[{"$f":"IF($AF10=\"\",\"\",VLOOKUP($AF10,名簿男子!$A$2:$K$101,2))","v":""},{"$f":"IF($AF10=\"\",\"\",VLOOKUP($AF10,名簿男子!$A$2:$K$101,3))","v":""},{"$f":"IF($AF10=\"\",\"\",VLOOKUP($AF10,名簿男子!$A$2:$K$101,5))","v":""},null,{"$f":"IF($AF10=\"\",\"\",VLOOKUP($AF10,名簿男子!$A$2:$K$101,8))","v":""},{"$f":"IF($AF10=\"\",\"\",VLOOKUP($AF10,名簿男子!$A$2:$K$101,6))","v":""},null,null,null,null,{"$f":"IF($AF10=\"\",\"\",VLOOKUP($AF10,名簿男子!$A$2:$K$101,9))","v":""},{"$f":"IF($AF10=\"\",\"\",VLOOKUP($AF10,名簿男子!$A$2:$K$101,10))","v":""},null,null,{"$f":"IF($AG10=\"\",\"\",VLOOKUP($AG10,名簿男子!$A$2:$K$101,9))","v":""},{"$f":"IF($AG10=\"\",\"\",VLOOKUP($AG10,名簿男子!$A$2:$K$101,10))","v":""},null,null,{"$f":"IF($AH10=\"\",\"\",VLOOKUP($AH10,名簿男子!$A$2:$K$101,9))","v":""},{"$f":"IF($AH10=\"\",\"\",VLOOKUP($AH10,名簿男子!$A$2:$K$101,10))","v":""},null,null,null,null,null,null,null,null,null,null,null,null,null,null,{"$f":"名簿男子!A10","v":9},{"$f":"名簿男子!C10","v":0},{"$f":"名簿男子!I10","v":0}]
[{"$f":"IF($AF11=\"\",\"\",VLOOKUP($AF11,名簿男子!$A$2:$K$101,2))","v":""},{"$f":"IF($AF11=\"\",\"\",VLOOKUP($AF11,名簿男子!$A$2:$K$101,3))","v":""},{"$f":"IF($AF11=\"\",\"\",VLOOKUP($AF11,名簿男子!$A$2:$K$101,5))","v":""},null,{"$f":"IF($AF11=\"\",\"\",VLOOKUP($AF11,名簿男子!$A$2:$K$101,8))","v":""},{"$f":"IF($AF11=\"\",\"\",VLOOKUP($AF11,名簿男子!$A$2:$K$101,6))","v":""},null,null,null,null,{"$f":"IF($AF11=\"\",\"\",VLOOKUP($AF11,名簿男子!$A$2:$K$101,9))","v":""},{"$f":"IF($AF11=\"\",\"\",VLOOKUP($AF11,名簿男子!$A$2:$K$101,10))","v":""},null,null,{"$f":"IF($AG11=\"\",\"\",VLOOKUP($AG11,名簿男子!$A$2:$K$101,9))","v":""},{"$f":"IF($AG11=\"\",\"\",VLOOKUP($AG11,名簿男子!$A$2:$K$101,10))","v":""},null,null,{"$f":"IF($AH11=\"\",\"\",VLOOKUP($AH11,名簿男子!$A$2:$K$101,9))","v":""},{"$f":"IF($AH11=\"\",\"\",VLOOKUP($AH11,名簿男子!$A$2:$K$101,10))","v":""},null,null,null,null,null,null,null,null,null,null,null,null,null,null,{"$f":"名簿男子!A11","v":10},{"$f":"名簿男子!C11","v":0},{"$f":"名簿男子!I11","v":0}]
[{"$f":"IF($AF12=\"\",\"\",VLOOKUP($AF12,名簿男子!$A$2:$K$101,2))","v":""},{"$f":"IF($AF12=\"\",\"\",VLOOKUP($AF12,名簿男子!$A$2:$K$101,3))","v":""},{"$f":"IF($AF12=\"\",\"\",VLOOKUP($AF12,名簿男子!$A$2:$K$101,5))","v":""},null,{"$f":"IF($AF12=\"\",\"\",VLOOKUP($AF12,名簿男子!$A$2:$K$101,8))","v":""},{"$f":"IF($AF12=\"\",\"\",VLOOKUP($AF12,名簿男子!$A$2:$K$101,6))","v":""},null,null,null,null,{"$f":"IF($AF12=\"\",\"\",VLOOKUP($AF12,名簿男子!$A$2:$K$101,9))","v":""},{"$f":"IF($AF12=\"\",\"\",VLOOKUP($AF12,名簿男子!$A$2:$K$101,10))","v":""},null,null,{"$f":"IF($AG12=\"\",\"\",VLOOKUP($AG12,名簿男子!$A$2:$K$101,9))","v":""},{"$f":"IF($AG12=\"\",\"\",VLOOKUP($AG12,名簿男子!$A$2:$K$101,10))","v":""},null,null,{"$f":"IF($AH12=\"\",\"\",VLOOKUP($AH12,名簿男子!$A$2:$K$101,9))","v":""},{"$f":"IF($AH12=\"\",\"\",VLOOKUP($AH12,名簿男子!$A$2:$K$101,10))","v":""},null,null,null,null,null,null,null,null,null,null,null,null,null,null,{"$f":"名簿男子!A12","v":11},{"$f":"名簿男子!C12","v":0},{"$f":"名簿男子!I12","v":0}]
[{"$f":"IF($AF13=\"\",\"\",VLOOKUP($AF13,名簿男子!$A$2:$K$101,2))","v":""},{"$f":"IF($AF13=\"\",\"\",VLOOKUP($AF13,名簿男子!$A$2:$K$101,3))","v":""},{"$f":"IF($AF13=\"\",\"\",VLOOKUP($AF13,名簿男子!$A$2:$K$101,5))","v":""},null,{"$f":"IF($AF13=\"\",\"\",VLOOKUP($AF13,名簿男子!$A$2:$K$101,8))","v":""},{"$f":"IF($AF13=\"\",\"\",VLOOKUP($AF13,名簿男子!$A$2:$K$101,6))","v":""},null,null,null,null,{"$f":"IF($AF13=\"\",\"\",VLOOKUP($AF13,名簿男子!$A$2:$K$101,9))","v":""},{"$f":"IF($AF13=\"\",\"\",VLOOKUP($AF13,名簿男子!$A$2:$K$101,10))","v":""},null,null,{"$f":"IF($AG13=\"\",\"\",VLOOKUP($AG13,名簿男子!$A$2:$K$101,9))","v":""},{"$f":"IF($AG13=\"\",\"\",VLOOKUP($AG13,名簿男子!$A$2:$K$101,10))","v":""},null,null,{"$f":"IF($AH13=\"\",\"\",VLOOKUP($AH13,名簿男子!$A$2:$K$101,9))","v":""},{"$f":"IF($AH13=\"\",\"\",VLOOKUP($AH13,名簿男子!$A$2:$K$101,10))","v":""},null,null,null,null,null,null,null,null,null,null,null,null,null,null,{"$f":"名簿男子!A13","v":12},{"$f":"名簿男子!C13","v":0},{"$f":"名簿男子!I13","v":0}]
[{"$f":"IF($AF14=\"\",\"\",VLOOKUP($AF14,名簿男子!$A$2:$K$101,2))","v":""},{"$f":"IF($AF14=\"\",\"\",VLOOKUP($AF14,名簿男子!$A$2:$K$101,3))","v":""},{"$f":"IF($AF14=\"\",\"\",VLOOKUP($AF14,名簿男子!$A$2:$K$101,5))","v":""},null,{"$f":"IF($AF14=\"\",\"\",VLOOKUP($AF14,名簿男子!$A$2:$K$101,8))","v":""},{"$f":"IF($AF14=\"\",\"\",VLOOKUP($AF14,名簿男子!$A$2:$K$101,6))","v":""},null,null,null,null,{"$f":"IF($AF14=\"\",\"\",VLOOKUP($AF14,名簿男子!$A$2:$K$101,9))","v":""},{"$f":"IF($AF14=\"\",\"\",VLOOKUP($AF14,名簿男子!$A$2:$K$101,10))","v":""},null,null,{"$f":"IF($AG14=\"\",\"\",VLOOKUP($AG14,名簿男子!$A$2:$K$101,9))","v":""},{"$f":"IF($AG14=\"\",\"\",VLOOKUP($AG14,名簿男子!$A$2:$K$101,10))","v":""},null,null,{"$f":"IF($AH14=\"\",\"\",VLOOKUP($AH14,名簿男子!$A$2:$K$101,9))","v":""},{"$f":"IF($AH14=\"\",\"\",VLOOKUP($AH14,名簿男子!$A$2:$K$101,10))","v":""},null,null,null,null,null,null,null,null,null,null,null,null,null,null,{"$f":"名簿男子!A14","v":13},{"$f":"名簿男子!C14","v":0},{"$f":"名簿男子!I14","v":0}]
[{"$f":"IF($AF15=\"\",\"\",VLOOKUP($AF15,名簿男子!$A$2:$K$101,2))","v":""},{"$f":"IF($AF15=\"\",\"\",VLOOKUP($AF15,名簿男子!$A$2:$K$101,3))","v":""},{"$f":"IF($AF15=\"\",\"\",VLOOKUP($AF15,名簿男子!$A$2:$K$101,5))","v":""},null,{"$f":"IF($AF15=\"\",\"\",VLOOKUP($AF15,名簿男子!$A$2:$K$101,8))","v":""},{"$f":"IF($AF15=\"\",\"\",VLOOKUP($AF15,名簿男子!$A$2:$K$101,6))","v":""},null,null,null,null,{"$f":"IF($AF15=\"\",\"\",VLOOKUP($AF15,名簿男子!$A$2:$K$101,9))","v":""},{"$f":"IF($AF15=\"\",\"\",VLOOKUP($AF15,名簿男子!$A$2:$K$101,10))","v":""},null,null,{"$f":"IF($AG15=\"\",\"\",VLOOKUP($AG15,名簿男子!$A$2:$K$101,9))","v":""},{"$f":"IF($AG15=\"\",\"\",VLOOKUP($AG15,名簿男子!$A$2:$K$101,10))","v":""},null,null,{"$f":"IF($AH15=\"\",\"\",VLOOKUP($AH15,名簿男子!$A$2:$K$101,9))","v":""},{"$f":"IF($AH15=\"\",\"\",VLOOKUP($AH15,名簿男子!$A$2:$K$101,10))","v":""},null,null,null,null,null,null,null,null,null,null,null,null,null,null,{"$f":"名簿男子!A15","v":14},{"$f":"名簿男子!C15","v":0},{"$f":"名簿男子!I15","v":0}]
[{"$f":"IF($AF16=\"\",\"\",VLOOKUP($AF16,名簿男子!$A$2:$K$101,2))","v":""},{"$f":"IF($AF16=\"\",\"\",VLOOKUP($AF16,名簿男子!$A$2:$K$101,3))","v":""},{"$f":"IF($AF16=\"\",\"\",VLOOKUP($AF16,名簿男子!$A$2:$K$101,5))","v":""},null,{"$f":"IF($AF16=\"\",\"\",VLOOKUP($AF16,名簿男子!$A$2:$K$101,8))","v":""},{"$f":"IF($AF16=\"\",\"\",VLOOKUP($AF16,名簿男子!$A$2:$K$101,6))","v":""},null,null,null,null,{"$f":"IF($AF16=\"\",\"\",VLOOKUP($AF16,名簿男子!$A$2:$K$101,9))","v":""},{"$f":"IF($AF16=\"\",\"\",VLOOKUP($AF16,名簿男子!$A$2:$K$101,10))","v":""},null,null,{"$f":"IF($AG16=\"\",\"\",VLOOKUP($AG16,名簿男子!$A$2:$K$101,9))","v":""},{"$f":"IF($AG16=\"\",\"\",VLOOKUP($AG16,名簿男子!$A$2:$K$101,10))","v":""},null,null,{"$f":"IF($AH16=\"\",\"\",VLOOKUP($AH16,名簿男子!$A$2:$K$101,9))","v":""},{"$f":"IF($AH16=\"\",\"\",VLOOKUP($AH16,名簿男子!$A$2:$K$101,10))","v":""},null,null,null,null,null,null,null,null,null,null,null,null,null,null,{"$f":"名簿男子!A16","v":15},{"$f":"名簿男子!C16","v":0},{"$f":"名簿男子!I16","v":0}]
[{"$f":"IF($AF17=\"\",\"\",VLOOKUP($AF17,名簿男子!$A$2:$K$101,2))","v":""},{"$f":"IF($AF17=\"\",\"\",VLOOKUP($AF17,名簿男子!$A$2:$K$101,3))","v":""},{"$f":"IF($AF17=\"\",\"\",VLOOKUP($AF17,名簿男子!$A$2:$K$101,5))","v":""},null,{"$f":"IF($AF17=\"\",\"\",VLOOKUP($AF17,名簿男子!$A$2:$K$101,8))","v":""},{"$f":"IF($AF17=\"\",\"\",VLOOKUP($AF17,名簿男子!$A$2:$K$101,6))","v":""},null,null,null,null,{"$f":"IF($AF17=\"\",\"\",VLOOKUP($AF17,名簿男子!$A$2:$K$101,9))","v":""},{"$f":"IF($AF17=\"\",\"\",VLOOKUP($AF17,名簿男子!$A$2:$K$101,10))","v":""},null,null,{"$f":"IF($AG17=\"\",\"\",VLOOKUP($AG17,名簿男子!$A$2:$K$101,9))","v":""},{"$f":"IF($AG17=\"\",\"\",VLOOKUP($AG17,名簿男子!$A$2:$K$101,10))","v":""},null,null,{"$f":"IF($AH17=\"\",\"\",VLOOKUP($AH17,名簿男子!$A$2:$K$101,9))","v":""},{"$f":"IF($AH17=\"\",\"\",VLOOKUP($AH17,名簿男子!$A$2:$K$101,10))","v":""},null,null,null,null,null,null,null,null,null,null,null,null,null,null,{"$f":"名簿男子!A17","v":16},{"$f":"名簿男子!C17","v":0},{"$f":"名簿男子!I17","v":0}]
[{"$f":"IF($AF18=\"\",\"\",VLOOKUP($AF18,名簿男子!$A$2:$K$101,2))","v":""},{"$f":"IF($AF18=\"\",\"\",VLOOKUP($AF18,名簿男子!$A$2:$K$101,3))","v":""},{"$f":"IF($AF18=\"\",\"\",VLOOKUP($AF18,名簿男子!$A$2:$K$101,5))","v":""},null,{"$f":"IF($AF18=\"\",\"\",VLOOKUP($AF18,名簿男子!$A$2:$K$101,8))","v":""},{"$f":"IF($AF18=\"\",\"\",VLOOKUP($AF18,名簿男子!$A$2:$K$101,6))","v":""},null,null,null,null,{"$f":"IF($AF18=\"\",\"\",VLOOKUP($AF18,名簿男子!$A$2:$K$101,9))","v":""},{"$f":"IF($AF18=\"\",\"\",VLOOKUP($AF18,名簿男子!$A$2:$K$101,10))","v":""},null,null,{"$f":"IF($AG18=\"\",\"\",VLOOKUP($AG18,名簿男子!$A$2:$K$101,9))","v":""},{"$f":"IF($AG18=\"\",\"\",VLOOKUP($AG18,名簿男子!$A$2:$K$101,10))","v":""},null,null,{"$f":"IF($AH18=\"\",\"\",VLOOKUP($AH18,名簿男子!$A$2:$K$101,9))","v":""},{"$f":"IF($AH18=\"\",\"\",VLOOKUP($AH18,名簿男子!$A$2:$K$101,10))","v":""},null,null,null,null,null,null,null,null,null,null,null,null,null,null,{"$f":"名簿男子!A18","v":17},{"$f":"名簿男子!C18","v":0},{"$f":"名簿男子!I18","v":0}]
[{"$f":"IF($AF19=\"\",\"\",VLOOKUP($AF19,名簿男子!$A$2:$K$101,2))","v":""},{"$f":"IF($AF19=\"\",\"\",VLOOKUP($AF19,名簿男子!$A$2:$K$101,3))","v":""},{"$f":"IF($AF19=\"\",\"\",VLOOKUP($AF19,名簿男子!$A$2:$K$101,5))","v":""},null,{"$f":"IF($AF19=\"\",\"\",VLOOKUP($AF19,名簿男子!$A$2:$K$101,8))","v":""},{"$f":"IF($AF19=\"\",\"\",VLOOKUP($AF19,名簿男子!$A$2:$K$101,6))","v":""},null,null,null,null,{"$f":"IF($AF19=\"\",\"\",VLOOKUP($AF19,名簿男子!$A$2:$K$101,9))","v":""},{"$f":"IF($AF19=\"\",\"\",VLOOKUP($AF19,名簿男子!$A$2:$K$101,10))","v":""},null,null,{"$f":"IF($AG19=\"\",\"\",VLOOKUP($AG19,名簿男子!$A$2:$K$101,9))","v":""},{"$f":"IF($AG19=\"\",\"\",VLOOKUP($AG19,名簿男子!$A$2:$K$101,10))","v":""},null,null,{"$f":"IF($AH19=\"\",\"\",VLOOKUP($AH19,名簿男子!$A$2:$K$101,9))","v":""},{"$f":"IF($AH19=\"\",\"\",VLOOKUP($AH19,名簿男子!$A$2:$K$101,10))","v":""},null,null,null,null,null,null,null,null,null,null,null,null,null,null,{"$f":"名簿男子!A19","v":18},{"$f":"名簿男子!C19","v":0},{"$f":"名簿男子!I19","v":0}]
[{"$f":"IF($AF20=\"\",\"\",VLOOKUP($AF20,名簿男子!$A$2:$K$101,2))","v":""},{"$f":"IF($AF20=\"\",\"\",VLOOKUP($AF20,名簿男子!$A$2:$K$101,3))","v":""},{"$f":"IF($AF20=\"\",\"\",VLOOKUP($AF20,名簿男子!$A$2:$K$101,5))","v":""},null,{"$f":"IF($AF20=\"\",\"\",VLOOKUP($AF20,名簿男子!$A$2:$K$101,8))","v":""},{"$f":"IF($AF20=\"\",\"\",VLOOKUP($AF20,名簿男子!$A$2:$K$101,6))","v":""},null,null,null,null,{"$f":"IF($AF20=\"\",\"\",VLOOKUP($AF20,名簿男子!$A$2:$K$101,9))","v":""},{"$f":"IF($AF20=\"\",\"\",VLOOKUP($AF20,名簿男子!$A$2:$K$101,10))","v":""},null,null,{"$f":"IF($AG20=\"\",\"\",VLOOKUP($AG20,名簿男子!$A$2:$K$101,9))","v":""},{"$f":"IF($AG20=\"\",\"\",VLOOKUP($AG20,名簿男子!$A$2:$K$101,10))","v":""},null,null,{"$f":"IF($AH20=\"\",\"\",VLOOKUP($AH20,名簿男子!$A$2:$K$101,9))","v":""},{"$f":"IF($AH20=\"\",\"\",VLOOKUP($AH20,名簿男子!$A$2:$K$101,10))","v":""},null,null,null,null,null,null,null,null,null,null,null,null,null,null,{"$f":"名簿男子!A20","v":19},{"$f":"名簿男子!C20","v":0},{"$f":"名簿男子!I20","v":0}]
[{"$f":"IF($AF21=\"\",\"\",VLOOKUP($AF21,名簿男子!$A$2:$K$101,2))","v":""},{"$f":"IF($AF21=\"\",\"\",VLOOKUP($AF21,名簿男子!$A$2:$K$101,3))","v":""},{"$f":"IF($AF21=\"\",\"\",VLOOKUP($AF21,名簿男子!$A$2:$K$101,5))","v":""},null,{"$f":"IF($AF21=\"\",\"\",VLOOKUP($AF21,名簿男子!$A$2:$K$101,8))","v":""},{"$f":"IF($AF21=\"\",\"\",VLOOKUP($AF21,名簿男子!$A$2:$K$101,6))","v":""},null,null,null,null,{"$f":"IF($AF21=\"\",\"\",VLOOKUP($AF21,名簿男子!$A$2:$K$101,9))","v":""},{"$f":"IF($AF21=\"\",\"\",VLOOKUP($AF21,名簿男子!$A$2:$K$101,10))","v":""},null,null,{"$f":"IF($AG21=\"\",\"\",VLOOKUP($AG21,名簿男子!$A$2:$K$101,9))","v":""},{"$f":"IF($AG21=\"\",\"\",VLOOKUP($AG21,名簿男子!$A$2:$K$101,10))","v":""},null,null,{"$f":"IF($AH21=\"\",\"\",VLOOKUP($AH21,名簿男子!$A$2:$K$101,9))","v":""},{"$f":"IF($AH21=\"\",\"\",VLOOKUP($AH21,名簿男子!$A$2:$K$101,10))","v":""},null,null,null,null,null,null,null,null,null,null,null,null,null,null,{"$f":"名簿男子!A21","v":20},{"$f":"名簿男子!C21","v":0},{"$f":"名簿男子!I21","v":0}]
[{"$f":"IF($AF22=\"\",\"\",VLOOKUP($AF22,名簿男子!$A$2:$K$101,2))","v":""},{"$f":"IF($AF22=\"\",\"\",VLOOKUP($AF22,名簿男子!$A$2:$K$101,3))","v":""},{"$f":"IF($AF22=\"\",\"\",VLOOKUP($AF22,名簿男子!$A$2:$K$101,5))","v":""},null,{"$f":"IF($AF22=\"\",\"\",VLOOKUP($AF22,名簿男子!$A$2:$K$101,8))","v":""},{"$f":"IF($AF22=\"\",\"\",VLOOKUP($AF22,名簿男子!$A$2:$K$101,6))","v":""},null,null,null,null,{"$f":"IF($AF22=\"\",\"\",VLOOKUP($AF22,名簿男子!$A$2:$K$101,9))","v":""},{"$f":"IF($AF22=\"\",\"\",VLOOKUP($AF22,名簿男子!$A$2:$K$101,10))","v":""},null,null,{"$f":"IF($AG22=\"\",\"\",VLOOKUP($AG22,名簿男子!$A$2:$K$101,9))","v":""},{"$f":"IF($AG22=\"\",\"\",VLOOKUP($AG22,名簿男子!$A$2:$K$101,10))","v":""},null,null,{"$f":"IF($AH22=\"\",\"\",VLOOKUP($AH22,名簿男子!$A$2:$K$101,9))","v":""},{"$f":"IF($AH22=\"\",\"\",VLOOKUP($AH22,名簿男子!$A$2:$K$101,10))","v":""},null,null,null,null,null,null,null,null,null,null,null,null,null,null,{"$f":"名簿男子!A22","v":21},{"$f":"名簿男子!C22","v":0},{"$f":"名簿男子!I22","v":0}]
[{"$f":"IF($AF23=\"\",\"\",VLOOKUP($AF23,名簿男子!$A$2:$K$101,2))","v":""},{"$f":"IF($AF23=\"\",\"\",VLOOKUP($AF23,名簿男子!$A$2:$K$101,3))","v":""},{"$f":"IF($AF23=\"\",\"\",VLOOKUP($AF23,名簿男子!$A$2:$K$101,5))","v":""},null,{"$f":"IF($AF23=\"\",\"\",VLOOKUP($AF23,名簿男子!$A$2:$K$101,8))","v":""},{"$f":"IF($AF23=\"\",\"\",VLOOKUP($AF23,名簿男子!$A$2:$K$101,6))","v":""},null,null,null,null,{"$f":"IF($AF23=\"\",\"\",VLOOKUP($AF23,名簿男子!$A$2:$K$101,9))","v":""},{"$f":"IF($AF23=\"\",\"\",VLOOKUP($AF23,名簿男子!$A$2:$K$101,10))","v":""},null,null,{"$f":"IF($AG23=\"\",\"\",VLOOKUP($AG23,名簿男子!$A$2:$K$101,9))","v":""},{"$f":"IF($AG23=\"\",\"\",VLOOKUP($AG23,名簿男子!$A$2:$K$101,10))","v":""},null,null,{"$f":"IF($AH23=\"\",\"\",VLOOKUP($AH23,名簿男子!$A$2:$K$101,9))","v":""},{"$f":"IF($AH23=\"\",\"\",VLOOKUP($AH23,名簿男子!$A$2:$K$101,10))","v":""},null,null,null,null,null,null,null,null,null,null,null,null,null,null,{"$f":"名簿男子!A23","v":22},{"$f":"名簿男子!C23","v":0},{"$f":"名簿男子!I23","v":0}]
[{"$f":"IF($AF24=\"\",\"\",VLOOKUP($AF24,名簿男子!$A$2:$K$101,2))","v":""},{"$f":"IF($AF24=\"\",\"\",VLOOKUP($AF24,名簿男子!$A$2:$K$101,3))","v":""},{"$f":"IF($AF24=\"\",\"\",VLOOKUP($AF24,名簿男子!$A$2:$K$101,5))","v":""},null,{"$f":"IF($AF24=\"\",\"\",VLOOKUP($AF24,名簿男子!$A$2:$K$101,8))","v":""},{"$f":"IF($AF24=\"\",\"\",VLOOKUP($AF24,名簿男子!$A$2:$K$101,6))","v":""},null,null,null,null,{"$f":"IF($AF24=\"\",\"\",VLOOKUP($AF24,名簿男子!$A$2:$K$101,9))","v":""},{"$f":"IF($AF24=\"\",\"\",VLOOKUP($AF24,名簿男子!$A$2:$K$101,10))","v":""},null,null,{"$f":"IF($AG24=\"\",\"\",VLOOKUP($AG24,名簿男子!$A$2:$K$101,9))","v":""},{"$f":"IF($AG24=\"\",\"\",VLOOKUP($AG24,名簿男子!$A$2:$K$101,10))","v":""},null,null,{"$f":"IF($AH24=\"\",\"\",VLOOKUP($AH24,名簿男子!$A$2:$K$101,9))","v":""},{"$f":"IF($AH24=\"\",\"\",VLOOKUP($AH24,名簿男子!$A$2:$K$101,10))","v":""},null,null,null,null,null,null,null,null,null,null,null,null,null,null,{"$f":"名簿男子!A24","v":23},{"$f":"名簿男子!C24","v":0},{"$f":"名簿男子!I24","v":0}]
[{"$f":"IF($AF25=\"\",\"\",VLOOKUP($AF25,名簿男子!$A$2:$K$101,2))","v":""},{"$f":"IF($AF25=\"\",\"\",VLOOKUP($AF25,名簿男子!$A$2:$K$101,3))","v":""},{"$f":"IF($AF25=\"\",\"\",VLOOKUP($AF25,名簿男子!$A$2:$K$101,5))","v":""},null,{"$f":"IF($AF25=\"\",\"\",VLOOKUP($AF25,名簿男子!$A$2:$K$101,8))","v":""},{"$f":"IF($AF25=\"\",\"\",VLOOKUP($AF25,名簿男子!$A$2:$K$101,6))","v":""},null,null,null,null,{"$f":"IF($AF25=\"\",\"\",VLOOKUP($AF25,名簿男子!$A$2:$K$101,9))","v":""},{"$f":"IF($AF25=\"\",\"\",VLOOKUP($AF25,名簿男子!$A$2:$K$101,10))","v":""},null,null,{"$f":"IF($AG25=\"\",\"\",VLOOKUP($AG25,名簿男子!$A$2:$K$101,9))","v":""},{"$f":"IF($AG25=\"\",\"\",VLOOKUP($AG25,名簿男子!$A$2:$K$101,10))","v":""},null,null,{"$f":"IF($AH25=\"\",\"\",VLOOKUP($AH25,名簿男子!$A$2:$K$101,9))","v":""},{"$f":"IF($AH25=\"\",\"\",VLOOKUP($AH25,名簿男子!$A$2:$K$101,10))","v":""},null,null,null,null,null,null,null,null,null,null,null,null,null,null,{"$f":"名簿男子!A25","v":24},{"$f":"名簿男子!C25","v":0},{"$f":"名簿男子!I25","v":0}]
[{"$f":"IF($AF26=\"\",\"\",VLOOKUP($AF26,名簿男子!$A$2:$K$101,2))","v":""},{"$f":"IF($AF26=\"\",\"\",VLOOKUP($AF26,名簿男子!$A$2:$K$101,3))","v":""},{"$f":"IF($AF26=\"\",\"\",VLOOKUP($AF26,名簿男子!$A$2:$K$101,5))","v":""},null,{"$f":"IF($AF26=\"\",\"\",VLOOKUP($AF26,名簿男子!$A$2:$K$101,8))","v":""},{"$f":"IF($AF26=\"\",\"\",VLOOKUP($AF26,名簿男子!$A$2:$K$101,6))","v":""},null,null,null,null,{"$f":"IF($AF26=\"\",\"\",VLOOKUP($AF26,名簿男子!$A$2:$K$101,9))","v":""},{"$f":"IF($AF26=\"\",\"\",VLOOKUP($AF26,名簿男子!$A$2:$K$101,10))","v":""},null,null,{"$f":"IF($AG26=\"\",\"\",VLOOKUP($AG26,名簿男子!$A$2:$K$101,9))","v":""},{"$f":"IF($AG26=\"\",\"\",VLOOKUP($AG26,名簿男子!$A$2:$K$101,10))","v":""},null,null,{"$f":"IF($AH26=\"\",\"\",VLOOKUP($AH26,名簿男子!$A$2:$K$101,9))","v":""},{"$f":"IF($AH26=\"\",\"\",VLOOKUP($AH26,名簿男子!$A$2:$K$101,10))","v":""},null,null,null,null,null,null,null,null,null,null,null,null,null,null,{"$f":"名簿男子!A26","v":25},{"$f":"名簿男子!C26","v":0},{"$f":"名簿男子!I26","v":0}]
[{"$f":"IF($AF27=\"\",\"\",VLOOKUP($AF27,名簿男子!$A$2:$K$101,2))","v":""},{"$f":"IF($AF27=\"\",\"\",VLOOKUP($AF27,名簿男子!$A$2:$K$101,3))","v":""},{"$f":"IF($AF27=\"\",\"\",VLOOKUP($AF27,名簿男子!$A$2:$K$101,5))","v":""},null,{"$f":"IF($AF27=\"\",\"\",VLOOKUP($AF27,名簿男子!$A$2:$K$101,8))","v":""},{"$f":"IF($AF27=\"\",\"\",VLOOKUP($AF27,名簿男子!$A$2:$K$101,6))","v":""},null,null,null,null,{"$f":"IF($AF27=\"\",\"\",VLOOKUP($AF27,名簿男子!$A$2:$K$101,9))","v":""},{"$f":"IF($AF27=\"\",\"\",VLOOKUP($AF27,名簿男子!$A$2:$K$101,10))","v":""},null,null,{"$f":"IF($AG27=\"\",\"\",VLOOKUP($AG27,名簿男子!$A$2:$K$101,9))","v":""},{"$f":"IF($AG27=\"\",\"\",VLOOKUP($AG27,名簿男子!$A$2:$K$101,10))","v":""},null,null,{"$f":"IF($AH27=\"\",\"\",VLOOKUP($AH27,名簿男子!$A$2:$K$101,9))","v":""},{"$f":"IF($AH27=\"\",\"\",VLOOKUP($AH27,名簿男子!$A$2:$K$101,10))","v":""},null,null,null,null,null,null,null,null,null,null,null,null,null,null,{"$f":"名簿男子!A27","v":26},{"$f":"名簿男子!C27","v":0},{"$f":"名簿男子!I27","v":0}]
[{"$f":"IF($AF28=\"\",\"\",VLOOKUP($AF28,名簿男子!$A$2:$K$101,2))","v":""},{"$f":"IF($AF28=\"\",\"\",VLOOKUP($AF28,名簿男子!$A$2:$K$101,3))","v":""},{"$f":"IF($AF28=\"\",\"\",VLOOKUP($AF28,名簿男子!$A$2:$K$101,5))","v":""},null,{"$f":"IF($AF28=\"\",\"\",VLOOKUP($AF28,名簿男子!$A$2:$K$101,8))","v":""},{"$f":"IF($AF28=\"\",\"\",VLOOKUP($AF28,名簿男子!$A$2:$K$101,6))","v":""},null,null,null,null,{"$f":"IF($AF28=\"\",\"\",VLOOKUP($AF28,名簿男子!$A$2:$K$101,9))","v":""},{"$f":"IF($AF28=\"\",\"\",VLOOKUP($AF28,名簿男子!$A$2:$K$101,10))","v":""},null,null,{"$f":"IF($AG28=\"\",\"\",VLOOKUP($AG28,名簿男子!$A$2:$K$101,9))","v":""},{"$f":"IF($AG28=\"\",\"\",VLOOKUP($AG28,名簿男子!$A$2:$K$101,10))","v":""},null,null,{"$f":"IF($AH28=\"\",\"\",VLOOKUP($AH28,名簿男子!$A$2:$K$101,9))","v":""},{"$f":"IF($AH28=\"\",\"\",VLOOKUP($AH28,名簿男子!$A$2:$K$101,10))","v":""},null,null,null,null,null,null,null,null,null,null,null,null,null,null,{"$f":"名簿男子!A28","v":27},{"$f":"名簿男子!C28","v":0},{"$f":"名簿男子!I28","v":0}]
[{"$f":"IF($AF29=\"\",\"\",VLOOKUP($AF29,名簿男子!$A$2:$K$101,2))","v":""},{"$f":"IF($AF29=\"\",\"\",VLOOKUP($AF29,名簿男子!$A$2:$K$101,3))","v":""},{"$f":"IF($AF29=\"\",\"\",VLOOKUP($AF29,名簿男子!$A$2:$K$101,5))","v":""},null,{"$f":"IF($AF29=\"\",\"\",VLOOKUP($AF29,名簿男子!$A$2:$K$101,8))","v":""},{"$f":"IF($AF29=\"\",\"\",VLOOKUP($AF29,名簿男子!$A$2:$K$101,6))","v":""},null,null,null,null,{"$f":"IF($AF29=\"\",\"\",VLOOKUP($AF29,名簿男子!$A$2:$K$101,9))","v":""},{"$f":"IF($AF29=\"\",\"\",VLOOKUP($AF29,名簿男子!$A$2:$K$101,10))","v":""},null,null,{"$f":"IF($AG29=\"\",\"\",VLOOKUP($AG29,名簿男子!$A$2:$K$101,9))","v":""},{"$f":"IF($AG29=\"\",\"\",VLOOKUP($AG29,名簿男子!$A$2:$K$101,10))","v":""},null,null,{"$f":"IF($AH29=\"\",\"\",VLOOKUP($AH29,名簿男子!$A$2:$K$101,9))","v":""},{"$f":"IF($AH29=\"\",\"\",VLOOKUP($AH29,名簿男子!$A$2:$K$101,10))","v":""},null,null,null,null,null,null,null,null,null,null,null,null,null,null,{"$f":"名簿男子!A29","v":28},{"$f":"名簿男子!C29","v":0},{"$f":"名簿男子!I29","v":0}]
[{"$f":"IF($AF30=\"\",\"\",VLOOKUP($AF30,名簿男子!$A$2:$K$101,2))","v":""},{"$f":"IF($AF30=\"\",\"\",VLOOKUP($AF30,名簿男子!$A$2:$K$101,3))","v":""},{"$f":"IF($AF30=\"\",\"\",VLOOKUP($AF30,名簿男子!$A$2:$K$101,5))","v":""},null,{"$f":"IF($AF30=\"\",\"\",VLOOKUP($AF30,名簿男子!$A$2:$K$101,8))","v":""},{"$f":"IF($AF30=\"\",\"\",VLOOKUP($AF30,名簿男子!$A$2:$K$101,6))","v":""},null,null,null,null,{"$f":"IF($AF30=\"\",\"\",VLOOKUP($AF30,名簿男子!$A$2:$K$101,9))","v":""},{"$f":"IF($AF30=\"\",\"\",VLOOKUP($AF30,名簿男子!$A$2:$K$101,10))","v":""},null,null,{"$f":"IF($AG30=\"\",\"\",VLOOKUP($AG30,名簿男子!$A$2:$K$101,9))","v":""},{"$f":"IF($AG30=\"\",\"\",VLOOKUP($AG30,名簿男子!$A$2:$K$101,10))","v":""},null,null,{"$f":"IF($AH30=\"\",\"\",VLOOKUP($AH30,名簿男子!$A$2:$K$101,9))","v":""},{"$f":"IF($AH30=\"\",\"\",VLOOKUP($AH30,名簿男子!$A$2:$K$101,10))","v":""},null,null,null,null,null,null,null,null,null,null,null,null,null,null,{"$f":"名簿男子!A30","v":29},{"$f":"名簿男子!C30","v":0},{"$f":"名簿男子!I30","v":0}]
[{"$f":"IF($AF31=\"\",\"\",VLOOKUP($AF31,名簿男子!$A$2:$K$101,2))","v":""},{"$f":"IF($AF31=\"\",\"\",VLOOKUP($AF31,名簿男子!$A$2:$K$101,3))","v":""},{"$f":"IF($AF31=\"\",\"\",VLOOKUP($AF31,名簿男子!$A$2:$K$101,5))","v":""},null,{"$f":"IF($AF31=\"\",\"\",VLOOKUP($AF31,名簿男子!$A$2:$K$101,8))","v":""},{"$f":"IF($AF31=\"\",\"\",VLOOKUP($AF31,名簿男子!$A$2:$K$101,6))","v":""},null,null,null,null,{"$f":"IF($AF31=\"\",\"\",VLOOKUP($AF31,名簿男子!$A$2:$K$101,9))","v":""},{"$f":"IF($AF31=\"\",\"\",VLOOKUP($AF31,名簿男子!$A$2:$K$101,10))","v":""},null,null,{"$f":"IF($AG31=\"\",\"\",VLOOKUP($AG31,名簿男子!$A$2:$K$101,9))","v":""},{"$f":"IF($AG31=\"\",\"\",VLOOKUP($AG31,名簿男子!$A$2:$K$101,10))","v":""},null,null,{"$f":"IF($AH31=\"\",\"\",VLOOKUP($AH31,名簿男子!$A$2:$K$101,9))","v":""},{"$f":"IF($AH31=\"\",\"\",VLOOKUP($AH31,名簿男子!$A$2:$K$101,10))","v":""},null,null,null,null,null,null,null,null,null,null,null,null,null,null,{"$f":"名簿男子!A31","v":30},{"$f":"名簿男子!C31","v":0},{"$f":"名簿男子!I31","v":0}]
[{"$f":"IF($AF32=\"\",\"\",VLOOKUP($AF32,名簿男子!$A$2:$K$101,2))","v":""},{"$f":"IF($AF32=\"\",\"\",VLOOKUP($AF32,名簿男子!$A$2:$K$101,3))","v":""},{"$f":"IF($AF32=\"\",\"\",VLOOKUP($AF32,名簿男子!$A$2:$K$101,5))","v":""},null,{"$f":"IF($AF32=\"\",\"\",VLOOKUP($AF32,名簿男子!$A$2:$K$101,8))","v":""},{"$f":"IF($AF32=\"\",\"\",VLOOKUP($AF32,名簿男子!$A$2:$K$101,6))","v":""},null,null,null,null,{"$f":"IF($AF32=\"\",\"\",VLOOKUP($AF32,名簿男子!$A$2:$K$101,9))","v":""},{"$f":"IF($AF32=\"\",\"\",VLOOKUP($AF32,名簿男子!$A$2:$K$101,10))","v":""},null,null,{"$f":"IF($AG32=\"\",\"\",VLOOKUP($AG32,名簿男子!$A$2:$K$101,9))","v":""},{"$f":"IF($AG32=\"\",\"\",VLOOKUP($AG32,名簿男子!$A$2:$K$101,10))","v":""},null,null,{"$f":"IF($AH32=\"\",\"\",VLOOKUP($AH32,名簿男子!$A$2:$K$101,9))","v":""},{"$f":"IF($AH32=\"\",\"\",VLOOKUP($AH32,名簿男子!$A$2:$K$101,10))","v":""},null,null,null,null,null,null,null,null,null,null,null,null,null,null,{"$f":"名簿男子!A32","v":31},{"$f":"名簿男子!C32","v":0},{"$f":"名簿男子!I32","v":0}]
[{"$f":"IF($AF33=\"\",\"\",VLOOKUP($AF33,名簿男子!$A$2:$K$101,2))","v":""},{"$f":"IF($AF33=\"\",\"\",VLOOKUP($AF33,名簿男子!$A$2:$K$101,3))","v":""},{"$f":"IF($AF33=\"\",\"\",VLOOKUP($AF33,名簿男子!$A$2:$K$101,5))","v":""},null,{"$f":"IF($AF33=\"\",\"\",VLOOKUP($AF33,名簿男子!$A$2:$K$101,8))","v":""},{"$f":"IF($AF33=\"\",\"\",VLOOKUP($AF33,名簿男子!$A$2:$K$101,6))","v":""},null,null,null,null,{"$f":"IF($AF33=\"\",\"\",VLOOKUP($AF33,名簿男子!$A$2:$K$101,9))","v":""},{"$f":"IF($AF33=\"\",\"\",VLOOKUP($AF33,名簿男子!$A$2:$K$101,10))","v":""},null,null,{"$f":"IF($AG33=\"\",\"\",VLOOKUP($AG33,名簿男子!$A$2:$K$101,9))","v":""},{"$f":"IF($AG33=\"\",\"\",VLOOKUP($AG33,名簿男子!$A$2:$K$101,10))","v":""},null,null,{"$f":"IF($AH33=\"\",\"\",VLOOKUP($AH33,名簿男子!$A$2:$K$101,9))","v":""},{"$f":"IF($AH33=\"\",\"\",VLOOKUP($AH33,名簿男子!$A$2:$K$101,10))","v":""},null,null,null,null,null,null,null,null,null,null,null,null,null,null,{"$f":"名簿男子!A33","v":32},{"$f":"名簿男子!C33","v":0},{"$f":"名簿男子!I33","v":0}]
[{"$f":"IF($AF34=\"\",\"\",VLOOKUP($AF34,名簿男子!$A$2:$K$101,2))","v":""},{"$f":"IF($AF34=\"\",\"\",VLOOKUP($AF34,名簿男子!$A$2:$K$101,3))","v":""},{"$f":"IF($AF34=\"\",\"\",VLOOKUP($AF34,名簿男子!$A$2:$K$101,5))","v":""},null,{"$f":"IF($AF34=\"\",\"\",VLOOKUP($AF34,名簿男子!$A$2:$K$101,8))","v":""},{"$f":"IF($AF34=\"\",\"\",VLOOKUP($AF34,名簿男子!$A$2:$K$101,6))","v":""},null,null,null,null,{"$f":"IF($AF34=\"\",\"\",VLOOKUP($AF34,名簿男子!$A$2:$K$101,9))","v":""},{"$f":"IF($AF34=\"\",\"\",VLOOKUP($AF34,名簿男子!$A$2:$K$101,10))","v":""},null,null,{"$f":"IF($AG34=\"\",\"\",VLOOKUP($AG34,名簿男子!$A$2:$K$101,9))","v":""},{"$f":"IF($AG34=\"\",\"\",VLOOKUP($AG34,名簿男子!$A$2:$K$101,10))","v":""},null,null,{"$f":"IF($AH34=\"\",\"\",VLOOKUP($AH34,名簿男子!$A$2:$K$101,9))","v":""},{"$f":"IF($AH34=\"\",\"\",VLOOKUP($AH34,名簿男子!$A$2:$K$101,10))","v":""},null,null,null,null,null,null,null,null,null,null,null,null,null,null,{"$f":"名簿男子!A34","v":33},{"$f":"名簿男子!C34","v":0},{"$f":"名簿男子!I34","v":0}]
[{"$f":"IF($AF35=\"\",\"\",VLOOKUP($AF35,名簿男子!$A$2:$K$101,2))","v":""},{"$f":"IF($AF35=\"\",\"\",VLOOKUP($AF35,名簿男子!$A$2:$K$101,3))","v":""},{"$f":"IF($AF35=\"\",\"\",VLOOKUP($AF35,名簿男子!$A$2:$K$101,5))","v":""},null,{"$f":"IF($AF35=\"\",\"\",VLOOKUP($AF35,名簿男子!$A$2:$K$101,8))","v":""},{"$f":"IF($AF35=\"\",\"\",VLOOKUP($AF35,名簿男子!$A$2:$K$101,6))","v":""},null,null,null,null,{"$f":"IF($AF35=\"\",\"\",VLOOKUP($AF35,名簿男子!$A$2:$K$101,9))","v":""},{"$f":"IF($AF35=\"\",\"\",VLOOKUP($AF35,名簿男子!$A$2:$K$101,10))","v":""},null,null,{"$f":"IF($AG35=\"\",\"\",VLOOKUP($AG35,名簿男子!$A$2:$K$101,9))","v":""},{"$f":"IF($AG35=\"\",\"\",VLOOKUP($AG35,名簿男子!$A$2:$K$101,10))","v":""},null,null,{"$f":"IF($AH35=\"\",\"\",VLOOKUP($AH35,名簿男子!$A$2:$K$101,9))","v":""},{"$f":"IF($AH35=\"\",\"\",VLOOKUP($AH35,名簿男子!$A$2:$K$101,10))","v":""},null,null,null,null,null,null,null,null,null,null,null,null,null,null,{"$f":"名簿男子!A35","v":34},{"$f":"名簿男子!C35","v":0},{"$f":"名簿男子!I35","v":0}]
[{"$f":"IF($AF36=\"\",\"\",VLOOKUP($AF36,名簿男子!$A$2:$K$101,2))","v":""},{"$f":"IF($AF36=\"\",\"\",VLOOKUP($AF36,名簿男子!$A$2:$K$101,3))","v":""},{"$f":"IF($AF36=\"\",\"\",VLOOKUP($AF36,名簿男子!$A$2:$K$101,5))","v":""},null,{"$f":"IF($AF36=\"\",\"\",VLOOKUP($AF36,名簿男子!$A$2:$K$101,8))","v":""},{"$f":"IF($AF36=\"\",\"\",VLOOKUP($AF36,名簿男子!$A$2:$K$101,6))","v":""},null,null,null,null,{"$f":"IF($AF36=\"\",\"\",VLOOKUP($AF36,名簿男子!$A$2:$K$101,9))","v":""},{"$f":"IF($AF36=\"\",\"\",VLOOKUP($AF36,名簿男子!$A$2:$K$101,10))","v":""},null,null,{"$f":"IF($AG36=\"\",\"\",VLOOKUP($AG36,名簿男子!$A$2:$K$101,9))","v":""},{"$f":"IF($AG36=\"\",\"\",VLOOKUP($AG36,名簿男子!$A$2:$K$101,10))","v":""},null,null,{"$f":"IF($AH36=\"\",\"\",VLOOKUP($AH36,名簿男子!$A$2:$K$101,9))","v":""},{"$f":"IF($AH36=\"\",\"\",VLOOKUP($AH36,名簿男子!$A$2:$K$101,10))","v":""},null,null,null,null,null,null,null,null,null,null,null,null,null,null,{"$f":"名簿男子!A36","v":35},{"$f":"名簿男子!C36","v":0},{"$f":"名簿男子!I36","v":0}]
[{"$f":"IF($AF37=\"\",\"\",VLOOKUP($AF37,名簿男子!$A$2:$K$101,2))","v":""},{"$f":"IF($AF37=\"\",\"\",VLOOKUP($AF37,名簿男子!$A$2:$K$101,3))","v":""},{"$f":"IF($AF37=\"\",\"\",VLOOKUP($AF37,名簿男子!$A$2:$K$101,5))","v":""},null,{"$f":"IF($AF37=\"\",\"\",VLOOKUP($AF37,名簿男子!$A$2:$K$101,8))","v":""},{"$f":"IF($AF37=\"\",\"\",VLOOKUP($AF37,名簿男子!$A$2:$K$101,6))","v":""},null,null,null,null,{"$f":"IF($AF37=\"\",\"\",VLOOKUP($AF37,名簿男子!$A$2:$K$101,9))","v":""},{"$f":"IF($AF37=\"\",\"\",VLOOKUP($AF37,名簿男子!$A$2:$K$101,10))","v":""},null,null,{"$f":"IF($AG37=\"\",\"\",VLOOKUP($AG37,名簿男子!$A$2:$K$101,9))","v":""},{"$f":"IF($AG37=\"\",\"\",VLOOKUP($AG37,名簿男子!$A$2:$K$101,10))","v":""},null,null,{"$f":"IF($AH37=\"\",\"\",VLOOKUP($AH37,名簿男子!$A$2:$K$101,9))","v":""},{"$f":"IF($AH37=\"\",\"\",VLOOKUP($AH37,名簿男子!$A$2:$K$101,10))","v":""},null,null,null,null,null,null,null,null,null,null,null,null,null,null,{"$f":"名簿男子!A37","v":36},{"$f":"名簿男子!C37","v":0},{"$f":"名簿男子!I37","v":0}]
[{"$f":"IF($AF38=\"\",\"\",VLOOKUP($AF38,名簿男子!$A$2:$K$101,2))","v":""},{"$f":"IF($AF38=\"\",\"\",VLOOKUP($AF38,名簿男子!$A$2:$K$101,3))","v":""},{"$f":"IF($AF38=\"\",\"\",VLOOKUP($AF38,名簿男子!$A$2:$K$101,5))","v":""},null,{"$f":"IF($AF38=\"\",\"\",VLOOKUP($AF38,名簿男子!$A$2:$K$101,8))","v":""},{"$f":"IF($AF38=\"\",\"\",VLOOKUP($AF38,名簿男子!$A$2:$K$101,6))","v":""},null,null,null,null,{"$f":"IF($AF38=\"\",\"\",VLOOKUP($AF38,名簿男子!$A$2:$K$101,9))","v":""},{"$f":"IF($AF38=\"\",\"\",VLOOKUP($AF38,名簿男子!$A$2:$K$101,10))","v":""},null,null,{"$f":"IF($AG38=\"\",\"\",VLOOKUP($AG38,名簿男子!$A$2:$K$101,9))","v":""},{"$f":"IF($AG38=\"\",\"\",VLOOKUP($AG38,名簿男子!$A$2:$K$101,10))","v":""},null,null,{"$f":"IF($AH38=\"\",\"\",VLOOKUP($AH38,名簿男子!$A$2:$K$101,9))","v":""},{"$f":"IF($AH38=\"\",\"\",VLOOKUP($AH38,名簿男子!$A$2:$K$101,10))","v":""},null,null,null,null,null,null,null,null,null,null,null,null,null,null,{"$f":"名簿男子!A38","v":37},{"$f":"名簿男子!C38","v":0},{"$f":"名簿男子!I38","v":0}]
[{"$f":"IF($AF39=\"\",\"\",VLOOKUP($AF39,名簿男子!$A$2:$K$101,2))","v":""},{"$f":"IF($AF39=\"\",\"\",VLOOKUP($AF39,名簿男子!$A$2:$K$101,3))","v":""},{"$f":"IF($AF39=\"\",\"\",VLOOKUP($AF39,名簿男子!$A$2:$K$101,5))","v":""},null,{"$f":"IF($AF39=\"\",\"\",VLOOKUP($AF39,名簿男子!$A$2:$K$101,8))","v":""},{"$f":"IF($AF39=\"\",\"\",VLOOKUP($AF39,名簿男子!$A$2:$K$101,6))","v":""},null,null,null,null,{"$f":"IF($AF39=\"\",\"\",VLOOKUP($AF39,名簿男子!$A$2:$K$101,9))","v":""},{"$f":"IF($AF39=\"\",\"\",VLOOKUP($AF39,名簿男子!$A$2:$K$101,10))","v":""},null,null,{"$f":"IF($AG39=\"\",\"\",VLOOKUP($AG39,名簿男子!$A$2:$K$101,9))","v":""},{"$f":"IF($AG39=\"\",\"\",VLOOKUP($AG39,名簿男子!$A$2:$K$101,10))","v":""},null,null,{"$f":"IF($AH39=\"\",\"\",VLOOKUP($AH39,名簿男子!$A$2:$K$101,9))","v":""},{"$f":"IF($AH39=\"\",\"\",VLOOKUP($AH39,名簿男子!$A$2:$K$101,10))","v":""},null,null,null,null,null,null,null,null,null,null,null,null,null,null,{"$f":"名簿男子!A39","v":38},{"$f":"名簿男子!C39","v":0},{"$f":"名簿男子!I39","v":0}]
[{"$f":"IF($AF40=\"\",\"\",VLOOKUP($AF40,名簿男子!$A$2:$K$101,2))","v":""},{"$f":"IF($AF40=\"\",\"\",VLOOKUP($AF40,名簿男子!$A$2:$K$101,3))","v":""},{"$f":"IF($AF40=\"\",\"\",VLOOKUP($AF40,名簿男子!$A$2:$K$101,5))","v":""},null,{"$f":"IF($AF40=\"\",\"\",VLOOKUP($AF40,名簿男子!$A$2:$K$101,8))","v":""},{"$f":"IF($AF40=\"\",\"\",VLOOKUP($AF40,名簿男子!$A$2:$K$101,6))","v":""},null,null,null,null,{"$f":"IF($AF40=\"\",\"\",VLOOKUP($AF40,名簿男子!$A$2:$K$101,9))","v":""},{"$f":"IF($AF40=\"\",\"\",VLOOKUP($AF40,名簿男子!$A$2:$K$101,10))","v":""},null,null,{"$f":"IF($AG40=\"\",\"\",VLOOKUP($AG40,名簿男子!$A$2:$K$101,9))","v":""},{"$f":"IF($AG40=\"\",\"\",VLOOKUP($AG40,名簿男子!$A$2:$K$101,10))","v":""},null,null,{"$f":"IF($AH40=\"\",\"\",VLOOKUP($AH40,名簿男子!$A$2:$K$101,9))","v":""},{"$f":"IF($AH40=\"\",\"\",VLOOKUP($AH40,名簿男子!$A$2:$K$101,10))","v":""},null,null,null,null,null,null,null,null,null,null,null,null,null,null,{"$f":"名簿男子!A40","v":39},{"$f":"名簿男子!C40","v":0},{"$f":"名簿男子!I40","v":0}]
[{"$f":"IF($AF41=\"\",\"\",VLOOKUP($AF41,名簿男子!$A$2:$K$101,2))","v":""},{"$f":"IF($AF41=\"\",\"\",VLOOKUP($AF41,名簿男子!$A$2:$K$101,3))","v":""},{"$f":"IF($AF41=\"\",\"\",VLOOKUP($AF41,名簿男子!$A$2:$K$101,5))","v":""},null,{"$f":"IF($AF41=\"\",\"\",VLOOKUP($AF41,名簿男子!$A$2:$K$101,8))","v":""},{"$f":"IF($AF41=\"\",\"\",VLOOKUP($AF41,名簿男子!$A$2:$K$101,6))","v":""},null,null,null,null,{"$f":"IF($AF41=\"\",\"\",VLOOKUP($AF41,名簿男子!$A$2:$K$101,9))","v":""},{"$f":"IF($AF41=\"\",\"\",VLOOKUP($AF41,名簿男子!$A$2:$K$101,10))","v":""},null,null,{"$f":"IF($AG41=\"\",\"\",VLOOKUP($AG41,名簿男子!$A$2:$K$101,9))","v":""},{"$f":"IF($AG41=\"\",\"\",VLOOKUP($AG41,名簿男子!$A$2:$K$101,10))","v":""},null,null,{"$f":"IF($AH41=\"\",\"\",VLOOKUP($AH41,名簿男子!$A$2:$K$101,9))","v":""},{"$f":"IF($AH41=\"\",\"\",VLOOKUP($AH41,名簿男子!$A$2:$K$101,10))","v":""},null,null,null,null,null,null,null,null,null,null,null,null,null,null,{"$f":"名簿男子!A41","v":40},{"$f":"名簿男子!C41","v":0},{"$f":"名簿男子!I41","v":0}]
[{"$f":"IF($AF42=\"\",\"\",VLOOKUP($AF42,名簿男子!$A$2:$K$101,2))","v":""},{"$f":"IF($AF42=\"\",\"\",VLOOKUP($AF42,名簿男子!$A$2:$K$101,3))","v":""},{"$f":"IF($AF42=\"\",\"\",VLOOKUP($AF42,名簿男子!$A$2:$K$101,5))","v":""},null,{"$f":"IF($AF42=\"\",\"\",VLOOKUP($AF42,名簿男子!$A$2:$K$101,8))","v":""},{"$f":"IF($AF42=\"\",\"\",VLOOKUP($AF42,名簿男子!$A$2:$K$101,6))","v":""},null,null,null,null,{"$f":"IF($AF42=\"\",\"\",VLOOKUP($AF42,名簿男子!$A$2:$K$101,9))","v":""},{"$f":"IF($AF42=\"\",\"\",VLOOKUP($AF42,名簿男子!$A$2:$K$101,10))","v":""},null,null,{"$f":"IF($AG42=\"\",\"\",VLOOKUP($AG42,名簿男子!$A$2:$K$101,9))","v":""},{"$f":"IF($AG42=\"\",\"\",VLOOKUP($AG42,名簿男子!$A$2:$K$101,10))","v":""},null,null,{"$f":"IF($AH42=\"\",\"\",VLOOKUP($AH42,名簿男子!$A$2:$K$101,9))","v":""},{"$f":"IF($AH42=\"\",\"\",VLOOKUP($AH42,名簿男子!$A$2:$K$101,10))","v":""},null,null,null,null,null,null,null,null,null,null,null,null,null,null,{"$f":"名簿男子!A42","v":41},{"$f":"名簿男子!C42","v":0},{"$f":"名簿男子!I42","v":0}]
[{"$f":"IF($AF43=\"\",\"\",VLOOKUP($AF43,名簿男子!$A$2:$K$101,2))","v":""},{"$f":"IF($AF43=\"\",\"\",VLOOKUP($AF43,名簿男子!$A$2:$K$101,3))","v":""},{"$f":"IF($AF43=\"\",\"\",VLOOKUP($AF43,名簿男子!$A$2:$K$101,5))","v":""},null,{"$f":"IF($AF43=\"\",\"\",VLOOKUP($AF43,名簿男子!$A$2:$K$101,8))","v":""},{"$f":"IF($AF43=\"\",\"\",VLOOKUP($AF43,名簿男子!$A$2:$K$101,6))","v":""},null,null,null,null,{"$f":"IF($AF43=\"\",\"\",VLOOKUP($AF43,名簿男子!$A$2:$K$101,9))","v":""},{"$f":"IF($AF43=\"\",\"\",VLOOKUP($AF43,名簿男子!$A$2:$K$101,10))","v":""},null,null,{"$f":"IF($AG43=\"\",\"\",VLOOKUP($AG43,名簿男子!$A$2:$K$101,9))","v":""},{"$f":"IF($AG43=\"\",\"\",VLOOKUP($AG43,名簿男子!$A$2:$K$101,10))","v":""},null,null,{"$f":"IF($AH43=\"\",\"\",VLOOKUP($AH43,名簿男子!$A$2:$K$101,9))","v":""},{"$f":"IF($AH43=\"\",\"\",VLOOKUP($AH43,名簿男子!$A$2:$K$101,10))","v":""},null,null,null,null,null,null,null,null,null,null,null,null,null,null,{"$f":"名簿男子!A43","v":42},{"$f":"名簿男子!C43","v":0},{"$f":"名簿男子!I43","v":0}]
[{"$f":"IF($AF44=\"\",\"\",VLOOKUP($AF44,名簿男子!$A$2:$K$101,2))","v":""},{"$f":"IF($AF44=\"\",\"\",VLOOKUP($AF44,名簿男子!$A$2:$K$101,3))","v":""},{"$f":"IF($AF44=\"\",\"\",VLOOKUP($AF44,名簿男子!$A$2:$K$101,5))","v":""},null,{"$f":"IF($AF44=\"\",\"\",VLOOKUP($AF44,名簿男子!$A$2:$K$101,8))","v":""},{"$f":"IF($AF44=\"\",\"\",VLOOKUP($AF44,名簿男子!$A$2:$K$101,6))","v":""},null,null,null,null,{"$f":"IF($AF44=\"\",\"\",VLOOKUP($AF44,名簿男子!$A$2:$K$101,9))","v":""},{"$f":"IF($AF44=\"\",\"\",VLOOKUP($AF44,名簿男子!$A$2:$K$101,10))","v":""},null,null,{"$f":"IF($AG44=\"\",\"\",VLOOKUP($AG44,名簿男子!$A$2:$K$101,9))","v":""},{"$f":"IF($AG44=\"\",\"\",VLOOKUP($AG44,名簿男子!$A$2:$K$101,10))","v":""},null,null,{"$f":"IF($AH44=\"\",\"\",VLOOKUP($AH44,名簿男子!$A$2:$K$101,9))","v":""},{"$f":"IF($AH44=\"\",\"\",VLOOKUP($AH44,名簿男子!$A$2:$K$101,10))","v":""},null,null,null,null,null,null,null,null,null,null,null,null,null,null,{"$f":"名簿男子!A44","v":43},{"$f":"名簿男子!C44","v":0},{"$f":"名簿男子!I44","v":0}]
[null,null,null,null,null,null,null,null,null,null,null,null,null,null,null,null,null,null,null,null,null,null,null,null,null,null,null,null,null,null,null,null,null,null,{"$f":"名簿男子!A45","v":44},{"$f":"名簿男子!C45","v":0},{"$f":"名簿男子!I45","v":0}]
[null,null,null,null,null,null,null,null,null,null,null,null,null,null,null,null,null,null,null,null,null,null,null,null,null,null,null,null,null,null,null,null,null,null,{"$f":"名簿男子!A46","v":45},{"$f":"名簿男子!C46","v":0},{"$f":"名簿男子!I46","v":0}]
[null,null,null,null,null,null,null,null,null,null,null,null,null,null,null,null,null,null,null,null,null,null,null,null,null,null,null,null,null,null,null,null,null,null,{"$f":"名簿男子!A47","v":46},{"$f":"名簿男子!C47","v":0},{"$f":"名簿男子!I47","v":0}]
[null,null,null,null,null,null,null,null,null,null,null,null,null,null,null,null,null,null,null,null,null,null,null,null,null,null,null,null,null,null,null,null,null,null,{"$f":"名簿男子!A48","v":47},{"$f":"名簿男子!C48","v":0},{"$f":"名簿男子!I48","v":0}]
[null,null,null,null,null,null,null,null,null,null,null,null,null,null,null,null,null,null,null,null,null,null,null,null,null,null,null,null,null,null,null,null,null,null,{"$f":"名簿男子!A49","v":48},{"$f":"名簿男子!C49","v":0},{"$f":"名簿男子!I49","v":0}]
[null,null,null,null,null,null,null,null,null,null,null,null,null,null,null,null,null,null,null,null,null,null,null,null,null,null,null,null,null,null,null,null,null,null,{"$f":"名簿男子!A50","v":49},{"$f":"名簿男子!C50","v":0},{"$f":"名簿男子!I50","v":0}]
[null,null,null,null,null,null,null,null,null,null,null,null,null,null,null,null,null,null,null,null,null,null,null,null,null,null,null,null,null,null,null,null,null,null,{"$f":"名簿男子!A51","v":50},{"$f":"名簿男子!C51","v":0},{"$f":"名簿男子!I51","v":0}]
[null,null,null,null,null,null,null,null,null,null,null,null,null,null,null,null,null,null,null,null,null,null,null,null,null,null,null,null,null,null,null,null,null,null,{"$f":"名簿男子!A52","v":51},{"$f":"名簿男子!C52","v":0},{"$f":"名簿男子!I52","v":0}]
[null,null,null,null,null,null,null,null,null,null,null,null,null,null,null,null,null,null,null,null,null,null,null,null,null,null,null,null,null,null,null,null,null,null,{"$f":"名簿男子!A53","v":52},{"$f":"名簿男子!C53","v":0},{"$f":"名簿男子!I53","v":0}]
[null,null,null,null,null,null,null,null,null,null,null,null,null,null,null,null,null,null,null,null,null,null,null,null,null,null,null,null,null,null,null,null,null,null,{"$f":"名簿男子!A54","v":53},{"$f":"名簿男子!C54","v":0},{"$f":"名簿男子!I54","v":0}]
[null,null,null,null,null,null,null,null,null,null,null,null,null,null,null,null,null,null,null,null,null,null,null,null,null,null,null,null,null,null,null,null,null,null,{"$f":"名簿男子!A55","v":54},{"$f":"名簿男子!C55","v":0},{"$f":"名簿男子!I55","v":0}]
[null,null,null,null,null,null,null,null,null,null,null,null,null,null,null,null,null,null,null,null,null,null,null,null,null,null,null,null,null,null,null,null,null,null,{"$f":"名簿男子!A56","v":55},{"$f":"名簿男子!C56","v":0},{"$f":"名簿男子!I56","v":0}]
[null,null,null,null,null,null,null,null,null,null,null,null,null,null,null,null,null,null,null,null,null,null,null,null,null,null,null,null,null,null,null,null,null,null,{"$f":"名簿男子!A57","v":56},{"$f":"名簿男子!C57","v":0},{"$f":"名簿男子!I57","v":0}]
[null,null,null,null,null,null,null,null,null,null,null,null,null,null,null,null,null,null,null,null,null,null,null,null,null,null,null,null,null,null,null,null,null,null,{"$f":"名簿男子!A58","v":57},{"$f":"名簿男子!C58","v":0},{"$f":"名簿男子!I58","v":0}]
[null,null,null,null,null,null,null,null,null,null,null,null,null,null,null,null,null,null,null,null,null,null,null,null,null,null,null,null,null,null,null,null,null,null,{"$f":"名簿男子!A59","v":58},{"$f":"名簿男子!C59","v":0},{"$f":"名簿男子!I59","v":0}]
[null,null,null,null,null,null,null,null,null,null,null,null,null,null,null,null,null,null,null,null,null,null,null,null,null,null,null,null,null,null,null,null,null,null,{"$f":"名簿男子!A60","v":59},{"$f":"名簿男子!C60","v":0},{"$f":"名簿男子!I60","v":0}]
[null,null,null,null,null,null,null,null,null,null,null,null,null,null,null,null,null,null,null,null,null,null,null,null,null,null,null,null,null,null,null,null,null,null,{"$f":"名簿男子!A61","v":60},{"$f":"名簿男子!C61","v":0},{"$f":"名簿男子!I61","v":0}]
[null,null,null,null,null,null,null,null,null,null,null,null,null,null,null,null,null,null,null,null,null,null,null,null,null,null,null,null,null,null,null,null,null,null,{"$f":"名簿男子!A62","v":61},{"$f":"名簿男子!C62","v":0},{"$f":"名簿男子!I62","v":0}]
[null,null,null,null,null,null,null,null,null,null,null,null,null,null,null,null,null,null,null,null,null,null,null,null,null,null,null,null,null,null,null,null,null,null,{"$f":"名簿男子!A63","v":62},{"$f":"名簿男子!C63","v":0},{"$f":"名簿男子!I63","v":0}]
[null,null,null,null,null,null,null,null,null,null,null,null,null,null,null,null,null,null,null,null,null,null,null,null,null,null,null,null,null,null,null,null,null,null,{"$f":"名簿男子!A64","v":63},{"$f":"名簿男子!C64","v":0},{"$f":"名簿男子!I64","v":0}]
[null,null,null,null,null,null,null,null,null,null,null,null,null,null,null,null,null,null,null,null,null,null,null,null,null,null,null,null,null,null,null,null,null,null,{"$f":"名簿男子!A65","v":64},{"$f":"名簿男子!C65","v":0},{"$f":"名簿男子!I65","v":0}]
[null,null,null,null,null,null,null,null,null,null,null,null,null,null,null,null,null,null,null,null,null,null,null,null,null,null,null,null,null,null,null,null,null,null,{"$f":"名簿男子!A66","v":65},{"$f":"名簿男子!C66","v":0},{"$f":"名簿男子!I66","v":0}]
[null,null,null,null,null,null,null,null,null,null,null,null,null,null,null,null,null,null,null,null,null,null,null,null,null,null,null,null,null,null,null,null,null,null,{"$f":"名簿男子!A67","v":66},{"$f":"名簿男子!C67","v":0},{"$f":"名簿男子!I67","v":0}]
[null,null,null,null,null,null,null,null,null,null,null,null,null,null,null,null,null,null,null,null,null,null,null,null,null,null,null,null,null,null,null,null,null,null,{"$f":"名簿男子!A68","v":67},{"$f":"名簿男子!C68","v":0},{"$f":"名簿男子!I68","v":0}]
[null,null,null,null,null,null,null,null,null,null,null,null,null,null,null,null,null,null,null,null,null,null,null,null,null,null,null,null,null,null,null,null,null,null,{"$f":"名簿男子!A69","v":68},{"$f":"名簿男子!C69","v":0},{"$f":"名簿男子!I69","v":0}]
[null,null,null,null,null,null,null,null,null,null,null,null,null,null,null,null,null,null,null,null,null,null,null,null,null,null,null,null,null,null,null,null,null,null,{"$f":"名簿男子!A70","v":69},{"$f":"名簿男子!C70","v":0},{"$f":"名簿男子!I70","v":0}]
[null,null,null,null,null,null,null,null,null,null,null,null,null,null,null,null,null,null,null,null,null,null,null,null,null,null,null,null,null,null,null,null,null,null,{"$f":"名簿男子!A71","v":70},{"$f":"名簿男子!C71","v":0},{"$f":"名簿男子!I71","v":0}]
[null,null,null,null,null,null,null,null,null,null,null,null,null,null,null,null,null,null,null,null,null,null,null,null,null,null,null,null,null,null,null,null,null,null,{"$f":"名簿男子!A72","v":71},{"$f":"名簿男子!C72","v":0},{"$f":"名簿男子!I72","v":0}]
[null,null,null,null,null,null,null,null,null,null,null,null,null,null,null,null,null,null,null,null,null,null,null,null,null,null,null,null,null,null,null,null,null,null,{"$f":"名簿男子!A73","v":72},{"$f":"名簿男子!C73","v":0},{"$f":"名簿男子!I73","v":0}]
[null,null,null,null,null,null,null,null,null,null,null,null,null,null,null,null,null,null,null,null,null,null,null,null,null,null,null,null,null,null,null,null,null,null,{"$f":"名簿男子!A74","v":73},{"$f":"名簿男子!C74","v":0},{"$f":"名簿男子!I74","v":0}]
[null,null,null,null,null,null,null,null,null,null,null,null,null,null,null,null,null,null,null,null,null,null,null,null,null,null,null,null,null,null,null,null,null,null,{"$f":"名簿男子!A75","v":74},{"$f":"名簿男子!C75","v":0},{"$f":"名簿男子!I75","v":0}]
[null,null,null,null,null,null,null,null,null,null,null,null,null,null,null,null,null,null,null,null,null,null,null,null,null,null,null,null,null,null,null,null,null,null,{"$f":"名簿男子!A76","v":75},{"$f":"名簿男子!C76","v":0},{"$f":"名簿男子!I76","v":0}]
[null,null,null,null,null,null,null,null,null,null,null,null,null,null,null,null,null,null,null,null,null,null,null,null,null,null,null,null,null,null,null,null,null,null,{"$f":"名簿男子!A77","v":76},{"$f":"名簿男子!C77","v":0},{"$f":"名簿男子!I77","v":0}]
[null,null,null,null,null,null,null,null,null,null,null,null,null,null,null,null,null,null,null,null,null,null,null,null,null,null,null,null,null,null,null,null,null,null,{"$f":"名簿男子!A78","v":77},{"$f":"名簿男子!C78","v":0},{"$f":"名簿男子!I78","v":0}]
[null,null,null,null,null,null,null,null,null,null,null,null,null,null,null,null,null,null,null,null,null,null,null,null,null,null,null,null,null,null,null,null,null,null,{"$f":"名簿男子!A79","v":78},{"$f":"名簿男子!C79","v":0},{"$f":"名簿男子!I79","v":0}]
[null,null,null,null,null,null,null,null,null,null,null,null,null,null,null,null,null,null,null,null,null,null,null,null,null,null,null,null,null,null,null,null,null,null,{"$f":"名簿男子!A80","v":79},{"$f":"名簿男子!C80","v":0},{"$f":"名簿男子!I80","v":0}]
[null,null,null,null,null,null,null,null,null,null,null,null,null,null,null,null,null,null,null,null,null,null,null,null,null,null,null,null,null,null,null,null,null,null,{"$f":"名簿男子!A81","v":80},{"$f":"名簿男子!C81","v":0},{"$f":"名簿男子!I81","v":0}]
[null,null,null,null,null,null,null,null,null,null,null,null,null,null,null,null,null,null,null,null,null,null,null,null,null,null,null,null,null,null,null,null,null,null,{"$f":"名簿男子!A82","v":81},{"$f":"名簿男子!C82","v":0},{"$f":"名簿男子!I82","v":0}]
[null,null,null,null,null,null,null,null,null,null,null,null,null,null,null,null,null,null,null,null,null,null,null,null,null,null,null,null,null,null,null,null,null,null,{"$f":"名簿男子!A83","v":82},{"$f":"名簿男子!C83","v":0},{"$f":"名簿男子!I83","v":0}]
[null,null,null,null,null,null,null,null,null,null,null,null,null,null,null,null,null,null,null,null,null,null,null,null,null,null,null,null,null,null,null,null,null,null,{"$f":"名簿男子!A84","v":83},{"$f":"名簿男子!C84","v":0},{"$f":"名簿男子!I84","v":0}]
[null,null,null,null,null,null,null,null,null,null,null,null,null,null,null,null,null,null,null,null,null,null,null,null,null,null,null,null,null,null,null,null,null,null,{"$f":"名簿男子!A85","v":84},{"$f":"名簿男子!C85","v":0},{"$f":"名簿男子!I85","v":0}]
[null,null,null,null,null,null,null,null,null,null,null,null,null,null,null,null,null,null,null,null,null,null,null,null,null,null,null,null,null,null,null,null,null,null,{"$f":"名簿男子!A86","v":85},{"$f":"名簿男子!C86","v":0},{"$f":"名簿男子!I86","v":0}]
[null,null,null,null,null,null,null,null,null,null,null,null,null,null,null,null,null,null,null,null,null,null,null,null,null,null,null,null,null,null,null,null,null,null,{"$f":"名簿男子!A87","v":86},{"$f":"名簿男子!C87","v":0},{"$f":"名簿男子!I87","v":0}]
[null,null,null,null,null,null,null,null,null,null,null,null,null,null,null,null,null,null,null,null,null,null,null,null,null,null,null,null,null,null,null,null,null,null,{"$f":"名簿男子!A88","v":87},{"$f":"名簿男子!C88","v":0},{"$f":"名簿男子!I88","v":0}]
[null,null,null,null,null,null,null,null,null,null,null,null,null,null,null,null,null,null,null,null,null,null,null,null,null,null,null,null,null,null,null,null,null,null,{"$f":"名簿男子!A89","v":88},{"$f":"名簿男子!C89","v":0},{"$f":"名簿男子!I89","v":0}]
[null,null,null,null,null,null,null,null,null,null,null,null,null,null,null,null,null,null,null,null,null,null,null,null,null,null,null,null,null,null,null,null,null,null,{"$f":"名簿男子!A90","v":89},{"$f":"名簿男子!C90","v":0},{"$f":"名簿男子!I90","v":0}]
[null,null,null,null,null,null,null,null,null,null,null,null,null,null,null,null,null,null,null,null,null,null,null,null,null,null,null,null,null,null,null,null,null,null,{"$f":"名簿男子!A91","v":90},{"$f":"名簿男子!C91","v":0},{"$f":"名簿男子!I91","v":0}]
[null,null,null,null,null,null,null,null,null,null,null,null,null,null,null,null,null,null,null,null,null,null,null,null,null,null,null,null,null,null,null,null,null,null,{"$f":"名簿男子!A92","v":91},{"$f":"名簿男子!C92","v":0},{"$f":"名簿男子!I92","v":0}]
[null,null,null,null,null,null,null,null,null,null,null,null,null,null,null,null,null,null,null,null,null,null,null,null,null,null,null,null,null,null,null,null,null,null,{"$f":"名簿男子!A93","v":92},{"$f":"名簿男子!C93","v":0},{"$f":"名簿男子!I93","v":0}]
[null,null,null,null,null,null,null,null,null,null,null,null,null,null,null,null,null,null,null,null,null,null,null,null,null,null,null,null,null,null,null,null,null,null,{"$f":"名簿男子!A94","v":93},{"$f":"名簿男子!C94","v":0},{"$f":"名簿男子!I94","v":0}]
[null,null,null,null,null,null,null,null,null,null,null,null,null,null,null,null,null,null,null,null,null,null,null,null,null,null,null,null,null,null,null,null,null,null,{"$f":"名簿男子!A95","v":94},{"$f":"名簿男子!C95","v":0},{"$f":"名簿男子!I95","v":0}]
[null,null,null,null,null,null,null,null,null,null,null,null,null,null,null,null,null,null,null,null,null,null,null,null,null,null,null,null,null,null,null,null,null,null,{"$f":"名簿男子!A96","v":95},{"$f":"名簿男子!C96","v":0},{"$f":"名簿男子!I96","v":0}]
[null,null,null,null,null,null,null,null,null,null,null,null,null,null,null,null,null,null,null,null,null,null,null,null,null,null,null,null,null,null,null,null,null,null,{"$f":"名簿男子!A97","v":96},{"$f":"名簿男子!C97","v":0},{"$f":"名簿男子!I97","v":0}]
[null,null,null,null,null,null,null,null,null,null,null,null,null,null,null,null,null,null,null,null,null,null,null,null,null,null,null,null,null,null,null,null,null,null,{"$f":"名簿男子!A98","v":97},{"$f":"名簿男子!C98","v":0},{"$f":"名簿男子!I98","v":0}]
[null,null,null,null,null,null,null,null,null,null,null,null,null,null,null,null,null,null,null,null,null,null,null,null,null,null,null,null,null,null,null,null,null,null,{"$f":"名簿男子!A99","v":98},{"$f":"名簿男子!C99","v":0},{"$f":"名簿男子!I99","v":0}]
[null,null,null,null,null,null,null,null,null,null,null,null,null,null,null,null,null,null,null,null,null,null,null,null,null,null,null,null,null,null,null,null,null,null,{"$f":"名簿男子!A100","v":99},{"$f":"名簿男子!C100","v":0},{"$f":"名簿男子!I100","v":0}]
[null,null,null,null,null,null,null,null,null,null,null,null,null,null,null,null,null,null,null,null,null,null,null,null,null,null,null,null,null,null,null,null,null,null,{"$f":"名簿男子!A101","v":100},{"$f":"名簿男子!C101","v":0},{"$f":"名簿男子!I101","v":0}]

{"sheet":"布勢システムコピー用女子","index":13,"n_rows":51,"n_cols":37,"rows_kept":51,"cut":false,"hidden":false,"merged":[]}
["ナンバー","氏　　　名","フリガナ","競技者名略称","性別","学年","生年","月日","個人所属地名","陸連コード","種目１","記録","参加競技-オープン参加FLG1","参加競技-記録FLG1","種目２","記録","参加競技-オープン参加FLG2","参加競技-記録FLG2","種目３","記録","参加競技-オープン参加FLG3","参加競技-記録FLG3","全学年4×100m","記録","参加競技-オープン参加FLG4","参加競技-記録FLG4","低学年4×100m","記録","参加競技-オープン参加FLG5","参加競技-記録FLG5",null,"種目１","種目２","種目３","番号","名前","種目"]
[{"$f":"IF($AF2=\"\",\"\",VLOOKUP($AF2,名簿女子!$A$2:$K$51,2))","v":0},{"$f":"IF($AF2=\"\",\"\",VLOOKUP($AF2,名簿女子!$A$2:$K$51,3))","v":0},{"$f":"IF($AF2=\"\",\"\",VLOOKUP($AF2,名簿女子!$A$2:$K$51,5))","v":0},null,{"$f":"IF($AF2=\"\",\"\",VLOOKUP($AF2,名簿女子!$A$2:$K$51,8))","v":"女"},{"$f":"IF($AF2=\"\",\"\",VLOOKUP($AF2,名簿女子!$A$2:$K$51,6))","v":0},null,null,null,null,{"$f":"IF($AF2=\"\",\"\",VLOOKUP($AF2,名簿女子!$A$2:$K$51,9))","v":0},{"$f":"IF($AF2=\"\",\"\",VLOOKUP($AF2,名簿女子!$A$2:$K$51,10))","v":0},null,null,{"$f":"IF($AG2=\"\",\"\",VLOOKUP($AG2,名簿女子!$A$2:$K$51,9))","v":""},{"$f":"IF($AG2=\"\",\"\",VLOOKUP($AG2,名簿女子!$A$2:$K$51,10))","v":""},null,null,{"$f":"IF($AH2=\"\",\"\",VLOOKUP($AH2,名簿女子!$A$2:$K$51,9))","v":""},{"$f":"IF($AH2=\"\",\"\",VLOOKUP($AH2,名簿女子!$A$2:$K$51,10))","v":""},null,null,null,null,null,null,null,null,null,null,null,1,null,null,{"$f":"名簿女子!A2","v":1},{"$f":"名簿女子!C2","v":0},{"$f":"名簿女子!I2","v":0}]
[{"$f":"IF($AF3=\"\",\"\",VLOOKUP($AF3,名簿女子!$A$2:$K$51,2))","v":""},{"$f":"IF($AF3=\"\",\"\",VLOOKUP($AF3,名簿女子!$A$2:$K$51,3))","v":""},{"$f":"IF($AF3=\"\",\"\",VLOOKUP($AF3,名簿女子!$A$2:$K$51,5))","v":""},null,{"$f":"IF($AF3=\"\",\"\",VLOOKUP($AF3,名簿女子!$A$2:$K$51,8))","v":""},{"$f":"IF($AF3=\"\",\"\",VLOOKUP($AF3,名簿女子!$A$2:$K$51,6))","v":""},null,null,null,null,{"$f":"IF($AF3=\"\",\"\",VLOOKUP($AF3,名簿女子!$A$2:$K$51,9))","v":""},{"$f":"IF($AF3=\"\",\"\",VLOOKUP($AF3,名簿女子!$A$2:$K$51,10))","v":""},null,null,{"$f":"IF($AG3=\"\",\"\",VLOOKUP($AG3,名簿女子!$A$2:$K$51,9))","v":""},{"$f":"IF($AG3=\"\",\"\",VLOOKUP($AG3,名簿女子!$A$2:$K$51,10))","v":""},null,null,{"$f":"IF($AH3=\"\",\"\",VLOOKUP($AH3,名簿女子!$A$2:$K$51,9))","v":""},{"$f":"IF($AH3=\"\",\"\",VLOOKUP($AH3,名簿女子!$A$2:$K$51,10))","v":""},null,null,null,null,null,null,null,null,null,null,null,null,null,null,{"$f":"名簿女子!A3","v":2},{"$f":"名簿女子!C3","v":0},{"$f":"名簿女子!I3","v":0}]
[{"$f":"IF($AF4=\"\",\"\",VLOOKUP($AF4,名簿女子!$A$2:$K$51,2))","v":""},{"$f":"IF($AF4=\"\",\"\",VLOOKUP($AF4,名簿女子!$A$2:$K$51,3))","v":""},{"$f":"IF($AF4=\"\",\"\",VLOOKUP($AF4,名簿女子!$A$2:$K$51,5))","v":""},null,{"$f":"IF($AF4=\"\",\"\",VLOOKUP($AF4,名簿女子!$A$2:$K$51,8))","v":""},{"$f":"IF($AF4=\"\",\"\",VLOOKUP($AF4,名簿女子!$A$2:$K$51,6))","v":""},null,null,null,null,{"$f":"IF($AF4=\"\",\"\",VLOOKUP($AF4,名簿女子!$A$2:$K$51,9))","v":""},{"$f":"IF($AF4=\"\",\"\",VLOOKUP($AF4,名簿女子!$A$2:$K$51,10))","v":""},null,null,{"$f":"IF($AG4=\"\",\"\",VLOOKUP($AG4,名簿女子!$A$2:$K$51,9))","v":""},{"$f":"IF($AG4=\"\",\"\",VLOOKUP($AG4,名簿女子!$A$2:$K$51,10))","v":""},null,null,{"$f":"IF($AH4=\"\",\"\",VLOOKUP($AH4,名簿女子!$A$2:$K$51,9))","v":""},{"$f":"IF($AH4=\"\",\"\",VLOOKUP($AH4,名簿女子!$A$2:$K$51,10))","v":""},null,null,null,null,null,null,null,null,null,null,null,null,null,null,{"$f":"名簿女子!A4","v":3},{"$f":"名簿女子!C4","v":0},{"$f":"名簿女子!I4","v":0}]
[{"$f":"IF($AF5=\"\",\"\",VLOOKUP($AF5,名簿女子!$A$2:$K$51,2))","v":""},{"$f":"IF($AF5=\"\",\"\",VLOOKUP($AF5,名簿女子!$A$2:$K$51,3))","v":""},{"$f":"IF($AF5=\"\",\"\",VLOOKUP($AF5,名簿女子!$A$2:$K$51,5))","v":""},null,{"$f":"IF($AF5=\"\",\"\",VLOOKUP($AF5,名簿女子!$A$2:$K$51,8))","v":""},{"$f":"IF($AF5=\"\",\"\",VLOOKUP($AF5,名簿女子!$A$2:$K$51,6))","v":""},null,null,null,null,{"$f":"IF($AF5=\"\",\"\",VLOOKUP($AF5,名簿女子!$A$2:$K$51,9))","v":""},{"$f":"IF($AF5=\"\",\"\",VLOOKUP($AF5,名簿女子!$A$2:$K$51,10))","v":""},null,null,{"$f":"IF($AG5=\"\",\"\",VLOOKUP($AG5,名簿女子!$A$2:$K$51,9))","v":""},{"$f":"IF($AG5=\"\",\"\",VLOOKUP($AG5,名簿女子!$A$2:$K$51,10))","v":""},null,null,{"$f":"IF($AH5=\"\",\"\",VLOOKUP($AH5,名簿女子!$A$2:$K$51,9))","v":""},{"$f":"IF($AH5=\"\",\"\",VLOOKUP($AH5,名簿女子!$A$2:$K$51,10))","v":""},null,null,null,null,null,null,null,null,null,null,null,null,null,null,{"$f":"名簿女子!A5","v":4},{"$f":"名簿女子!C5","v":0},{"$f":"名簿女子!I5","v":0}]
[{"$f":"IF($AF6=\"\",\"\",VLOOKUP($AF6,名簿女子!$A$2:$K$51,2))","v":""},{"$f":"IF($AF6=\"\",\"\",VLOOKUP($AF6,名簿女子!$A$2:$K$51,3))","v":""},{"$f":"IF($AF6=\"\",\"\",VLOOKUP($AF6,名簿女子!$A$2:$K$51,5))","v":""},null,{"$f":"IF($AF6=\"\",\"\",VLOOKUP($AF6,名簿女子!$A$2:$K$51,8))","v":""},{"$f":"IF($AF6=\"\",\"\",VLOOKUP($AF6,名簿女子!$A$2:$K$51,6))","v":""},null,null,null,null,{"$f":"IF($AF6=\"\",\"\",VLOOKUP($AF6,名簿女子!$A$2:$K$51,9))","v":""},{"$f":"IF($AF6=\"\",\"\",VLOOKUP($AF6,名簿女子!$A$2:$K$51,10))","v":""},null,null,{"$f":"IF($AG6=\"\",\"\",VLOOKUP($AG6,名簿女子!$A$2:$K$51,9))","v":""},{"$f":"IF($AG6=\"\",\"\",VLOOKUP($AG6,名簿女子!$A$2:$K$51,10))","v":""},null,null,{"$f":"IF($AH6=\"\",\"\",VLOOKUP($AH6,名簿女子!$A$2:$K$51,9))","v":""},{"$f":"IF($AH6=\"\",\"\",VLOOKUP($AH6,名簿女子!$A$2:$K$51,10))","v":""},null,null,null,null,null,null,null,null,null,null,null,null,null,null,{"$f":"名簿女子!A6","v":5},{"$f":"名簿女子!C6","v":0},{"$f":"名簿女子!I6","v":0}]
[{"$f":"IF($AF7=\"\",\"\",VLOOKUP($AF7,名簿女子!$A$2:$K$51,2))","v":""},{"$f":"IF($AF7=\"\",\"\",VLOOKUP($AF7,名簿女子!$A$2:$K$51,3))","v":""},{"$f":"IF($AF7=\"\",\"\",VLOOKUP($AF7,名簿女子!$A$2:$K$51,5))","v":""},null,{"$f":"IF($AF7=\"\",\"\",VLOOKUP($AF7,名簿女子!$A$2:$K$51,8))","v":""},{"$f":"IF($AF7=\"\",\"\",VLOOKUP($AF7,名簿女子!$A$2:$K$51,6))","v":""},null,null,null,null,{"$f":"IF($AF7=\"\",\"\",VLOOKUP($AF7,名簿女子!$A$2:$K$51,9))","v":""},{"$f":"IF($AF7=\"\",\"\",VLOOKUP($AF7,名簿女子!$A$2:$K$51,10))","v":""},null,null,{"$f":"IF($AG7=\"\",\"\",VLOOKUP($AG7,名簿女子!$A$2:$K$51,9))","v":""},{"$f":"IF($AG7=\"\",\"\",VLOOKUP($AG7,名簿女子!$A$2:$K$51,10))","v":""},null,null,{"$f":"IF($AH7=\"\",\"\",VLOOKUP($AH7,名簿女子!$A$2:$K$51,9))","v":""},{"$f":"IF($AH7=\"\",\"\",VLOOKUP($AH7,名簿女子!$A$2:$K$51,10))","v":""},null,null,null,null,null,null,null,null,null,null,null,null,null,null,{"$f":"名簿女子!A7","v":6},{"$f":"名簿女子!C7","v":0},{"$f":"名簿女子!I7","v":0}]
[{"$f":"IF($AF8=\"\",\"\",VLOOKUP($AF8,名簿女子!$A$2:$K$51,2))","v":""},{"$f":"IF($AF8=\"\",\"\",VLOOKUP($AF8,名簿女子!$A$2:$K$51,3))","v":""},{"$f":"IF($AF8=\"\",\"\",VLOOKUP($AF8,名簿女子!$A$2:$K$51,5))","v":""},null,{"$f":"IF($AF8=\"\",\"\",VLOOKUP($AF8,名簿女子!$A$2:$K$51,8))","v":""},{"$f":"IF($AF8=\"\",\"\",VLOOKUP($AF8,名簿女子!$A$2:$K$51,6))","v":""},null,null,null,null,{"$f":"IF($AF8=\"\",\"\",VLOOKUP($AF8,名簿女子!$A$2:$K$51,9))","v":""},{"$f":"IF($AF8=\"\",\"\",VLOOKUP($AF8,名簿女子!$A$2:$K$51,10))","v":""},null,null,{"$f":"IF($AG8=\"\",\"\",VLOOKUP($AG8,名簿女子!$A$2:$K$51,9))","v":""},{"$f":"IF($AG8=\"\",\"\",VLOOKUP($AG8,名簿女子!$A$2:$K$51,10))","v":""},null,null,{"$f":"IF($AH8=\"\",\"\",VLOOKUP($AH8,名簿女子!$A$2:$K$51,9))","v":""},{"$f":"IF($AH8=\"\",\"\",VLOOKUP($AH8,名簿女子!$A$2:$K$51,10))","v":""},null,null,null,null,null,null,null,null,null,null,null,null,null,null,{"$f":"名簿女子!A8","v":7},{"$f":"名簿女子!C8","v":0},{"$f":"名簿女子!I8","v":0}]
[{"$f":"IF($AF9=\"\",\"\",VLOOKUP($AF9,名簿女子!$A$2:$K$51,2))","v":""},{"$f":"IF($AF9=\"\",\"\",VLOOKUP($AF9,名簿女子!$A$2:$K$51,3))","v":""},{"$f":"IF($AF9=\"\",\"\",VLOOKUP($AF9,名簿女子!$A$2:$K$51,5))","v":""},null,{"$f":"IF($AF9=\"\",\"\",VLOOKUP($AF9,名簿女子!$A$2:$K$51,8))","v":""},{"$f":"IF($AF9=\"\",\"\",VLOOKUP($AF9,名簿女子!$A$2:$K$51,6))","v":""},null,null,null,null,{"$f":"IF($AF9=\"\",\"\",VLOOKUP($AF9,名簿女子!$A$2:$K$51,9))","v":""},{"$f":"IF($AF9=\"\",\"\",VLOOKUP($AF9,名簿女子!$A$2:$K$51,10))","v":""},null,null,{"$f":"IF($AG9=\"\",\"\",VLOOKUP($AG9,名簿女子!$A$2:$K$51,9))","v":""},{"$f":"IF($AG9=\"\",\"\",VLOOKUP($AG9,名簿女子!$A$2:$K$51,10))","v":""},null,null,{"$f":"IF($AH9=\"\",\"\",VLOOKUP($AH9,名簿女子!$A$2:$K$51,9))","v":""},{"$f":"IF($AH9=\"\",\"\",VLOOKUP($AH9,名簿女子!$A$2:$K$51,10))","v":""},null,null,null,null,null,null,null,null,null,null,null,null,null,null,{"$f":"名簿女子!A9","v":8},{"$f":"名簿女子!C9","v":0},{"$f":"名簿女子!I9","v":0}]
[{"$f":"IF($AF10=\"\",\"\",VLOOKUP($AF10,名簿女子!$A$2:$K$51,2))","v":""},{"$f":"IF($AF10=\"\",\"\",VLOOKUP($AF10,名簿女子!$A$2:$K$51,3))","v":""},{"$f":"IF($AF10=\"\",\"\",VLOOKUP($AF10,名簿女子!$A$2:$K$51,5))","v":""},null,{"$f":"IF($AF10=\"\",\"\",VLOOKUP($AF10,名簿女子!$A$2:$K$51,8))","v":""},{"$f":"IF($AF10=\"\",\"\",VLOOKUP($AF10,名簿女子!$A$2:$K$51,6))","v":""},null,null,null,null,{"$f":"IF($AF10=\"\",\"\",VLOOKUP($AF10,名簿女子!$A$2:$K$51,9))","v":""},{"$f":"IF($AF10=\"\",\"\",VLOOKUP($AF10,名簿女子!$A$2:$K$51,10))","v":""},null,null,{"$f":"IF($AG10=\"\",\"\",VLOOKUP($AG10,名簿女子!$A$2:$K$51,9))","v":""},{"$f":"IF($AG10=\"\",\"\",VLOOKUP($AG10,名簿女子!$A$2:$K$51,10))","v":""},null,null,{"$f":"IF($AH10=\"\",\"\",VLOOKUP($AH10,名簿女子!$A$2:$K$51,9))","v":""},{"$f":"IF($AH10=\"\",\"\",VLOOKUP($AH10,名簿女子!$A$2:$K$51,10))","v":""},null,null,null,null,null,null,null,null,null,null,null,null,null,null,{"$f":"名簿女子!A10","v":9},{"$f":"名簿女子!C10","v":0},{"$f":"名簿女子!I10","v":0}]
[{"$f":"IF($AF11=\"\",\"\",VLOOKUP($AF11,名簿女子!$A$2:$K$51,2))","v":""},{"$f":"IF($AF11=\"\",\"\",VLOOKUP($AF11,名簿女子!$A$2:$K$51,3))","v":""},{"$f":"IF($AF11=\"\",\"\",VLOOKUP($AF11,名簿女子!$A$2:$K$51,5))","v":""},null,{"$f":"IF($AF11=\"\",\"\",VLOOKUP($AF11,名簿女子!$A$2:$K$51,8))","v":""},{"$f":"IF($AF11=\"\",\"\",VLOOKUP($AF11,名簿女子!$A$2:$K$51,6))","v":""},null,null,null,null,{"$f":"IF($AF11=\"\",\"\",VLOOKUP($AF11,名簿女子!$A$2:$K$51,9))","v":""},{"$f":"IF($AF11=\"\",\"\",VLOOKUP($AF11,名簿女子!$A$2:$K$51,10))","v":""},null,null,{"$f":"IF($AG11=\"\",\"\",VLOOKUP($AG11,名簿女子!$A$2:$K$51,9))","v":""},{"$f":"IF($AG11=\"\",\"\",VLOOKUP($AG11,名簿女子!$A$2:$K$51,10))","v":""},null,null,{"$f":"IF($AH11=\"\",\"\",VLOOKUP($AH11,名簿女子!$A$2:$K$51,9))","v":""},{"$f":"IF($AH11=\"\",\"\",VLOOKUP($AH11,名簿女子!$A$2:$K$51,10))","v":""},null,null,null,null,null,null,null,null,null,null,null,null,null,null,{"$f":"名簿女子!A11","v":10},{"$f":"名簿女子!C11","v":0},{"$f":"名簿女子!I11","v":0}]
[{"$f":"IF($AF12=\"\",\"\",VLOOKUP($AF12,名簿女子!$A$2:$K$51,2))","v":""},{"$f":"IF($AF12=\"\",\"\",VLOOKUP($AF12,名簿女子!$A$2:$K$51,3))","v":""},{"$f":"IF($AF12=\"\",\"\",VLOOKUP($AF12,名簿女子!$A$2:$K$51,5))","v":""},null,{"$f":"IF($AF12=\"\",\"\",VLOOKUP($AF12,名簿女子!$A$2:$K$51,8))","v":""},{"$f":"IF($AF12=\"\",\"\",VLOOKUP($AF12,名簿女子!$A$2:$K$51,6))","v":""},null,null,null,null,{"$f":"IF($AF12=\"\",\"\",VLOOKUP($AF12,名簿女子!$A$2:$K$51,9))","v":""},{"$f":"IF($AF12=\"\",\"\",VLOOKUP($AF12,名簿女子!$A$2:$K$51,10))","v":""},null,null,{"$f":"IF($AG12=\"\",\"\",VLOOKUP($AG12,名簿女子!$A$2:$K$51,9))","v":""},{"$f":"IF($AG12=\"\",\"\",VLOOKUP($AG12,名簿女子!$A$2:$K$51,10))","v":""},null,null,{"$f":"IF($AH12=\"\",\"\",VLOOKUP($AH12,名簿女子!$A$2:$K$51,9))","v":""},{"$f":"IF($AH12=\"\",\"\",VLOOKUP($AH12,名簿女子!$A$2:$K$51,10))","v":""},null,null,null,null,null,null,null,null,null,null,null,null,null,null,{"$f":"名簿女子!A12","v":11},{"$f":"名簿女子!C12","v":0},{"$f":"名簿女子!I12","v":0}]
[{"$f":"IF($AF13=\"\",\"\",VLOOKUP($AF13,名簿女子!$A$2:$K$51,2))","v":""},{"$f":"IF($AF13=\"\",\"\",VLOOKUP($AF13,名簿女子!$A$2:$K$51,3))","v":""},{"$f":"IF($AF13=\"\",\"\",VLOOKUP($AF13,名簿女子!$A$2:$K$51,5))","v":""},null,{"$f":"IF($AF13=\"\",\"\",VLOOKUP($AF13,名簿女子!$A$2:$K$51,8))","v":""},{"$f":"IF($AF13=\"\",\"\",VLOOKUP($AF13,名簿女子!$A$2:$K$51,6))","v":""},null,null,null,null,{"$f":"IF($AF13=\"\",\"\",VLOOKUP($AF13,名簿女子!$A$2:$K$51,9))","v":""},{"$f":"IF($AF13=\"\",\"\",VLOOKUP($AF13,名簿女子!$A$2:$K$51,10))","v":""},null,null,{"$f":"IF($AG13=\"\",\"\",VLOOKUP($AG13,名簿女子!$A$2:$K$51,9))","v":""},{"$f":"IF($AG13=\"\",\"\",VLOOKUP($AG13,名簿女子!$A$2:$K$51,10))","v":""},null,null,{"$f":"IF($AH13=\"\",\"\",VLOOKUP($AH13,名簿女子!$A$2:$K$51,9))","v":""},{"$f":"IF($AH13=\"\",\"\",VLOOKUP($AH13,名簿女子!$A$2:$K$51,10))","v":""},null,null,null,null,null,null,null,null,null,null,null,null,null,null,{"$f":"名簿女子!A13","v":12},{"$f":"名簿女子!C13","v":0},{"$f":"名簿女子!I13","v":0}]
[{"$f":"IF($AF14=\"\",\"\",VLOOKUP($AF14,名簿女子!$A$2:$K$51,2))","v":""},{"$f":"IF($AF14=\"\",\"\",VLOOKUP($AF14,名簿女子!$A$2:$K$51,3))","v":""},{"$f":"IF($AF14=\"\",\"\",VLOOKUP($AF14,名簿女子!$A$2:$K$51,5))","v":""},null,{"$f":"IF($AF14=\"\",\"\",VLOOKUP($AF14,名簿女子!$A$2:$K$51,8))","v":""},{"$f":"IF($AF14=\"\",\"\",VLOOKUP($AF14,名簿女子!$A$2:$K$51,6))","v":""},null,null,null,null,{"$f":"IF($AF14=\"\",\"\",VLOOKUP($AF14,名簿女子!$A$2:$K$51,9))","v":""},{"$f":"IF($AF14=\"\",\"\",VLOOKUP($AF14,名簿女子!$A$2:$K$51,10))","v":""},null,null,{"$f":"IF($AG14=\"\",\"\",VLOOKUP($AG14,名簿女子!$A$2:$K$51,9))","v":""},{"$f":"IF($AG14=\"\",\"\",VLOOKUP($AG14,名簿女子!$A$2:$K$51,10))","v":""},null,null,{"$f":"IF($AH14=\"\",\"\",VLOOKUP($AH14,名簿女子!$A$2:$K$51,9))","v":""},{"$f":"IF($AH14=\"\",\"\",VLOOKUP($AH14,名簿女子!$A$2:$K$51,10))","v":""},null,null,null,null,null,null,null,null,null,null,null,null,null,null,{"$f":"名簿女子!A14","v":13},{"$f":"名簿女子!C14","v":0},{"$f":"名簿女子!I14","v":0}]
[{"$f":"IF($AF15=\"\",\"\",VLOOKUP($AF15,名簿女子!$A$2:$K$51,2))","v":""},{"$f":"IF($AF15=\"\",\"\",VLOOKUP($AF15,名簿女子!$A$2:$K$51,3))","v":""},{"$f":"IF($AF15=\"\",\"\",VLOOKUP($AF15,名簿女子!$A$2:$K$51,5))","v":""},null,{"$f":"IF($AF15=\"\",\"\",VLOOKUP($AF15,名簿女子!$A$2:$K$51,8))","v":""},{"$f":"IF($AF15=\"\",\"\",VLOOKUP($AF15,名簿女子!$A$2:$K$51,6))","v":""},null,null,null,null,{"$f":"IF($AF15=\"\",\"\",VLOOKUP($AF15,名簿女子!$A$2:$K$51,9))","v":""},{"$f":"IF($AF15=\"\",\"\",VLOOKUP($AF15,名簿女子!$A$2:$K$51,10))","v":""},null,null,{"$f":"IF($AG15=\"\",\"\",VLOOKUP($AG15,名簿女子!$A$2:$K$51,9))","v":""},{"$f":"IF($AG15=\"\",\"\",VLOOKUP($AG15,名簿女子!$A$2:$K$51,10))","v":""},null,null,{"$f":"IF($AH15=\"\",\"\",VLOOKUP($AH15,名簿女子!$A$2:$K$51,9))","v":""},{"$f":"IF($AH15=\"\",\"\",VLOOKUP($AH15,名簿女子!$A$2:$K$51,10))","v":""},null,null,null,null,null,null,null,null,null,null,null,null,null,null,{"$f":"名簿女子!A15","v":14},{"$f":"名簿女子!C15","v":0},{"$f":"名簿女子!I15","v":0}]
[{"$f":"IF($AF16=\"\",\"\",VLOOKUP($AF16,名簿女子!$A$2:$K$51,2))","v":""},{"$f":"IF($AF16=\"\",\"\",VLOOKUP($AF16,名簿女子!$A$2:$K$51,3))","v":""},{"$f":"IF($AF16=\"\",\"\",VLOOKUP($AF16,名簿女子!$A$2:$K$51,5))","v":""},null,{"$f":"IF($AF16=\"\",\"\",VLOOKUP($AF16,名簿女子!$A$2:$K$51,8))","v":""},{"$f":"IF($AF16=\"\",\"\",VLOOKUP($AF16,名簿女子!$A$2:$K$51,6))","v":""},null,null,null,null,{"$f":"IF($AF16=\"\",\"\",VLOOKUP($AF16,名簿女子!$A$2:$K$51,9))","v":""},{"$f":"IF($AF16=\"\",\"\",VLOOKUP($AF16,名簿女子!$A$2:$K$51,10))","v":""},null,null,{"$f":"IF($AG16=\"\",\"\",VLOOKUP($AG16,名簿女子!$A$2:$K$51,9))","v":""},{"$f":"IF($AG16=\"\",\"\",VLOOKUP($AG16,名簿女子!$A$2:$K$51,10))","v":""},null,null,{"$f":"IF($AH16=\"\",\"\",VLOOKUP($AH16,名簿女子!$A$2:$K$51,9))","v":""},{"$f":"IF($AH16=\"\",\"\",VLOOKUP($AH16,名簿女子!$A$2:$K$51,10))","v":""},null,null,null,null,null,null,null,null,null,null,null,null,null,null,{"$f":"名簿女子!A16","v":15},{"$f":"名簿女子!C16","v":0},{"$f":"名簿女子!I16","v":0}]
[{"$f":"IF($AF17=\"\",\"\",VLOOKUP($AF17,名簿女子!$A$2:$K$51,2))","v":""},{"$f":"IF($AF17=\"\",\"\",VLOOKUP($AF17,名簿女子!$A$2:$K$51,3))","v":""},{"$f":"IF($AF17=\"\",\"\",VLOOKUP($AF17,名簿女子!$A$2:$K$51,5))","v":""},null,{"$f":"IF($AF17=\"\",\"\",VLOOKUP($AF17,名簿女子!$A$2:$K$51,8))","v":""},{"$f":"IF($AF17=\"\",\"\",VLOOKUP($AF17,名簿女子!$A$2:$K$51,6))","v":""},null,null,null,null,{"$f":"IF($AF17=\"\",\"\",VLOOKUP($AF17,名簿女子!$A$2:$K$51,9))","v":""},{"$f":"IF($AF17=\"\",\"\",VLOOKUP($AF17,名簿女子!$A$2:$K$51,10))","v":""},null,null,{"$f":"IF($AG17=\"\",\"\",VLOOKUP($AG17,名簿女子!$A$2:$K$51,9))","v":""},{"$f":"IF($AG17=\"\",\"\",VLOOKUP($AG17,名簿女子!$A$2:$K$51,10))","v":""},null,null,{"$f":"IF($AH17=\"\",\"\",VLOOKUP($AH17,名簿女子!$A$2:$K$51,9))","v":""},{"$f":"IF($AH17=\"\",\"\",VLOOKUP($AH17,名簿女子!$A$2:$K$51,10))","v":""},null,null,null,null,null,null,null,null,null,null,null,null,null,null,{"$f":"名簿女子!A17","v":16},{"$f":"名簿女子!C17","v":0},{"$f":"名簿女子!I17","v":0}]
[{"$f":"IF($AF18=\"\",\"\",VLOOKUP($AF18,名簿女子!$A$2:$K$51,2))","v":""},{"$f":"IF($AF18=\"\",\"\",VLOOKUP($AF18,名簿女子!$A$2:$K$51,3))","v":""},{"$f":"IF($AF18=\"\",\"\",VLOOKUP($AF18,名簿女子!$A$2:$K$51,5))","v":""},null,{"$f":"IF($AF18=\"\",\"\",VLOOKUP($AF18,名簿女子!$A$2:$K$51,8))","v":""},{"$f":"IF($AF18=\"\",\"\",VLOOKUP($AF18,名簿女子!$A$2:$K$51,6))","v":""},null,null,null,null,{"$f":"IF($AF18=\"\",\"\",VLOOKUP($AF18,名簿女子!$A$2:$K$51,9))","v":""},{"$f":"IF($AF18=\"\",\"\",VLOOKUP($AF18,名簿女子!$A$2:$K$51,10))","v":""},null,null,{"$f":"IF($AG18=\"\",\"\",VLOOKUP($AG18,名簿女子!$A$2:$K$51,9))","v":""},{"$f":"IF($AG18=\"\",\"\",VLOOKUP($AG18,名簿女子!$A$2:$K$51,10))","v":""},null,null,{"$f":"IF($AH18=\"\",\"\",VLOOKUP($AH18,名簿女子!$A$2:$K$51,9))","v":""},{"$f":"IF($AH18=\"\",\"\",VLOOKUP($AH18,名簿女子!$A$2:$K$51,10))","v":""},null,null,null,null,null,null,null,null,null,null,null,null,null,null,{"$f":"名簿女子!A18","v":17},{"$f":"名簿女子!C18","v":0},{"$f":"名簿女子!I18","v":0}]
[{"$f":"IF($AF19=\"\",\"\",VLOOKUP($AF19,名簿女子!$A$2:$K$51,2))","v":""},{"$f":"IF($AF19=\"\",\"\",VLOOKUP($AF19,名簿女子!$A$2:$K$51,3))","v":""},{"$f":"IF($AF19=\"\",\"\",VLOOKUP($AF19,名簿女子!$A$2:$K$51,5))","v":""},null,{"$f":"IF($AF19=\"\",\"\",VLOOKUP($AF19,名簿女子!$A$2:$K$51,8))","v":""},{"$f":"IF($AF19=\"\",\"\",VLOOKUP($AF19,名簿女子!$A$2:$K$51,6))","v":""},null,null,null,null,{"$f":"IF($AF19=\"\",\"\",VLOOKUP($AF19,名簿女子!$A$2:$K$51,9))","v":""},{"$f":"IF($AF19=\"\",\"\",VLOOKUP($AF19,名簿女子!$A$2:$K$51,10))","v":""},null,null,{"$f":"IF($AG19=\"\",\"\",VLOOKUP($AG19,名簿女子!$A$2:$K$51,9))","v":""},{"$f":"IF($AG19=\"\",\"\",VLOOKUP($AG19,名簿女子!$A$2:$K$51,10))","v":""},null,null,{"$f":"IF($AH19=\"\",\"\",VLOOKUP($AH19,名簿女子!$A$2:$K$51,9))","v":""},{"$f":"IF($AH19=\"\",\"\",VLOOKUP($AH19,名簿女子!$A$2:$K$51,10))","v":""},null,null,null,null,null,null,null,null,null,null,null,null,null,null,{"$f":"名簿女子!A19","v":18},{"$f":"名簿女子!C19","v":0},{"$f":"名簿女子!I19","v":0}]
[{"$f":"IF($AF20=\"\",\"\",VLOOKUP($AF20,名簿女子!$A$2:$K$51,2))","v":""},{"$f":"IF($AF20=\"\",\"\",VLOOKUP($AF20,名簿女子!$A$2:$K$51,3))","v":""},{"$f":"IF($AF20=\"\",\"\",VLOOKUP($AF20,名簿女子!$A$2:$K$51,5))","v":""},null,{"$f":"IF($AF20=\"\",\"\",VLOOKUP($AF20,名簿女子!$A$2:$K$51,8))","v":""},{"$f":"IF($AF20=\"\",\"\",VLOOKUP($AF20,名簿女子!$A$2:$K$51,6))","v":""},null,null,null,null,{"$f":"IF($AF20=\"\",\"\",VLOOKUP($AF20,名簿女子!$A$2:$K$51,9))","v":""},{"$f":"IF($AF20=\"\",\"\",VLOOKUP($AF20,名簿女子!$A$2:$K$51,10))","v":""},null,null,{"$f":"IF($AG20=\"\",\"\",VLOOKUP($AG20,名簿女子!$A$2:$K$51,9))","v":""},{"$f":"IF($AG20=\"\",\"\",VLOOKUP($AG20,名簿女子!$A$2:$K$51,10))","v":""},null,null,{"$f":"IF($AH20=\"\",\"\",VLOOKUP($AH20,名簿女子!$A$2:$K$51,9))","v":""},{"$f":"IF($AH20=\"\",\"\",VLOOKUP($AH20,名簿女子!$A$2:$K$51,10))","v":""},null,null,null,null,null,null,null,null,null,null,null,null,null,null,{"$f":"名簿女子!A20","v":19},{"$f":"名簿女子!C20","v":0},{"$f":"名簿女子!I20","v":0}]
[{"$f":"IF($AF21=\"\",\"\",VLOOKUP($AF21,名簿女子!$A$2:$K$51,2))","v":""},{"$f":"IF($AF21=\"\",\"\",VLOOKUP($AF21,名簿女子!$A$2:$K$51,3))","v":""},{"$f":"IF($AF21=\"\",\"\",VLOOKUP($AF21,名簿女子!$A$2:$K$51,5))","v":""},null,{"$f":"IF($AF21=\"\",\"\",VLOOKUP($AF21,名簿女子!$A$2:$K$51,8))","v":""},{"$f":"IF($AF21=\"\",\"\",VLOOKUP($AF21,名簿女子!$A$2:$K$51,6))","v":""},null,null,null,null,{"$f":"IF($AF21=\"\",\"\",VLOOKUP($AF21,名簿女子!$A$2:$K$51,9))","v":""},{"$f":"IF($AF21=\"\",\"\",VLOOKUP($AF21,名簿女子!$A$2:$K$51,10))","v":""},null,null,{"$f":"IF($AG21=\"\",\"\",VLOOKUP($AG21,名簿女子!$A$2:$K$51,9))","v":""},{"$f":"IF($AG21=\"\",\"\",VLOOKUP($AG21,名簿女子!$A$2:$K$51,10))","v":""},null,null,{"$f":"IF($AH21=\"\",\"\",VLOOKUP($AH21,名簿女子!$A$2:$K$51,9))","v":""},{"$f":"IF($AH21=\"\",\"\",VLOOKUP($AH21,名簿女子!$A$2:$K$51,10))","v":""},null,null,null,null,null,null,null,null,null,null,null,null,null,null,{"$f":"名簿女子!A21","v":20},{"$f":"名簿女子!C21","v":0},{"$f":"名簿女子!I21","v":0}]
[{"$f":"IF($AF22=\"\",\"\",VLOOKUP($AF22,名簿女子!$A$2:$K$51,2))","v":""},{"$f":"IF($AF22=\"\",\"\",VLOOKUP($AF22,名簿女子!$A$2:$K$51,3))","v":""},{"$f":"IF($AF22=\"\",\"\",VLOOKUP($AF22,名簿女子!$A$2:$K$51,5))","v":""},null,{"$f":"IF($AF22=\"\",\"\",VLOOKUP($AF22,名簿女子!$A$2:$K$51,8))","v":""},{"$f":"IF($AF22=\"\",\"\",VLOOKUP($AF22,名簿女子!$A$2:$K$51,6))","v":""},null,null,null,null,{"$f":"IF($AF22=\"\",\"\",VLOOKUP($AF22,名簿女子!$A$2:$K$51,9))","v":""},{"$f":"IF($AF22=\"\",\"\",VLOOKUP($AF22,名簿女子!$A$2:$K$51,10))","v":""},null,null,{"$f":"IF($AG22=\"\",\"\",VLOOKUP($AG22,名簿女子!$A$2:$K$51,9))","v":""},{"$f":"IF($AG22=\"\",\"\",VLOOKUP($AG22,名簿女子!$A$2:$K$51,10))","v":""},null,null,{"$f":"IF($AH22=\"\",\"\",VLOOKUP($AH22,名簿女子!$A$2:$K$51,9))","v":""},{"$f":"IF($AH22=\"\",\"\",VLOOKUP($AH22,名簿女子!$A$2:$K$51,10))","v":""},null,null,null,null,null,null,null,null,null,null,null,null,null,null,{"$f":"名簿女子!A22","v":21},{"$f":"名簿女子!C22","v":0},{"$f":"名簿女子!I22","v":0}]
[{"$f":"IF($AF23=\"\",\"\",VLOOKUP($AF23,名簿女子!$A$2:$K$51,2))","v":""},{"$f":"IF($AF23=\"\",\"\",VLOOKUP($AF23,名簿女子!$A$2:$K$51,3))","v":""},{"$f":"IF($AF23=\"\",\"\",VLOOKUP($AF23,名簿女子!$A$2:$K$51,5))","v":""},null,{"$f":"IF($AF23=\"\",\"\",VLOOKUP($AF23,名簿女子!$A$2:$K$51,8))","v":""},{"$f":"IF($AF23=\"\",\"\",VLOOKUP($AF23,名簿女子!$A$2:$K$51,6))","v":""},null,null,null,null,{"$f":"IF($AF23=\"\",\"\",VLOOKUP($AF23,名簿女子!$A$2:$K$51,9))","v":""},{"$f":"IF($AF23=\"\",\"\",VLOOKUP($AF23,名簿女子!$A$2:$K$51,10))","v":""},null,null,{"$f":"IF($AG23=\"\",\"\",VLOOKUP($AG23,名簿女子!$A$2:$K$51,9))","v":""},{"$f":"IF($AG23=\"\",\"\",VLOOKUP($AG23,名簿女子!$A$2:$K$51,10))","v":""},null,null,{"$f":"IF($AH23=\"\",\"\",VLOOKUP($AH23,名簿女子!$A$2:$K$51,9))","v":""},{"$f":"IF($AH23=\"\",\"\",VLOOKUP($AH23,名簿女子!$A$2:$K$51,10))","v":""},null,null,null,null,null,null,null,null,null,null,null,null,null,null,{"$f":"名簿女子!A23","v":22},{"$f":"名簿女子!C23","v":0},{"$f":"名簿女子!I23","v":0}]
[{"$f":"IF($AF24=\"\",\"\",VLOOKUP($AF24,名簿女子!$A$2:$K$51,2))","v":""},{"$f":"IF($AF24=\"\",\"\",VLOOKUP($AF24,名簿女子!$A$2:$K$51,3))","v":""},{"$f":"IF($AF24=\"\",\"\",VLOOKUP($AF24,名簿女子!$A$2:$K$51,5))","v":""},null,{"$f":"IF($AF24=\"\",\"\",VLOOKUP($AF24,名簿女子!$A$2:$K$51,8))","v":""},{"$f":"IF($AF24=\"\",\"\",VLOOKUP($AF24,名簿女子!$A$2:$K$51,6))","v":""},null,null,null,null,{"$f":"IF($AF24=\"\",\"\",VLOOKUP($AF24,名簿女子!$A$2:$K$51,9))","v":""},{"$f":"IF($AF24=\"\",\"\",VLOOKUP($AF24,名簿女子!$A$2:$K$51,10))","v":""},null,null,{"$f":"IF($AG24=\"\",\"\",VLOOKUP($AG24,名簿女子!$A$2:$K$51,9))","v":""},{"$f":"IF($AG24=\"\",\"\",VLOOKUP($AG24,名簿女子!$A$2:$K$51,10))","v":""},null,null,{"$f":"IF($AH24=\"\",\"\",VLOOKUP($AH24,名簿女子!$A$2:$K$51,9))","v":""},{"$f":"IF($AH24=\"\",\"\",VLOOKUP($AH24,名簿女子!$A$2:$K$51,10))","v":""},null,null,null,null,null,null,null,null,null,null,null,null,null,null,{"$f":"名簿女子!A24","v":23},{"$f":"名簿女子!C24","v":0},{"$f":"名簿女子!I24","v":0}]
[{"$f":"IF($AF25=\"\",\"\",VLOOKUP($AF25,名簿女子!$A$2:$K$51,2))","v":""},{"$f":"IF($AF25=\"\",\"\",VLOOKUP($AF25,名簿女子!$A$2:$K$51,3))","v":""},{"$f":"IF($AF25=\"\",\"\",VLOOKUP($AF25,名簿女子!$A$2:$K$51,5))","v":""},null,{"$f":"IF($AF25=\"\",\"\",VLOOKUP($AF25,名簿女子!$A$2:$K$51,8))","v":""},{"$f":"IF($AF25=\"\",\"\",VLOOKUP($AF25,名簿女子!$A$2:$K$51,6))","v":""},null,null,null,null,{"$f":"IF($AF25=\"\",\"\",VLOOKUP($AF25,名簿女子!$A$2:$K$51,9))","v":""},{"$f":"IF($AF25=\"\",\"\",VLOOKUP($AF25,名簿女子!$A$2:$K$51,10))","v":""},null,null,{"$f":"IF($AG25=\"\",\"\",VLOOKUP($AG25,名簿女子!$A$2:$K$51,9))","v":""},{"$f":"IF($AG25=\"\",\"\",VLOOKUP($AG25,名簿女子!$A$2:$K$51,10))","v":""},null,null,{"$f":"IF($AH25=\"\",\"\",VLOOKUP($AH25,名簿女子!$A$2:$K$51,9))","v":""},{"$f":"IF($AH25=\"\",\"\",VLOOKUP($AH25,名簿女子!$A$2:$K$51,10))","v":""},null,null,null,null,null,null,null,null,null,null,null,null,null,null,{"$f":"名簿女子!A25","v":24},{"$f":"名簿女子!C25","v":0},{"$f":"名簿女子!I25","v":0}]
[{"$f":"IF($AF26=\"\",\"\",VLOOKUP($AF26,名簿女子!$A$2:$K$51,2))","v":""},{"$f":"IF($AF26=\"\",\"\",VLOOKUP($AF26,名簿女子!$A$2:$K$51,3))","v":""},{"$f":"IF($AF26=\"\",\"\",VLOOKUP($AF26,名簿女子!$A$2:$K$51,5))","v":""},null,{"$f":"IF($AF26=\"\",\"\",VLOOKUP($AF26,名簿女子!$A$2:$K$51,8))","v":""},{"$f":"IF($AF26=\"\",\"\",VLOOKUP($AF26,名簿女子!$A$2:$K$51,6))","v":""},null,null,null,null,{"$f":"IF($AF26=\"\",\"\",VLOOKUP($AF26,名簿女子!$A$2:$K$51,9))","v":""},{"$f":"IF($AF26=\"\",\"\",VLOOKUP($AF26,名簿女子!$A$2:$K$51,10))","v":""},null,null,{"$f":"IF($AG26=\"\",\"\",VLOOKUP($AG26,名簿女子!$A$2:$K$51,9))","v":""},{"$f":"IF($AG26=\"\",\"\",VLOOKUP($AG26,名簿女子!$A$2:$K$51,10))","v":""},null,null,{"$f":"IF($AH26=\"\",\"\",VLOOKUP($AH26,名簿女子!$A$2:$K$51,9))","v":""},{"$f":"IF($AH26=\"\",\"\",VLOOKUP($AH26,名簿女子!$A$2:$K$51,10))","v":""},null,null,null,null,null,null,null,null,null,null,null,null,null,null,{"$f":"名簿女子!A26","v":25},{"$f":"名簿女子!C26","v":0},{"$f":"名簿女子!I26","v":0}]
[{"$f":"IF($AF27=\"\",\"\",VLOOKUP($AF27,名簿女子!$A$2:$K$51,2))","v":""},{"$f":"IF($AF27=\"\",\"\",VLOOKUP($AF27,名簿女子!$A$2:$K$51,3))","v":""},{"$f":"IF($AF27=\"\",\"\",VLOOKUP($AF27,名簿女子!$A$2:$K$51,5))","v":""},null,{"$f":"IF($AF27=\"\",\"\",VLOOKUP($AF27,名簿女子!$A$2:$K$51,8))","v":""},{"$f":"IF($AF27=\"\",\"\",VLOOKUP($AF27,名簿女子!$A$2:$K$51,6))","v":""},null,null,null,null,{"$f":"IF($AF27=\"\",\"\",VLOOKUP($AF27,名簿女子!$A$2:$K$51,9))","v":""},{"$f":"IF($AF27=\"\",\"\",VLOOKUP($AF27,名簿女子!$A$2:$K$51,10))","v":""},null,null,{"$f":"IF($AG27=\"\",\"\",VLOOKUP($AG27,名簿女子!$A$2:$K$51,9))","v":""},{"$f":"IF($AG27=\"\",\"\",VLOOKUP($AG27,名簿女子!$A$2:$K$51,10))","v":""},null,null,{"$f":"IF($AH27=\"\",\"\",VLOOKUP($AH27,名簿女子!$A$2:$K$51,9))","v":""},{"$f":"IF($AH27=\"\",\"\",VLOOKUP($AH27,名簿女子!$A$2:$K$51,10))","v":""},null,null,null,null,null,null,null,null,null,null,null,null,null,null,{"$f":"名簿女子!A27","v":26},{"$f":"名簿女子!C27","v":0},{"$f":"名簿女子!I27","v":0}]
[{"$f":"IF($AF28=\"\",\"\",VLOOKUP($AF28,名簿女子!$A$2:$K$51,2))","v":""},{"$f":"IF($AF28=\"\",\"\",VLOOKUP($AF28,名簿女子!$A$2:$K$51,3))","v":""},{"$f":"IF($AF28=\"\",\"\",VLOOKUP($AF28,名簿女子!$A$2:$K$51,5))","v":""},null,{"$f":"IF($AF28=\"\",\"\",VLOOKUP($AF28,名簿女子!$A$2:$K$51,8))","v":""},{"$f":"IF($AF28=\"\",\"\",VLOOKUP($AF28,名簿女子!$A$2:$K$51,6))","v":""},null,null,null,null,{"$f":"IF($AF28=\"\",\"\",VLOOKUP($AF28,名簿女子!$A$2:$K$51,9))","v":""},{"$f":"IF($AF28=\"\",\"\",VLOOKUP($AF28,名簿女子!$A$2:$K$51,10))","v":""},null,null,{"$f":"IF($AG28=\"\",\"\",VLOOKUP($AG28,名簿女子!$A$2:$K$51,9))","v":""},{"$f":"IF($AG28=\"\",\"\",VLOOKUP($AG28,名簿女子!$A$2:$K$51,10))","v":""},null,null,{"$f":"IF($AH28=\"\",\"\",VLOOKUP($AH28,名簿女子!$A$2:$K$51,9))","v":""},{"$f":"IF($AH28=\"\",\"\",VLOOKUP($AH28,名簿女子!$A$2:$K$51,10))","v":""},null,null,null,null,null,null,null,null,null,null,null,null,null,null,{"$f":"名簿女子!A28","v":27},{"$f":"名簿女子!C28","v":0},{"$f":"名簿女子!I28","v":0}]
[{"$f":"IF($AF29=\"\",\"\",VLOOKUP($AF29,名簿女子!$A$2:$K$51,2))","v":""},{"$f":"IF($AF29=\"\",\"\",VLOOKUP($AF29,名簿女子!$A$2:$K$51,3))","v":""},{"$f":"IF($AF29=\"\",\"\",VLOOKUP($AF29,名簿女子!$A$2:$K$51,5))","v":""},null,{"$f":"IF($AF29=\"\",\"\",VLOOKUP($AF29,名簿女子!$A$2:$K$51,8))","v":""},{"$f":"IF($AF29=\"\",\"\",VLOOKUP($AF29,名簿女子!$A$2:$K$51,6))","v":""},null,null,null,null,{"$f":"IF($AF29=\"\",\"\",VLOOKUP($AF29,名簿女子!$A$2:$K$51,9))","v":""},{"$f":"IF($AF29=\"\",\"\",VLOOKUP($AF29,名簿女子!$A$2:$K$51,10))","v":""},null,null,{"$f":"IF($AG29=\"\",\"\",VLOOKUP($AG29,名簿女子!$A$2:$K$51,9))","v":""},{"$f":"IF($AG29=\"\",\"\",VLOOKUP($AG29,名簿女子!$A$2:$K$51,10))","v":""},null,null,{"$f":"IF($AH29=\"\",\"\",VLOOKUP($AH29,名簿女子!$A$2:$K$51,9))","v":""},{"$f":"IF($AH29=\"\",\"\",VLOOKUP($AH29,名簿女子!$A$2:$K$51,10))","v":""},null,null,null,null,null,null,null,null,null,null,null,null,null,null,{"$f":"名簿女子!A29","v":28},{"$f":"名簿女子!C29","v":0},{"$f":"名簿女子!I29","v":0}]
[{"$f":"IF($AF30=\"\",\"\",VLOOKUP($AF30,名簿女子!$A$2:$K$51,2))","v":""},{"$f":"IF($AF30=\"\",\"\",VLOOKUP($AF30,名簿女子!$A$2:$K$51,3))","v":""},{"$f":"IF($AF30=\"\",\"\",VLOOKUP($AF30,名簿女子!$A$2:$K$51,5))","v":""},null,{"$f":"IF($AF30=\"\",\"\",VLOOKUP($AF30,名簿女子!$A$2:$K$51,8))","v":""},{"$f":"IF($AF30=\"\",\"\",VLOOKUP($AF30,名簿女子!$A$2:$K$51,6))","v":""},null,null,null,null,{"$f":"IF($AF30=\"\",\"\",VLOOKUP($AF30,名簿女子!$A$2:$K$51,9))","v":""},{"$f":"IF($AF30=\"\",\"\",VLOOKUP($AF30,名簿女子!$A$2:$K$51,10))","v":""},null,null,{"$f":"IF($AG30=\"\",\"\",VLOOKUP($AG30,名簿女子!$A$2:$K$51,9))","v":""},{"$f":"IF($AG30=\"\",\"\",VLOOKUP($AG30,名簿女子!$A$2:$K$51,10))","v":""},null,null,{"$f":"IF($AH30=\"\",\"\",VLOOKUP($AH30,名簿女子!$A$2:$K$51,9))","v":""},{"$f":"IF($AH30=\"\",\"\",VLOOKUP($AH30,名簿女子!$A$2:$K$51,10))","v":""},null,null,null,null,null,null,null,null,null,null,null,null,null,null,{"$f":"名簿女子!A30","v":29},{"$f":"名簿女子!C30","v":0},{"$f":"名簿女子!I30","v":0}]
[{"$f":"IF($AF31=\"\",\"\",VLOOKUP($AF31,名簿女子!$A$2:$K$51,2))","v":""},{"$f":"IF($AF31=\"\",\"\",VLOOKUP($AF31,名簿女子!$A$2:$K$51,3))","v":""},{"$f":"IF($AF31=\"\",\"\",VLOOKUP($AF31,名簿女子!$A$2:$K$51,5))","v":""},null,{"$f":"IF($AF31=\"\",\"\",VLOOKUP($AF31,名簿女子!$A$2:$K$51,8))","v":""},{"$f":"IF($AF31=\"\",\"\",VLOOKUP($AF31,名簿女子!$A$2:$K$51,6))","v":""},null,null,null,null,{"$f":"IF($AF31=\"\",\"\",VLOOKUP($AF31,名簿女子!$A$2:$K$51,9))","v":""},{"$f":"IF($AF31=\"\",\"\",VLOOKUP($AF31,名簿女子!$A$2:$K$51,10))","v":""},null,null,{"$f":"IF($AG31=\"\",\"\",VLOOKUP($AG31,名簿女子!$A$2:$K$51,9))","v":""},{"$f":"IF($AG31=\"\",\"\",VLOOKUP($AG31,名簿女子!$A$2:$K$51,10))","v":""},null,null,{"$f":"IF($AH31=\"\",\"\",VLOOKUP($AH31,名簿女子!$A$2:$K$51,9))","v":""},{"$f":"IF($AH31=\"\",\"\",VLOOKUP($AH31,名簿女子!$A$2:$K$51,10))","v":""},null,null,null,null,null,null,null,null,null,null,null,null,null,null,{"$f":"名簿女子!A31","v":30},{"$f":"名簿女子!C31","v":0},{"$f":"名簿女子!I31","v":0}]
[{"$f":"IF($AF32=\"\",\"\",VLOOKUP($AF32,名簿女子!$A$2:$K$51,2))","v":""},{"$f":"IF($AF32=\"\",\"\",VLOOKUP($AF32,名簿女子!$A$2:$K$51,3))","v":""},{"$f":"IF($AF32=\"\",\"\",VLOOKUP($AF32,名簿女子!$A$2:$K$51,5))","v":""},null,{"$f":"IF($AF32=\"\",\"\",VLOOKUP($AF32,名簿女子!$A$2:$K$51,8))","v":""},{"$f":"IF($AF32=\"\",\"\",VLOOKUP($AF32,名簿女子!$A$2:$K$51,6))","v":""},null,null,null,null,{"$f":"IF($AF32=\"\",\"\",VLOOKUP($AF32,名簿女子!$A$2:$K$51,9))","v":""},{"$f":"IF($AF32=\"\",\"\",VLOOKUP($AF32,名簿女子!$A$2:$K$51,10))","v":""},null,null,{"$f":"IF($AG32=\"\",\"\",VLOOKUP($AG32,名簿女子!$A$2:$K$51,9))","v":""},{"$f":"IF($AG32=\"\",\"\",VLOOKUP($AG32,名簿女子!$A$2:$K$51,10))","v":""},null,null,{"$f":"IF($AH32=\"\",\"\",VLOOKUP($AH32,名簿女子!$A$2:$K$51,9))","v":""},{"$f":"IF($AH32=\"\",\"\",VLOOKUP($AH32,名簿女子!$A$2:$K$51,10))","v":""},null,null,null,null,null,null,null,null,null,null,null,null,null,null,{"$f":"名簿女子!A32","v":31},{"$f":"名簿女子!C32","v":0},{"$f":"名簿女子!I32","v":0}]
[{"$f":"IF($AF33=\"\",\"\",VLOOKUP($AF33,名簿女子!$A$2:$K$51,2))","v":""},{"$f":"IF($AF33=\"\",\"\",VLOOKUP($AF33,名簿女子!$A$2:$K$51,3))","v":""},{"$f":"IF($AF33=\"\",\"\",VLOOKUP($AF33,名簿女子!$A$2:$K$51,5))","v":""},null,{"$f":"IF($AF33=\"\",\"\",VLOOKUP($AF33,名簿女子!$A$2:$K$51,8))","v":""},{"$f":"IF($AF33=\"\",\"\",VLOOKUP($AF33,名簿女子!$A$2:$K$51,6))","v":""},null,null,null,null,{"$f":"IF($AF33=\"\",\"\",VLOOKUP($AF33,名簿女子!$A$2:$K$51,9))","v":""},{"$f":"IF($AF33=\"\",\"\",VLOOKUP($AF33,名簿女子!$A$2:$K$51,10))","v":""},null,null,{"$f":"IF($AG33=\"\",\"\",VLOOKUP($AG33,名簿女子!$A$2:$K$51,9))","v":""},{"$f":"IF($AG33=\"\",\"\",VLOOKUP($AG33,名簿女子!$A$2:$K$51,10))","v":""},null,null,{"$f":"IF($AH33=\"\",\"\",VLOOKUP($AH33,名簿女子!$A$2:$K$51,9))","v":""},{"$f":"IF($AH33=\"\",\"\",VLOOKUP($AH33,名簿女子!$A$2:$K$51,10))","v":""},null,null,null,null,null,null,null,null,null,null,null,null,null,null,{"$f":"名簿女子!A33","v":32},{"$f":"名簿女子!C33","v":0},{"$f":"名簿女子!I33","v":0}]
[{"$f":"IF($AF34=\"\",\"\",VLOOKUP($AF34,名簿女子!$A$2:$K$51,2))","v":""},{"$f":"IF($AF34=\"\",\"\",VLOOKUP($AF34,名簿女子!$A$2:$K$51,3))","v":""},{"$f":"IF($AF34=\"\",\"\",VLOOKUP($AF34,名簿女子!$A$2:$K$51,5))","v":""},null,{"$f":"IF($AF34=\"\",\"\",VLOOKUP($AF34,名簿女子!$A$2:$K$51,8))","v":""},{"$f":"IF($AF34=\"\",\"\",VLOOKUP($AF34,名簿女子!$A$2:$K$51,6))","v":""},null,null,null,null,{"$f":"IF($AF34=\"\",\"\",VLOOKUP($AF34,名簿女子!$A$2:$K$51,9))","v":""},{"$f":"IF($AF34=\"\",\"\",VLOOKUP($AF34,名簿女子!$A$2:$K$51,10))","v":""},null,null,{"$f":"IF($AG34=\"\",\"\",VLOOKUP($AG34,名簿女子!$A$2:$K$51,9))","v":""},{"$f":"IF($AG34=\"\",\"\",VLOOKUP($AG34,名簿女子!$A$2:$K$51,10))","v":""},null,null,{"$f":"IF($AH34=\"\",\"\",VLOOKUP($AH34,名簿女子!$A$2:$K$51,9))","v":""},{"$f":"IF($AH34=\"\",\"\",VLOOKUP($AH34,名簿女子!$A$2:$K$51,10))","v":""},null,null,null,null,null,null,null,null,null,null,null,null,null,null,{"$f":"名簿女子!A34","v":33},{"$f":"名簿女子!C34","v":0},{"$f":"名簿女子!I34","v":0}]
[{"$f":"IF($AF35=\"\",\"\",VLOOKUP($AF35,名簿女子!$A$2:$K$51,2))","v":""},{"$f":"IF($AF35=\"\",\"\",VLOOKUP($AF35,名簿女子!$A$2:$K$51,3))","v":""},{"$f":"IF($AF35=\"\",\"\",VLOOKUP($AF35,名簿女子!$A$2:$K$51,5))","v":""},null,{"$f":"IF($AF35=\"\",\"\",VLOOKUP($AF35,名簿女子!$A$2:$K$51,8))","v":""},{"$f":"IF($AF35=\"\",\"\",VLOOKUP($AF35,名簿女子!$A$2:$K$51,6))","v":""},null,null,null,null,{"$f":"IF($AF35=\"\",\"\",VLOOKUP($AF35,名簿女子!$A$2:$K$51,9))","v":""},{"$f":"IF($AF35=\"\",\"\",VLOOKUP($AF35,名簿女子!$A$2:$K$51,10))","v":""},null,null,{"$f":"IF($AG35=\"\",\"\",VLOOKUP($AG35,名簿女子!$A$2:$K$51,9))","v":""},{"$f":"IF($AG35=\"\",\"\",VLOOKUP($AG35,名簿女子!$A$2:$K$51,10))","v":""},null,null,{"$f":"IF($AH35=\"\",\"\",VLOOKUP($AH35,名簿女子!$A$2:$K$51,9))","v":""},{"$f":"IF($AH35=\"\",\"\",VLOOKUP($AH35,名簿女子!$A$2:$K$51,10))","v":""},null,null,null,null,null,null,null,null,null,null,null,null,null,null,{"$f":"名簿女子!A35","v":34},{"$f":"名簿女子!C35","v":0},{"$f":"名簿女子!I35","v":0}]
[{"$f":"IF($AF36=\"\",\"\",VLOOKUP($AF36,名簿女子!$A$2:$K$51,2))","v":""},{"$f":"IF($AF36=\"\",\"\",VLOOKUP($AF36,名簿女子!$A$2:$K$51,3))","v":""},{"$f":"IF($AF36=\"\",\"\",VLOOKUP($AF36,名簿女子!$A$2:$K$51,5))","v":""},null,{"$f":"IF($AF36=\"\",\"\",VLOOKUP($AF36,名簿女子!$A$2:$K$51,8))","v":""},{"$f":"IF($AF36=\"\",\"\",VLOOKUP($AF36,名簿女子!$A$2:$K$51,6))","v":""},null,null,null,null,{"$f":"IF($AF36=\"\",\"\",VLOOKUP($AF36,名簿女子!$A$2:$K$51,9))","v":""},{"$f":"IF($AF36=\"\",\"\",VLOOKUP($AF36,名簿女子!$A$2:$K$51,10))","v":""},null,null,{"$f":"IF($AG36=\"\",\"\",VLOOKUP($AG36,名簿女子!$A$2:$K$51,9))","v":""},{"$f":"IF($AG36=\"\",\"\",VLOOKUP($AG36,名簿女子!$A$2:$K$51,10))","v":""},null,null,{"$f":"IF($AH36=\"\",\"\",VLOOKUP($AH36,名簿女子!$A$2:$K$51,9))","v":""},{"$f":"IF($AH36=\"\",\"\",VLOOKUP($AH36,名簿女子!$A$2:$K$51,10))","v":""},null,null,null,null,null,null,null,null,null,null,null,null,null,null,{"$f":"名簿女子!A36","v":35},{"$f":"名簿女子!C36","v":0},{"$f":"名簿女子!I36","v":0}]
[{"$f":"IF($AF37=\"\",\"\",VLOOKUP($AF37,名簿女子!$A$2:$K$51,2))","v":""},{"$f":"IF($AF37=\"\",\"\",VLOOKUP($AF37,名簿女子!$A$2:$K$51,3))","v":""},{"$f":"IF($AF37=\"\",\"\",VLOOKUP($AF37,名簿女子!$A$2:$K$51,5))","v":""},null,{"$f":"IF($AF37=\"\",\"\",VLOOKUP($AF37,名簿女子!$A$2:$K$51,8))","v":""},{"$f":"IF($AF37=\"\",\"\",VLOOKUP($AF37,名簿女子!$A$2:$K$51,6))","v":""},null,null,null,null,{"$f":"IF($AF37=\"\",\"\",VLOOKUP($AF37,名簿女子!$A$2:$K$51,9))","v":""},{"$f":"IF($AF37=\"\",\"\",VLOOKUP($AF37,名簿女子!$A$2:$K$51,10))","v":""},null,null,{"$f":"IF($AG37=\"\",\"\",VLOOKUP($AG37,名簿女子!$A$2:$K$51,9))","v":""},{"$f":"IF($AG37=\"\",\"\",VLOOKUP($AG37,名簿女子!$A$2:$K$51,10))","v":""},null,null,{"$f":"IF($AH37=\"\",\"\",VLOOKUP($AH37,名簿女子!$A$2:$K$51,9))","v":""},{"$f":"IF($AH37=\"\",\"\",VLOOKUP($AH37,名簿女子!$A$2:$K$51,10))","v":""},null,null,null,null,null,null,null,null,null,null,null,null,null,null,{"$f":"名簿女子!A37","v":36},{"$f":"名簿女子!C37","v":0},{"$f":"名簿女子!I37","v":0}]
[{"$f":"IF($AF38=\"\",\"\",VLOOKUP($AF38,名簿女子!$A$2:$K$51,2))","v":""},{"$f":"IF($AF38=\"\",\"\",VLOOKUP($AF38,名簿女子!$A$2:$K$51,3))","v":""},{"$f":"IF($AF38=\"\",\"\",VLOOKUP($AF38,名簿女子!$A$2:$K$51,5))","v":""},null,{"$f":"IF($AF38=\"\",\"\",VLOOKUP($AF38,名簿女子!$A$2:$K$51,8))","v":""},{"$f":"IF($AF38=\"\",\"\",VLOOKUP($AF38,名簿女子!$A$2:$K$51,6))","v":""},null,null,null,null,{"$f":"IF($AF38=\"\",\"\",VLOOKUP($AF38,名簿女子!$A$2:$K$51,9))","v":""},{"$f":"IF($AF38=\"\",\"\",VLOOKUP($AF38,名簿女子!$A$2:$K$51,10))","v":""},null,null,{"$f":"IF($AG38=\"\",\"\",VLOOKUP($AG38,名簿女子!$A$2:$K$51,9))","v":""},{"$f":"IF($AG38=\"\",\"\",VLOOKUP($AG38,名簿女子!$A$2:$K$51,10))","v":""},null,null,{"$f":"IF($AH38=\"\",\"\",VLOOKUP($AH38,名簿女子!$A$2:$K$51,9))","v":""},{"$f":"IF($AH38=\"\",\"\",VLOOKUP($AH38,名簿女子!$A$2:$K$51,10))","v":""},null,null,null,null,null,null,null,null,null,null,null,null,null,null,{"$f":"名簿女子!A38","v":37},{"$f":"名簿女子!C38","v":0},{"$f":"名簿女子!I38","v":0}]
[{"$f":"IF($AF39=\"\",\"\",VLOOKUP($AF39,名簿女子!$A$2:$K$51,2))","v":""},{"$f":"IF($AF39=\"\",\"\",VLOOKUP($AF39,名簿女子!$A$2:$K$51,3))","v":""},{"$f":"IF($AF39=\"\",\"\",VLOOKUP($AF39,名簿女子!$A$2:$K$51,5))","v":""},null,{"$f":"IF($AF39=\"\",\"\",VLOOKUP($AF39,名簿女子!$A$2:$K$51,8))","v":""},{"$f":"IF($AF39=\"\",\"\",VLOOKUP($AF39,名簿女子!$A$2:$K$51,6))","v":""},null,null,null,null,{"$f":"IF($AF39=\"\",\"\",VLOOKUP($AF39,名簿女子!$A$2:$K$51,9))","v":""},{"$f":"IF($AF39=\"\",\"\",VLOOKUP($AF39,名簿女子!$A$2:$K$51,10))","v":""},null,null,{"$f":"IF($AG39=\"\",\"\",VLOOKUP($AG39,名簿女子!$A$2:$K$51,9))","v":""},{"$f":"IF($AG39=\"\",\"\",VLOOKUP($AG39,名簿女子!$A$2:$K$51,10))","v":""},null,null,{"$f":"IF($AH39=\"\",\"\",VLOOKUP($AH39,名簿女子!$A$2:$K$51,9))","v":""},{"$f":"IF($AH39=\"\",\"\",VLOOKUP($AH39,名簿女子!$A$2:$K$51,10))","v":""},null,null,null,null,null,null,null,null,null,null,null,null,null,null,{"$f":"名簿女子!A39","v":38},{"$f":"名簿女子!C39","v":0},{"$f":"名簿女子!I39","v":0}]
[{"$f":"IF($AF40=\"\",\"\",VLOOKUP($AF40,名簿女子!$A$2:$K$51,2))","v":""},{"$f":"IF($AF40=\"\",\"\",VLOOKUP($AF40,名簿女子!$A$2:$K$51,3))","v":""},{"$f":"IF($AF40=\"\",\"\",VLOOKUP($AF40,名簿女子!$A$2:$K$51,5))","v":""},null,{"$f":"IF($AF40=\"\",\"\",VLOOKUP($AF40,名簿女子!$A$2:$K$51,8))","v":""},{"$f":"IF($AF40=\"\",\"\",VLOOKUP($AF40,名簿女子!$A$2:$K$51,6))","v":""},null,null,null,null,{"$f":"IF($AF40=\"\",\"\",VLOOKUP($AF40,名簿女子!$A$2:$K$51,9))","v":""},{"$f":"IF($AF40=\"\",\"\",VLOOKUP($AF40,名簿女子!$A$2:$K$51,10))","v":""},null,null,{"$f":"IF($AG40=\"\",\"\",VLOOKUP($AG40,名簿女子!$A$2:$K$51,9))","v":""},{"$f":"IF($AG40=\"\",\"\",VLOOKUP($AG40,名簿女子!$A$2:$K$51,10))","v":""},null,null,{"$f":"IF($AH40=\"\",\"\",VLOOKUP($AH40,名簿女子!$A$2:$K$51,9))","v":""},{"$f":"IF($AH40=\"\",\"\",VLOOKUP($AH40,名簿女子!$A$2:$K$51,10))","v":""},null,null,null,null,null,null,null,null,null,null,null,null,null,null,{"$f":"名簿女子!A40","v":39},{"$f":"名簿女子!C40","v":0},{"$f":"名簿女子!I40","v":0}]
[{"$f":"IF($AF41=\"\",\"\",VLOOKUP($AF41,名簿女子!$A$2:$K$51,2))","v":""},{"$f":"IF($AF41=\"\",\"\",VLOOKUP($AF41,名簿女子!$A$2:$K$51,3))","v":""},{"$f":"IF($AF41=\"\",\"\",VLOOKUP($AF41,名簿女子!$A$2:$K$51,5))","v":""},null,{"$f":"IF($AF41=\"\",\"\",VLOOKUP($AF41,名簿女子!$A$2:$K$51,8))","v":""},{"$f":"IF($AF41=\"\",\"\",VLOOKUP($AF41,名簿女子!$A$2:$K$51,6))","v":""},null,null,null,null,{"$f":"IF($AF41=\"\",\"\",VLOOKUP($AF41,名簿女子!$A$2:$K$51,9))","v":""},{"$f":"IF($AF41=\"\",\"\",VLOOKUP($AF41,名簿女子!$A$2:$K$51,10))","v":""},null,null,{"$f":"IF($AG41=\"\",\"\",VLOOKUP($AG41,名簿女子!$A$2:$K$51,9))","v":""},{"$f":"IF($AG41=\"\",\"\",VLOOKUP($AG41,名簿女子!$A$2:$K$51,10))","v":""},null,null,{"$f":"IF($AH41=\"\",\"\",VLOOKUP($AH41,名簿女子!$A$2:$K$51,9))","v":""},{"$f":"IF($AH41=\"\",\"\",VLOOKUP($AH41,名簿女子!$A$2:$K$51,10))","v":""},null,null,null,null,null,null,null,null,null,null,null,null,null,null,{"$f":"名簿女子!A41","v":40},{"$f":"名簿女子!C41","v":0},{"$f":"名簿女子!I41","v":0}]
[{"$f":"IF($AF42=\"\",\"\",VLOOKUP($AF42,名簿女子!$A$2:$K$51,2))","v":""},{"$f":"IF($AF42=\"\",\"\",VLOOKUP($AF42,名簿女子!$A$2:$K$51,3))","v":""},{"$f":"IF($AF42=\"\",\"\",VLOOKUP($AF42,名簿女子!$A$2:$K$51,5))","v":""},null,{"$f":"IF($AF42=\"\",\"\",VLOOKUP($AF42,名簿女子!$A$2:$K$51,8))","v":""},{"$f":"IF($AF42=\"\",\"\",VLOOKUP($AF42,名簿女子!$A$2:$K$51,6))","v":""},null,null,null,null,{"$f":"IF($AF42=\"\",\"\",VLOOKUP($AF42,名簿女子!$A$2:$K$51,9))","v":""},{"$f":"IF($AF42=\"\",\"\",VLOOKUP($AF42,名簿女子!$A$2:$K$51,10))","v":""},null,null,{"$f":"IF($AG42=\"\",\"\",VLOOKUP($AG42,名簿女子!$A$2:$K$51,9))","v":""},{"$f":"IF($AG42=\"\",\"\",VLOOKUP($AG42,名簿女子!$A$2:$K$51,10))","v":""},null,null,{"$f":"IF($AH42=\"\",\"\",VLOOKUP($AH42,名簿女子!$A$2:$K$51,9))","v":""},{"$f":"IF($AH42=\"\",\"\",VLOOKUP($AH42,名簿女子!$A$2:$K$51,10))","v":""},null,null,null,null,null,null,null,null,null,null,null,null,null,null,{"$f":"名簿女子!A42","v":41},{"$f":"名簿女子!C42","v":0},{"$f":"名簿女子!I42","v":0}]
[{"$f":"IF($AF43=\"\",\"\",VLOOKUP($AF43,名簿女子!$A$2:$K$51,2))","v":""},{"$f":"IF($AF43=\"\",\"\",VLOOKUP($AF43,名簿女子!$A$2:$K$51,3))","v":""},{"$f":"IF($AF43=\"\",\"\",VLOOKUP($AF43,名簿女子!$A$2:$K$51,5))","v":""},null,{"$f":"IF($AF43=\"\",\"\",VLOOKUP($AF43,名簿女子!$A$2:$K$51,8))","v":""},{"$f":"IF($AF43=\"\",\"\",VLOOKUP($AF43,名簿女子!$A$2:$K$51,6))","v":""},null,null,null,null,{"$f":"IF($AF43=\"\",\"\",VLOOKUP($AF43,名簿女子!$A$2:$K$51,9))","v":""},{"$f":"IF($AF43=\"\",\"\",VLOOKUP($AF43,名簿女子!$A$2:$K$51,10))","v":""},null,null,{"$f":"IF($AG43=\"\",\"\",VLOOKUP($AG43,名簿女子!$A$2:$K$51,9))","v":""},{"$f":"IF($AG43=\"\",\"\",VLOOKUP($AG43,名簿女子!$A$2:$K$51,10))","v":""},null,null,{"$f":"IF($AH43=\"\",\"\",VLOOKUP($AH43,名簿女子!$A$2:$K$51,9))","v":""},{"$f":"IF($AH43=\"\",\"\",VLOOKUP($AH43,名簿女子!$A$2:$K$51,10))","v":""},null,null,null,null,null,null,null,null,null,null,null,null,null,null,{"$f":"名簿女子!A43","v":42},{"$f":"名簿女子!C43","v":0},{"$f":"名簿女子!I43","v":0}]
[{"$f":"IF($AF44=\"\",\"\",VLOOKUP($AF44,名簿女子!$A$2:$K$51,2))","v":""},{"$f":"IF($AF44=\"\",\"\",VLOOKUP($AF44,名簿女子!$A$2:$K$51,3))","v":""},{"$f":"IF($AF44=\"\",\"\",VLOOKUP($AF44,名簿女子!$A$2:$K$51,5))","v":""},null,{"$f":"IF($AF44=\"\",\"\",VLOOKUP($AF44,名簿女子!$A$2:$K$51,8))","v":""},{"$f":"IF($AF44=\"\",\"\",VLOOKUP($AF44,名簿女子!$A$2:$K$51,6))","v":""},null,null,null,null,{"$f":"IF($AF44=\"\",\"\",VLOOKUP($AF44,名簿女子!$A$2:$K$51,9))","v":""},{"$f":"IF($AF44=\"\",\"\",VLOOKUP($AF44,名簿女子!$A$2:$K$51,10))","v":""},null,null,{"$f":"IF($AG44=\"\",\"\",VLOOKUP($AG44,名簿女子!$A$2:$K$51,9))","v":""},{"$f":"IF($AG44=\"\",\"\",VLOOKUP($AG44,名簿女子!$A$2:$K$51,10))","v":""},null,null,{"$f":"IF($AH44=\"\",\"\",VLOOKUP($AH44,名簿女子!$A$2:$K$51,9))","v":""},{"$f":"IF($AH44=\"\",\"\",VLOOKUP($AH44,名簿女子!$A$2:$K$51,10))","v":""},null,null,null,null,null,null,null,null,null,null,null,null,null,null,{"$f":"名簿女子!A44","v":43},{"$f":"名簿女子!C44","v":0},{"$f":"名簿女子!I44","v":0}]
[null,null,null,null,null,null,null,null,null,null,null,null,null,null,null,null,null,null,null,null,null,null,null,null,null,null,null,null,null,null,null,null,null,null,{"$f":"名簿女子!A45","v":44},{"$f":"名簿女子!C45","v":0},{"$f":"名簿女子!I45","v":0}]
[null,null,null,null,null,null,null,null,null,null,null,null,null,null,null,null,null,null,null,null,null,null,null,null,null,null,null,null,null,null,null,null,null,null,{"$f":"名簿女子!A46","v":45},{"$f":"名簿女子!C46","v":0},{"$f":"名簿女子!I46","v":0}]
[null,null,null,null,null,null,null,null,null,null,null,null,null,null,null,null,null,null,null,null,null,null,null,null,null,null,null,null,null,null,null,null,null,null,{"$f":"名簿女子!A47","v":46},{"$f":"名簿女子!C47","v":0},{"$f":"名簿女子!I47","v":0}]
[null,null,null,null,null,null,null,null,null,null,null,null,null,null,null,null,null,null,null,null,null,null,null,null,null,null,null,null,null,null,null,null,null,null,{"$f":"名簿女子!A48","v":47},{"$f":"名簿女子!C48","v":0},{"$f":"名簿女子!I48","v":0}]
[null,null,null,null,null,null,null,null,null,null,null,null,null,null,null,null,null,null,null,null,null,null,null,null,null,null,null,null,null,null,null,null,null,null,{"$f":"名簿女子!A49","v":48},{"$f":"名簿女子!C49","v":0},{"$f":"名簿女子!I49","v":0}]
[null,null,null,null,null,null,null,null,null,null,null,null,null,null,null,null,null,null,null,null,null,null,null,null,null,null,null,null,null,null,null,null,null,null,{"$f":"名簿女子!A50","v":49},{"$f":"名簿女子!C50","v":0},{"$f":"名簿女子!I50","v":0}]
[null,null,null,null,null,null,null,null,null,null,null,null,null,null,null,null,null,null,null,null,null,null,null,null,null,null,null,null,null,null,null,null,null,null,{"$f":"名簿女子!A51","v":50},{"$f":"名簿女子!C51","v":0},{"$f":"名簿女子!I51","v":0}]